BEGIN:VCALENDAR
VERSION:2.0
PRODID:-//destination.one//NONSGML destination.meta API//DE
X-WR-CALDESC:A calendar powered by destination.meta
X-WR-CALNAME:teutonavigator Kalender via destination.meta
BEGIN:VEVENT
CATEGORIES:Konzert divers
CATEGORIES:Familie und Kinder
DESCRIPTION:Singen Sie mit!\n\nmehr Informationen unter http://pages.destin
 ation.one/de/teutonavigator/streaming/detail/Event/e_101221916/minden-sing
 t-mitsingfest2026
DTEND;TZID=Europe/Berlin:20260701T235900
DTSTAMP:20260421T181135Z
DTSTART;TZID=Europe/Berlin:20260701T103000
GEO:52.289004;8.918163
LOCATION:Stadt Minden - Stadtplanung und Umwelt\, Kleiner Domhof 17\, Minde
 n
ORGANIZER;CN=Stadt Minden - Stadtplanung und Umwelt:mailto:info@minden.de
PRIORITY:4
RRULE:FREQ=WEEKLY;UNTIL=20260701T220000;BYDAY=WE
SEQUENCE:0
SUMMARY:Minden singt! MitSingFest2026
UID:e_101221916_iv0
URL:http://pages.destination.one/de/teutonavigator/streaming/detail/Event/e
 _101221916/minden-singt-mitsingfest2026
END:VEVENT
BEGIN:VTIMEZONE
TZID:Europe/Berlin
X-LIC-LOCATION:Europe/Berlin
BEGIN:DAYLIGHT
DTSTART:19700329T020000
RRULE:FREQ=YEARLY;BYDAY=-1SU;BYMONTH=3
TZNAME:CEST
TZOFFSETFROM:+0100
TZOFFSETTO:+0200
END:DAYLIGHT
BEGIN:STANDARD
DTSTART:19701025T030000
RRULE:FREQ=YEARLY;BYDAY=-1SU;BYMONTH=10
TZNAME:CET
TZOFFSETFROM:+0200
TZOFFSETTO:+0100
END:STANDARD
END:VTIMEZONE
END:VCALENDAR
