BEGIN:VCALENDAR
VERSION:2.0
PRODID:-//destination.one//NONSGML destination.meta API//DE
X-WR-CALDESC:A calendar powered by destination.meta
X-WR-CALNAME:teutonavigator Kalender via destination.meta
BEGIN:VEVENT
CATEGORIES:Bühne divers
CATEGORIES:Brauchtum/Kultur
CATEGORIES:Flohmarkt
DESCRIPTION:\n\nmehr Informationen unter http://pages.destination.one/de/te
 utonavigator/streaming/detail/Event/e_101209423/theaterlabor-flohmarkt-am-
 tor6
DTEND;TZID=Europe/Berlin:20260503T150000
DTSTAMP:20260425T134947Z
DTSTART;TZID=Europe/Berlin:20260503T110000
GEO:52.018800;8.541000
LOCATION:Tor 6 Theaterhaus Bielefeld\, Hermann-Kleinewächter-Str. 4\, Biele
 feld
SEQUENCE:0
SUMMARY:Theaterlabor // Flohmarkt am TOR6
UID:e_101209423_iv0
URL:http://pages.destination.one/de/teutonavigator/streaming/detail/Event/e
 _101209423/theaterlabor-flohmarkt-am-tor6
END:VEVENT
BEGIN:VTIMEZONE
TZID:Europe/Berlin
X-LIC-LOCATION:Europe/Berlin
BEGIN:DAYLIGHT
DTSTART:19700329T020000
RRULE:FREQ=YEARLY;BYDAY=-1SU;BYMONTH=3
TZNAME:CEST
TZOFFSETFROM:+0100
TZOFFSETTO:+0200
END:DAYLIGHT
BEGIN:STANDARD
DTSTART:19701025T030000
RRULE:FREQ=YEARLY;BYDAY=-1SU;BYMONTH=10
TZNAME:CET
TZOFFSETFROM:+0200
TZOFFSETTO:+0100
END:STANDARD
END:VTIMEZONE
END:VCALENDAR
