BEGIN:VCALENDAR
VERSION:2.0
PRODID:-//destination.one//NONSGML destination.meta API//DE
X-WR-CALDESC:A calendar powered by destination.meta
X-WR-CALNAME:teutonavigator Kalender via destination.meta
BEGIN:VEVENT
CATEGORIES:Sport/Freizeit
CATEGORIES:Vortrag/Lesung
CATEGORIES:Ausstellung
DESCRIPTION:\n\nmehr Informationen unter http://pages.destination.one/de/te
 utonavigator/streaming/detail/Event/e_101198107/wanderausstellung-gl-nzend
 e-aussichten
DTEND;TZID=Europe/Berlin:20260328T130000
DTSTAMP:20260420T110219Z
DTSTART;TZID=Europe/Berlin:20260328T100000
GEO:51.951300;8.478470
LOCATION:Hof Ramsbrock\, Ramsweg 2\, Bielefeld
SEQUENCE:0
SUMMARY:Wanderausstellung "Glänzende Aussichten"
UID:e_101198107_iv0
URL:http://pages.destination.one/de/teutonavigator/streaming/detail/Event/e
 _101198107/wanderausstellung-gl-nzende-aussichten
END:VEVENT
BEGIN:VEVENT
CATEGORIES:Sport/Freizeit
CATEGORIES:Vortrag/Lesung
CATEGORIES:Ausstellung
DESCRIPTION:\n\nmehr Informationen unter http://pages.destination.one/de/te
 utonavigator/streaming/detail/Event/e_101198107/wanderausstellung-gl-nzend
 e-aussichten
DTEND;TZID=Europe/Berlin:20260328T180000
DTSTAMP:20260420T110219Z
DTSTART;TZID=Europe/Berlin:20260328T150000
GEO:51.951300;8.478470
LOCATION:Hof Ramsbrock\, Ramsweg 2\, Bielefeld
SEQUENCE:0
SUMMARY:Wanderausstellung "Glänzende Aussichten"
UID:e_101198107_iv1
URL:http://pages.destination.one/de/teutonavigator/streaming/detail/Event/e
 _101198107/wanderausstellung-gl-nzende-aussichten
END:VEVENT
BEGIN:VEVENT
CATEGORIES:Sport/Freizeit
CATEGORIES:Vortrag/Lesung
CATEGORIES:Ausstellung
DESCRIPTION:\n\nmehr Informationen unter http://pages.destination.one/de/te
 utonavigator/streaming/detail/Event/e_101198107/wanderausstellung-gl-nzend
 e-aussichten
DTEND;TZID=Europe/Berlin:20260329T180000
DTSTAMP:20260420T110219Z
DTSTART;TZID=Europe/Berlin:20260329T150000
GEO:51.951300;8.478470
LOCATION:Hof Ramsbrock\, Ramsweg 2\, Bielefeld
SEQUENCE:0
SUMMARY:Wanderausstellung "Glänzende Aussichten"
UID:e_101198107_iv2
URL:http://pages.destination.one/de/teutonavigator/streaming/detail/Event/e
 _101198107/wanderausstellung-gl-nzende-aussichten
END:VEVENT
BEGIN:VEVENT
CATEGORIES:Sport/Freizeit
CATEGORIES:Vortrag/Lesung
CATEGORIES:Ausstellung
DESCRIPTION:\n\nmehr Informationen unter http://pages.destination.one/de/te
 utonavigator/streaming/detail/Event/e_101198107/wanderausstellung-gl-nzend
 e-aussichten
DTEND;TZID=Europe/Berlin:20260331T130000
DTSTAMP:20260420T110219Z
DTSTART;TZID=Europe/Berlin:20260331T100000
GEO:51.951300;8.478470
LOCATION:Hof Ramsbrock\, Ramsweg 2\, Bielefeld
SEQUENCE:0
SUMMARY:Wanderausstellung "Glänzende Aussichten"
UID:e_101198107_iv3
URL:http://pages.destination.one/de/teutonavigator/streaming/detail/Event/e
 _101198107/wanderausstellung-gl-nzende-aussichten
END:VEVENT
BEGIN:VEVENT
CATEGORIES:Sport/Freizeit
CATEGORIES:Vortrag/Lesung
CATEGORIES:Ausstellung
DESCRIPTION:\n\nmehr Informationen unter http://pages.destination.one/de/te
 utonavigator/streaming/detail/Event/e_101198107/wanderausstellung-gl-nzend
 e-aussichten
DTEND;TZID=Europe/Berlin:20260402T130000
DTSTAMP:20260420T110219Z
DTSTART;TZID=Europe/Berlin:20260402T100000
GEO:51.951300;8.478470
LOCATION:Hof Ramsbrock\, Ramsweg 2\, Bielefeld
SEQUENCE:0
SUMMARY:Wanderausstellung "Glänzende Aussichten"
UID:e_101198107_iv4
URL:http://pages.destination.one/de/teutonavigator/streaming/detail/Event/e
 _101198107/wanderausstellung-gl-nzende-aussichten
END:VEVENT
BEGIN:VEVENT
CATEGORIES:Sport/Freizeit
CATEGORIES:Vortrag/Lesung
CATEGORIES:Ausstellung
DESCRIPTION:\n\nmehr Informationen unter http://pages.destination.one/de/te
 utonavigator/streaming/detail/Event/e_101198107/wanderausstellung-gl-nzend
 e-aussichten
DTEND;TZID=Europe/Berlin:20260404T180000
DTSTAMP:20260420T110219Z
DTSTART;TZID=Europe/Berlin:20260404T150000
GEO:51.951300;8.478470
LOCATION:Hof Ramsbrock\, Ramsweg 2\, Bielefeld
SEQUENCE:0
SUMMARY:Wanderausstellung "Glänzende Aussichten"
UID:e_101198107_iv5
URL:http://pages.destination.one/de/teutonavigator/streaming/detail/Event/e
 _101198107/wanderausstellung-gl-nzende-aussichten
END:VEVENT
BEGIN:VEVENT
CATEGORIES:Sport/Freizeit
CATEGORIES:Vortrag/Lesung
CATEGORIES:Ausstellung
DESCRIPTION:\n\nmehr Informationen unter http://pages.destination.one/de/te
 utonavigator/streaming/detail/Event/e_101198107/wanderausstellung-gl-nzend
 e-aussichten
DTEND;TZID=Europe/Berlin:20260405T180000
DTSTAMP:20260420T110219Z
DTSTART;TZID=Europe/Berlin:20260405T150000
GEO:51.951300;8.478470
LOCATION:Hof Ramsbrock\, Ramsweg 2\, Bielefeld
SEQUENCE:0
SUMMARY:Wanderausstellung "Glänzende Aussichten"
UID:e_101198107_iv6
URL:http://pages.destination.one/de/teutonavigator/streaming/detail/Event/e
 _101198107/wanderausstellung-gl-nzende-aussichten
END:VEVENT
BEGIN:VEVENT
CATEGORIES:Sport/Freizeit
CATEGORIES:Vortrag/Lesung
CATEGORIES:Ausstellung
DESCRIPTION:\n\nmehr Informationen unter http://pages.destination.one/de/te
 utonavigator/streaming/detail/Event/e_101198107/wanderausstellung-gl-nzend
 e-aussichten
DTEND;TZID=Europe/Berlin:20260407T130000
DTSTAMP:20260420T110219Z
DTSTART;TZID=Europe/Berlin:20260407T100000
GEO:51.951300;8.478470
LOCATION:Hof Ramsbrock\, Ramsweg 2\, Bielefeld
SEQUENCE:0
SUMMARY:Wanderausstellung "Glänzende Aussichten"
UID:e_101198107_iv7
URL:http://pages.destination.one/de/teutonavigator/streaming/detail/Event/e
 _101198107/wanderausstellung-gl-nzende-aussichten
END:VEVENT
BEGIN:VEVENT
CATEGORIES:Sport/Freizeit
CATEGORIES:Vortrag/Lesung
CATEGORIES:Ausstellung
DESCRIPTION:\n\nmehr Informationen unter http://pages.destination.one/de/te
 utonavigator/streaming/detail/Event/e_101198107/wanderausstellung-gl-nzend
 e-aussichten
DTEND;TZID=Europe/Berlin:20260409T130000
DTSTAMP:20260420T110219Z
DTSTART;TZID=Europe/Berlin:20260409T100000
GEO:51.951300;8.478470
LOCATION:Hof Ramsbrock\, Ramsweg 2\, Bielefeld
SEQUENCE:0
SUMMARY:Wanderausstellung "Glänzende Aussichten"
UID:e_101198107_iv8
URL:http://pages.destination.one/de/teutonavigator/streaming/detail/Event/e
 _101198107/wanderausstellung-gl-nzende-aussichten
END:VEVENT
BEGIN:VEVENT
CATEGORIES:Sport/Freizeit
CATEGORIES:Vortrag/Lesung
CATEGORIES:Ausstellung
DESCRIPTION:\n\nmehr Informationen unter http://pages.destination.one/de/te
 utonavigator/streaming/detail/Event/e_101198107/wanderausstellung-gl-nzend
 e-aussichten
DTEND;TZID=Europe/Berlin:20260411T180000
DTSTAMP:20260420T110219Z
DTSTART;TZID=Europe/Berlin:20260411T150000
GEO:51.951300;8.478470
LOCATION:Hof Ramsbrock\, Ramsweg 2\, Bielefeld
SEQUENCE:0
SUMMARY:Wanderausstellung "Glänzende Aussichten"
UID:e_101198107_iv9
URL:http://pages.destination.one/de/teutonavigator/streaming/detail/Event/e
 _101198107/wanderausstellung-gl-nzende-aussichten
END:VEVENT
BEGIN:VEVENT
CATEGORIES:Sport/Freizeit
CATEGORIES:Vortrag/Lesung
CATEGORIES:Ausstellung
DESCRIPTION:\n\nmehr Informationen unter http://pages.destination.one/de/te
 utonavigator/streaming/detail/Event/e_101198107/wanderausstellung-gl-nzend
 e-aussichten
DTEND;TZID=Europe/Berlin:20260412T180000
DTSTAMP:20260420T110219Z
DTSTART;TZID=Europe/Berlin:20260412T150000
GEO:51.951300;8.478470
LOCATION:Hof Ramsbrock\, Ramsweg 2\, Bielefeld
SEQUENCE:0
SUMMARY:Wanderausstellung "Glänzende Aussichten"
UID:e_101198107_iv10
URL:http://pages.destination.one/de/teutonavigator/streaming/detail/Event/e
 _101198107/wanderausstellung-gl-nzende-aussichten
END:VEVENT
BEGIN:VEVENT
CATEGORIES:Sport/Freizeit
CATEGORIES:Vortrag/Lesung
CATEGORIES:Ausstellung
DESCRIPTION:\n\nmehr Informationen unter http://pages.destination.one/de/te
 utonavigator/streaming/detail/Event/e_101198107/wanderausstellung-gl-nzend
 e-aussichten
DTEND;TZID=Europe/Berlin:20260414T130000
DTSTAMP:20260420T110219Z
DTSTART;TZID=Europe/Berlin:20260414T100000
GEO:51.951300;8.478470
LOCATION:Hof Ramsbrock\, Ramsweg 2\, Bielefeld
SEQUENCE:0
SUMMARY:Wanderausstellung "Glänzende Aussichten"
UID:e_101198107_iv11
URL:http://pages.destination.one/de/teutonavigator/streaming/detail/Event/e
 _101198107/wanderausstellung-gl-nzende-aussichten
END:VEVENT
BEGIN:VEVENT
CATEGORIES:Sport/Freizeit
CATEGORIES:Vortrag/Lesung
CATEGORIES:Ausstellung
DESCRIPTION:\n\nmehr Informationen unter http://pages.destination.one/de/te
 utonavigator/streaming/detail/Event/e_101198107/wanderausstellung-gl-nzend
 e-aussichten
DTEND;TZID=Europe/Berlin:20260416T130000
DTSTAMP:20260420T110219Z
DTSTART;TZID=Europe/Berlin:20260416T100000
GEO:51.951300;8.478470
LOCATION:Hof Ramsbrock\, Ramsweg 2\, Bielefeld
SEQUENCE:0
SUMMARY:Wanderausstellung "Glänzende Aussichten"
UID:e_101198107_iv12
URL:http://pages.destination.one/de/teutonavigator/streaming/detail/Event/e
 _101198107/wanderausstellung-gl-nzende-aussichten
END:VEVENT
BEGIN:VEVENT
CATEGORIES:Sport/Freizeit
CATEGORIES:Vortrag/Lesung
CATEGORIES:Ausstellung
DESCRIPTION:\n\nmehr Informationen unter http://pages.destination.one/de/te
 utonavigator/streaming/detail/Event/e_101198107/wanderausstellung-gl-nzend
 e-aussichten
DTEND;TZID=Europe/Berlin:20260418T180000
DTSTAMP:20260420T110219Z
DTSTART;TZID=Europe/Berlin:20260418T150000
GEO:51.951300;8.478470
LOCATION:Hof Ramsbrock\, Ramsweg 2\, Bielefeld
SEQUENCE:0
SUMMARY:Wanderausstellung "Glänzende Aussichten"
UID:e_101198107_iv13
URL:http://pages.destination.one/de/teutonavigator/streaming/detail/Event/e
 _101198107/wanderausstellung-gl-nzende-aussichten
END:VEVENT
BEGIN:VEVENT
CATEGORIES:Sport/Freizeit
CATEGORIES:Vortrag/Lesung
CATEGORIES:Ausstellung
DESCRIPTION:\n\nmehr Informationen unter http://pages.destination.one/de/te
 utonavigator/streaming/detail/Event/e_101198107/wanderausstellung-gl-nzend
 e-aussichten
DTEND;TZID=Europe/Berlin:20260419T180000
DTSTAMP:20260420T110219Z
DTSTART;TZID=Europe/Berlin:20260419T150000
GEO:51.951300;8.478470
LOCATION:Hof Ramsbrock\, Ramsweg 2\, Bielefeld
SEQUENCE:0
SUMMARY:Wanderausstellung "Glänzende Aussichten"
UID:e_101198107_iv14
URL:http://pages.destination.one/de/teutonavigator/streaming/detail/Event/e
 _101198107/wanderausstellung-gl-nzende-aussichten
END:VEVENT
BEGIN:VEVENT
CATEGORIES:Sport/Freizeit
CATEGORIES:Vortrag/Lesung
CATEGORIES:Ausstellung
DESCRIPTION:\n\nmehr Informationen unter http://pages.destination.one/de/te
 utonavigator/streaming/detail/Event/e_101198107/wanderausstellung-gl-nzend
 e-aussichten
DTEND;TZID=Europe/Berlin:20260421T130000
DTSTAMP:20260420T110219Z
DTSTART;TZID=Europe/Berlin:20260421T100000
GEO:51.951300;8.478470
LOCATION:Hof Ramsbrock\, Ramsweg 2\, Bielefeld
SEQUENCE:0
SUMMARY:Wanderausstellung "Glänzende Aussichten"
UID:e_101198107_iv15
URL:http://pages.destination.one/de/teutonavigator/streaming/detail/Event/e
 _101198107/wanderausstellung-gl-nzende-aussichten
END:VEVENT
BEGIN:VEVENT
CATEGORIES:Sport/Freizeit
CATEGORIES:Vortrag/Lesung
CATEGORIES:Ausstellung
DESCRIPTION:\n\nmehr Informationen unter http://pages.destination.one/de/te
 utonavigator/streaming/detail/Event/e_101198107/wanderausstellung-gl-nzend
 e-aussichten
DTEND;TZID=Europe/Berlin:20260423T130000
DTSTAMP:20260420T110219Z
DTSTART;TZID=Europe/Berlin:20260423T100000
GEO:51.951300;8.478470
LOCATION:Hof Ramsbrock\, Ramsweg 2\, Bielefeld
SEQUENCE:0
SUMMARY:Wanderausstellung "Glänzende Aussichten"
UID:e_101198107_iv16
URL:http://pages.destination.one/de/teutonavigator/streaming/detail/Event/e
 _101198107/wanderausstellung-gl-nzende-aussichten
END:VEVENT
BEGIN:VEVENT
CATEGORIES:Sport/Freizeit
CATEGORIES:Vortrag/Lesung
CATEGORIES:Ausstellung
DESCRIPTION:\n\nmehr Informationen unter http://pages.destination.one/de/te
 utonavigator/streaming/detail/Event/e_101198107/wanderausstellung-gl-nzend
 e-aussichten
DTEND;TZID=Europe/Berlin:20260425T180000
DTSTAMP:20260420T110219Z
DTSTART;TZID=Europe/Berlin:20260425T150000
GEO:51.951300;8.478470
LOCATION:Hof Ramsbrock\, Ramsweg 2\, Bielefeld
SEQUENCE:0
SUMMARY:Wanderausstellung "Glänzende Aussichten"
UID:e_101198107_iv17
URL:http://pages.destination.one/de/teutonavigator/streaming/detail/Event/e
 _101198107/wanderausstellung-gl-nzende-aussichten
END:VEVENT
BEGIN:VEVENT
CATEGORIES:Sport/Freizeit
CATEGORIES:Vortrag/Lesung
CATEGORIES:Ausstellung
DESCRIPTION:\n\nmehr Informationen unter http://pages.destination.one/de/te
 utonavigator/streaming/detail/Event/e_101198107/wanderausstellung-gl-nzend
 e-aussichten
DTEND;TZID=Europe/Berlin:20260426T180000
DTSTAMP:20260420T110219Z
DTSTART;TZID=Europe/Berlin:20260426T150000
GEO:51.951300;8.478470
LOCATION:Hof Ramsbrock\, Ramsweg 2\, Bielefeld
SEQUENCE:0
SUMMARY:Wanderausstellung "Glänzende Aussichten"
UID:e_101198107_iv18
URL:http://pages.destination.one/de/teutonavigator/streaming/detail/Event/e
 _101198107/wanderausstellung-gl-nzende-aussichten
END:VEVENT
BEGIN:VEVENT
CATEGORIES:Sport/Freizeit
CATEGORIES:Vortrag/Lesung
CATEGORIES:Ausstellung
DESCRIPTION:\n\nmehr Informationen unter http://pages.destination.one/de/te
 utonavigator/streaming/detail/Event/e_101198107/wanderausstellung-gl-nzend
 e-aussichten
DTEND;TZID=Europe/Berlin:20260428T130000
DTSTAMP:20260420T110219Z
DTSTART;TZID=Europe/Berlin:20260428T100000
GEO:51.951300;8.478470
LOCATION:Hof Ramsbrock\, Ramsweg 2\, Bielefeld
SEQUENCE:0
SUMMARY:Wanderausstellung "Glänzende Aussichten"
UID:e_101198107_iv19
URL:http://pages.destination.one/de/teutonavigator/streaming/detail/Event/e
 _101198107/wanderausstellung-gl-nzende-aussichten
END:VEVENT
BEGIN:VEVENT
CATEGORIES:Sport/Freizeit
CATEGORIES:Vortrag/Lesung
CATEGORIES:Ausstellung
DESCRIPTION:\n\nmehr Informationen unter http://pages.destination.one/de/te
 utonavigator/streaming/detail/Event/e_101198107/wanderausstellung-gl-nzend
 e-aussichten
DTEND;TZID=Europe/Berlin:20260430T130000
DTSTAMP:20260420T110219Z
DTSTART;TZID=Europe/Berlin:20260430T100000
GEO:51.951300;8.478470
LOCATION:Hof Ramsbrock\, Ramsweg 2\, Bielefeld
SEQUENCE:0
SUMMARY:Wanderausstellung "Glänzende Aussichten"
UID:e_101198107_iv20
URL:http://pages.destination.one/de/teutonavigator/streaming/detail/Event/e
 _101198107/wanderausstellung-gl-nzende-aussichten
END:VEVENT
BEGIN:VEVENT
CATEGORIES:Sport/Freizeit
CATEGORIES:Vortrag/Lesung
CATEGORIES:Ausstellung
DESCRIPTION:\n\nmehr Informationen unter http://pages.destination.one/de/te
 utonavigator/streaming/detail/Event/e_101198107/wanderausstellung-gl-nzend
 e-aussichten
DTEND;TZID=Europe/Berlin:20260502T180000
DTSTAMP:20260420T110219Z
DTSTART;TZID=Europe/Berlin:20260502T150000
GEO:51.951300;8.478470
LOCATION:Hof Ramsbrock\, Ramsweg 2\, Bielefeld
SEQUENCE:0
SUMMARY:Wanderausstellung "Glänzende Aussichten"
UID:e_101198107_iv21
URL:http://pages.destination.one/de/teutonavigator/streaming/detail/Event/e
 _101198107/wanderausstellung-gl-nzende-aussichten
END:VEVENT
BEGIN:VEVENT
CATEGORIES:Sport/Freizeit
CATEGORIES:Vortrag/Lesung
CATEGORIES:Ausstellung
DESCRIPTION:\n\nmehr Informationen unter http://pages.destination.one/de/te
 utonavigator/streaming/detail/Event/e_101198107/wanderausstellung-gl-nzend
 e-aussichten
DTEND;TZID=Europe/Berlin:20260503T180000
DTSTAMP:20260420T110219Z
DTSTART;TZID=Europe/Berlin:20260503T150000
GEO:51.951300;8.478470
LOCATION:Hof Ramsbrock\, Ramsweg 2\, Bielefeld
SEQUENCE:0
SUMMARY:Wanderausstellung "Glänzende Aussichten"
UID:e_101198107_iv22
URL:http://pages.destination.one/de/teutonavigator/streaming/detail/Event/e
 _101198107/wanderausstellung-gl-nzende-aussichten
END:VEVENT
BEGIN:VEVENT
CATEGORIES:Sport/Freizeit
CATEGORIES:Vortrag/Lesung
CATEGORIES:Ausstellung
DESCRIPTION:\n\nmehr Informationen unter http://pages.destination.one/de/te
 utonavigator/streaming/detail/Event/e_101198107/wanderausstellung-gl-nzend
 e-aussichten
DTEND;TZID=Europe/Berlin:20260505T130000
DTSTAMP:20260420T110219Z
DTSTART;TZID=Europe/Berlin:20260505T100000
GEO:51.951300;8.478470
LOCATION:Hof Ramsbrock\, Ramsweg 2\, Bielefeld
SEQUENCE:0
SUMMARY:Wanderausstellung "Glänzende Aussichten"
UID:e_101198107_iv23
URL:http://pages.destination.one/de/teutonavigator/streaming/detail/Event/e
 _101198107/wanderausstellung-gl-nzende-aussichten
END:VEVENT
BEGIN:VEVENT
CATEGORIES:Sport/Freizeit
CATEGORIES:Vortrag/Lesung
CATEGORIES:Ausstellung
DESCRIPTION:\n\nmehr Informationen unter http://pages.destination.one/de/te
 utonavigator/streaming/detail/Event/e_101198107/wanderausstellung-gl-nzend
 e-aussichten
DTEND;TZID=Europe/Berlin:20260507T130000
DTSTAMP:20260420T110219Z
DTSTART;TZID=Europe/Berlin:20260507T100000
GEO:51.951300;8.478470
LOCATION:Hof Ramsbrock\, Ramsweg 2\, Bielefeld
SEQUENCE:0
SUMMARY:Wanderausstellung "Glänzende Aussichten"
UID:e_101198107_iv24
URL:http://pages.destination.one/de/teutonavigator/streaming/detail/Event/e
 _101198107/wanderausstellung-gl-nzende-aussichten
END:VEVENT
BEGIN:VEVENT
CATEGORIES:Sport/Freizeit
CATEGORIES:Vortrag/Lesung
CATEGORIES:Ausstellung
DESCRIPTION:\n\nmehr Informationen unter http://pages.destination.one/de/te
 utonavigator/streaming/detail/Event/e_101198107/wanderausstellung-gl-nzend
 e-aussichten
DTEND;TZID=Europe/Berlin:20260509T180000
DTSTAMP:20260420T110219Z
DTSTART;TZID=Europe/Berlin:20260509T150000
GEO:51.951300;8.478470
LOCATION:Hof Ramsbrock\, Ramsweg 2\, Bielefeld
SEQUENCE:0
SUMMARY:Wanderausstellung "Glänzende Aussichten"
UID:e_101198107_iv25
URL:http://pages.destination.one/de/teutonavigator/streaming/detail/Event/e
 _101198107/wanderausstellung-gl-nzende-aussichten
END:VEVENT
BEGIN:VEVENT
CATEGORIES:Sport/Freizeit
CATEGORIES:Vortrag/Lesung
CATEGORIES:Ausstellung
DESCRIPTION:\n\nmehr Informationen unter http://pages.destination.one/de/te
 utonavigator/streaming/detail/Event/e_101198107/wanderausstellung-gl-nzend
 e-aussichten
DTEND;TZID=Europe/Berlin:20260510T180000
DTSTAMP:20260420T110219Z
DTSTART;TZID=Europe/Berlin:20260510T150000
GEO:51.951300;8.478470
LOCATION:Hof Ramsbrock\, Ramsweg 2\, Bielefeld
SEQUENCE:0
SUMMARY:Wanderausstellung "Glänzende Aussichten"
UID:e_101198107_iv26
URL:http://pages.destination.one/de/teutonavigator/streaming/detail/Event/e
 _101198107/wanderausstellung-gl-nzende-aussichten
END:VEVENT
BEGIN:VTIMEZONE
TZID:Europe/Berlin
X-LIC-LOCATION:Europe/Berlin
BEGIN:DAYLIGHT
DTSTART:19700329T020000
RRULE:FREQ=YEARLY;BYDAY=-1SU;BYMONTH=3
TZNAME:CEST
TZOFFSETFROM:+0100
TZOFFSETTO:+0200
END:DAYLIGHT
BEGIN:STANDARD
DTSTART:19701025T030000
RRULE:FREQ=YEARLY;BYDAY=-1SU;BYMONTH=10
TZNAME:CET
TZOFFSETFROM:+0200
TZOFFSETTO:+0100
END:STANDARD
END:VTIMEZONE
END:VCALENDAR
