BEGIN:VCALENDAR
VERSION:2.0
PRODID:-//destination.one//NONSGML destination.meta API//DE
X-WR-CALDESC:A calendar powered by destination.meta
X-WR-CALNAME:teutonavigator Kalender via destination.meta
BEGIN:VEVENT
CATEGORIES:Brauchtum/Kultur
DESCRIPTION:\n\nmehr Informationen unter http://pages.destination.one/de/te
 utonavigator/streaming/detail/Event/e_101189829/kultur-to-go-fahrt-zum-fol
 kwang-museum-essen-besuch-der-neuen-sammlung
DTEND;TZID=Europe/Berlin:20260509T173000
DTSTAMP:20260424T115647Z
DTSTART;TZID=Europe/Berlin:20260509T093000
GEO:51.911963;8.372199
LOCATION:Volkshochschule\, Hohenzollernstraße 43\, Gütersloh
SEQUENCE:0
SUMMARY:Kultur to go - Fahrt zum Folkwang Museum Essen: Besuch der Neuen Sa
 mmlung
UID:e_101189829_iv0
URL:http://pages.destination.one/de/teutonavigator/streaming/detail/Event/e
 _101189829/kultur-to-go-fahrt-zum-folkwang-museum-essen-besuch-der-neuen-s
 ammlung
END:VEVENT
BEGIN:VTIMEZONE
TZID:Europe/Berlin
X-LIC-LOCATION:Europe/Berlin
BEGIN:DAYLIGHT
DTSTART:19700329T020000
RRULE:FREQ=YEARLY;BYDAY=-1SU;BYMONTH=3
TZNAME:CEST
TZOFFSETFROM:+0100
TZOFFSETTO:+0200
END:DAYLIGHT
BEGIN:STANDARD
DTSTART:19701025T030000
RRULE:FREQ=YEARLY;BYDAY=-1SU;BYMONTH=10
TZNAME:CET
TZOFFSETFROM:+0200
TZOFFSETTO:+0100
END:STANDARD
END:VTIMEZONE
END:VCALENDAR
