BEGIN:VCALENDAR
VERSION:2.0
PRODID:-//destination.one//NONSGML destination.meta API//DE
X-WR-CALDESC:A calendar powered by destination.meta
X-WR-CALNAME:teutonavigator Kalender via destination.meta
BEGIN:VEVENT
CATEGORIES:Konzert divers
DESCRIPTION:\n\nmehr Informationen unter http://pages.destination.one/de/te
 utonavigator/streaming/detail/Event/e_101189053/momokonzerte-der-musikschu
 le
DTEND;TZID=Europe/Berlin:20260712T120000
DTSTAMP:20260424T153030Z
DTSTART;TZID=Europe/Berlin:20260712T103000
GEO:52.202978;8.803546
LOCATION:Musikschule Bad Oeynhausen\, Dr. Louis-Lehmann-Straße 3\, Bad Oeyn
 hausen
ORGANIZER;CN=Musikschule Bad Oeynhausen:mailto:b.gbur@badoeynhausen.de
SEQUENCE:0
SUMMARY:„Momokonzerte“ der Musikschule
UID:e_101189053_iv0
URL:http://pages.destination.one/de/teutonavigator/streaming/detail/Event/e
 _101189053/momokonzerte-der-musikschule
END:VEVENT
BEGIN:VEVENT
CATEGORIES:Konzert divers
DESCRIPTION:\n\nmehr Informationen unter http://pages.destination.one/de/te
 utonavigator/streaming/detail/Event/e_101189053/momokonzerte-der-musikschu
 le
DTEND;TZID=Europe/Berlin:20260712T133000
DTSTAMP:20260424T153030Z
DTSTART;TZID=Europe/Berlin:20260712T120000
GEO:52.202978;8.803546
LOCATION:Musikschule Bad Oeynhausen\, Dr. Louis-Lehmann-Straße 3\, Bad Oeyn
 hausen
ORGANIZER;CN=Musikschule Bad Oeynhausen:mailto:b.gbur@badoeynhausen.de
SEQUENCE:0
SUMMARY:„Momokonzerte“ der Musikschule
UID:e_101189053_iv1
URL:http://pages.destination.one/de/teutonavigator/streaming/detail/Event/e
 _101189053/momokonzerte-der-musikschule
END:VEVENT
BEGIN:VTIMEZONE
TZID:Europe/Berlin
X-LIC-LOCATION:Europe/Berlin
BEGIN:DAYLIGHT
DTSTART:19700329T020000
RRULE:FREQ=YEARLY;BYDAY=-1SU;BYMONTH=3
TZNAME:CEST
TZOFFSETFROM:+0100
TZOFFSETTO:+0200
END:DAYLIGHT
BEGIN:STANDARD
DTSTART:19701025T030000
RRULE:FREQ=YEARLY;BYDAY=-1SU;BYMONTH=10
TZNAME:CET
TZOFFSETFROM:+0200
TZOFFSETTO:+0100
END:STANDARD
END:VTIMEZONE
END:VCALENDAR
