BEGIN:VCALENDAR
VERSION:2.0
PRODID:-//destination.one//NONSGML destination.meta API//DE
X-WR-CALDESC:A calendar powered by destination.meta
X-WR-CALNAME:teutonavigator Kalender via destination.meta
BEGIN:VEVENT
CATEGORIES:Ausstellung
DESCRIPTION:"Herford gehört(e) dem Führer?“Die Nazifizierung des Alltags im
  Raum Herford 1933 – 1939Wie konnte es auch in Stadt und Kreis Herford daz
 u kommen\, dass die Nationalsozialisten zwischen 1933 und 1939 die Mehrhei
 t der Bevölkerung für ihre Ideologie gewannen? Die Ausstellung zeigt anhan
 d von historischen Dokumenten\, Fotografien\, Zeitungsartikeln und Exponat
 en aus der Region\, wie tief die nationalsozialistische Propaganda und Pol
 itik alle Lebensbereiche und Altersgruppen durchdrangen.\n\nmehr Informati
 onen unter http://pages.destination.one/de/teutonavigator/streaming/detail
 /Event/e_101187806/ausstellung-im-zellentrakt-herford-geh-rt-e-dem-f-hrer
DTEND;TZID=Europe/Berlin:20260131T160000
DTSTAMP:20260421T171144Z
DTSTART;TZID=Europe/Berlin:20260131T140000
GEO:52.116092;8.669573
LOCATION:Zellentrakt\, Rathausplatz 1\, Herford
ORGANIZER;CN=Zellentrakt:mailto:info@zellentrakt.de
RRULE:FREQ=WEEKLY;UNTIL=20260630T140000;BYDAY=SA,SU
SEQUENCE:0
SUMMARY:Ausstellung im Zellentrakt: „Herford gehört(e) dem Führer?“
UID:e_101187806_iv0
URL:http://pages.destination.one/de/teutonavigator/streaming/detail/Event/e
 _101187806/ausstellung-im-zellentrakt-herford-geh-rt-e-dem-f-hrer
END:VEVENT
BEGIN:VTIMEZONE
TZID:Europe/Berlin
X-LIC-LOCATION:Europe/Berlin
BEGIN:DAYLIGHT
DTSTART:19700329T020000
RRULE:FREQ=YEARLY;BYDAY=-1SU;BYMONTH=3
TZNAME:CEST
TZOFFSETFROM:+0100
TZOFFSETTO:+0200
END:DAYLIGHT
BEGIN:STANDARD
DTSTART:19701025T030000
RRULE:FREQ=YEARLY;BYDAY=-1SU;BYMONTH=10
TZNAME:CET
TZOFFSETFROM:+0200
TZOFFSETTO:+0100
END:STANDARD
END:VTIMEZONE
END:VCALENDAR
