BEGIN:VCALENDAR
VERSION:2.0
PRODID:-//destination.one//NONSGML destination.meta API//DE
X-WR-CALDESC:A calendar powered by destination.meta
X-WR-CALNAME:teutonavigator Kalender via destination.meta
BEGIN:VEVENT
CATEGORIES:Ausstellung
DESCRIPTION:Ausstellung an der Stadtmauer\n\nmehr Informationen unter http:
 //pages.destination.one/de/teutonavigator/streaming/detail/Event/e_1011877
 82/j-dische-spuren-in-detmold
DTEND;TZID=Europe/Berlin:20260116T235900
DTSTAMP:20260421T181500Z
DTSTART;TZID=Europe/Berlin:20260116T100000
GEO:51.934136;8.876303
LOCATION:Galerie Bruchmauerstraße\, Bruchmauerstraße\, Detmold
ORGANIZER;CN=Gesellschaft für Christlich-Jüdische Zusammenarbeit in Lippe e
 . V.:mailto:gfcjz-lippe@t-online.de
RRULE:FREQ=DAILY;UNTIL=20260630T215900
SEQUENCE:0
SUMMARY:"Jüdische Spuren in Detmold"
UID:e_101187782_iv0
URL:http://pages.destination.one/de/teutonavigator/streaming/detail/Event/e
 _101187782/j-dische-spuren-in-detmold
END:VEVENT
BEGIN:VTIMEZONE
TZID:Europe/Berlin
X-LIC-LOCATION:Europe/Berlin
BEGIN:DAYLIGHT
DTSTART:19700329T020000
RRULE:FREQ=YEARLY;BYDAY=-1SU;BYMONTH=3
TZNAME:CEST
TZOFFSETFROM:+0100
TZOFFSETTO:+0200
END:DAYLIGHT
BEGIN:STANDARD
DTSTART:19701025T030000
RRULE:FREQ=YEARLY;BYDAY=-1SU;BYMONTH=10
TZNAME:CET
TZOFFSETFROM:+0200
TZOFFSETTO:+0100
END:STANDARD
END:VTIMEZONE
END:VCALENDAR
