BEGIN:VCALENDAR
VERSION:2.0
PRODID:-//destination.one//NONSGML destination.meta API//DE
X-WR-CALDESC:A calendar powered by destination.meta
X-WR-CALNAME:teutonavigator Kalender via destination.meta
BEGIN:VEVENT
CATEGORIES:Brauchtum/Kultur
CATEGORIES:Bühne divers
DESCRIPTION:Diverse Perspektiven auf das Leben und die Stadt\n\nmehr Inform
 ationen unter http://pages.destination.one/de/teutonavigator/streaming/det
 ail/Event/e_101187170/bielefelder-geschichten-reloaded
DTEND;TZID=Europe/Berlin:20260424T223000
DTSTAMP:20260421T140344Z
DTSTART;TZID=Europe/Berlin:20260424T200000
GEO:52.020599;8.531972
LOCATION:Theater am Alten Markt\, Alter Markt 1\, Bielefeld
SEQUENCE:0
SUMMARY:Bielefelder Geschichten reloaded
UID:e_101187170_iv0
URL:http://pages.destination.one/de/teutonavigator/streaming/detail/Event/e
 _101187170/bielefelder-geschichten-reloaded
END:VEVENT
BEGIN:VTIMEZONE
TZID:Europe/Berlin
X-LIC-LOCATION:Europe/Berlin
BEGIN:DAYLIGHT
DTSTART:19700329T020000
RRULE:FREQ=YEARLY;BYDAY=-1SU;BYMONTH=3
TZNAME:CEST
TZOFFSETFROM:+0100
TZOFFSETTO:+0200
END:DAYLIGHT
BEGIN:STANDARD
DTSTART:19701025T030000
RRULE:FREQ=YEARLY;BYDAY=-1SU;BYMONTH=10
TZNAME:CET
TZOFFSETFROM:+0200
TZOFFSETTO:+0100
END:STANDARD
END:VTIMEZONE
END:VCALENDAR
