BEGIN:VCALENDAR
VERSION:2.0
PRODID:-//destination.one//NONSGML destination.meta API//DE
X-WR-CALDESC:A calendar powered by destination.meta
X-WR-CALNAME:teutonavigator Kalender via destination.meta
BEGIN:VEVENT
CATEGORIES:Workshop
CATEGORIES:Sonstiges
CATEGORIES:Vortrag/Lesung
DESCRIPTION:Spaziergang mit Trauernden\n\nmehr Informationen unter http://p
 ages.destination.one/de/teutonavigator/streaming/detail/Event/e_101187120/
 gemeinsam-unterwegs-sein
DTEND;TZID=Europe/Berlin:20260228T163000
DTSTAMP:20260421T140222Z
DTSTART;TZID=Europe/Berlin:20260228T143000
GEO:51.980076;8.530328
LOCATION:Sennefriedhof\, Brackweder Str. 80\, Bielefeld
SEQUENCE:0
SUMMARY:Gemeinsam unterwegs sein
UID:e_101187120_iv0
URL:http://pages.destination.one/de/teutonavigator/streaming/detail/Event/e
 _101187120/gemeinsam-unterwegs-sein
END:VEVENT
BEGIN:VEVENT
CATEGORIES:Workshop
CATEGORIES:Sonstiges
CATEGORIES:Vortrag/Lesung
DESCRIPTION:Spaziergang mit Trauernden\n\nmehr Informationen unter http://p
 ages.destination.one/de/teutonavigator/streaming/detail/Event/e_101187120/
 gemeinsam-unterwegs-sein
DTEND;TZID=Europe/Berlin:20260328T163000
DTSTAMP:20260421T140222Z
DTSTART;TZID=Europe/Berlin:20260328T143000
GEO:51.980076;8.530328
LOCATION:Sennefriedhof\, Brackweder Str. 80\, Bielefeld
SEQUENCE:0
SUMMARY:Gemeinsam unterwegs sein
UID:e_101187120_iv1
URL:http://pages.destination.one/de/teutonavigator/streaming/detail/Event/e
 _101187120/gemeinsam-unterwegs-sein
END:VEVENT
BEGIN:VEVENT
CATEGORIES:Workshop
CATEGORIES:Sonstiges
CATEGORIES:Vortrag/Lesung
DESCRIPTION:Spaziergang mit Trauernden\n\nmehr Informationen unter http://p
 ages.destination.one/de/teutonavigator/streaming/detail/Event/e_101187120/
 gemeinsam-unterwegs-sein
DTEND;TZID=Europe/Berlin:20260425T163000
DTSTAMP:20260421T140222Z
DTSTART;TZID=Europe/Berlin:20260425T143000
GEO:51.980076;8.530328
LOCATION:Sennefriedhof\, Brackweder Str. 80\, Bielefeld
SEQUENCE:0
SUMMARY:Gemeinsam unterwegs sein
UID:e_101187120_iv2
URL:http://pages.destination.one/de/teutonavigator/streaming/detail/Event/e
 _101187120/gemeinsam-unterwegs-sein
END:VEVENT
BEGIN:VEVENT
CATEGORIES:Workshop
CATEGORIES:Sonstiges
CATEGORIES:Vortrag/Lesung
DESCRIPTION:Spaziergang mit Trauernden\n\nmehr Informationen unter http://p
 ages.destination.one/de/teutonavigator/streaming/detail/Event/e_101187120/
 gemeinsam-unterwegs-sein
DTEND;TZID=Europe/Berlin:20260530T163000
DTSTAMP:20260421T140222Z
DTSTART;TZID=Europe/Berlin:20260530T143000
GEO:51.980076;8.530328
LOCATION:Sennefriedhof\, Brackweder Str. 80\, Bielefeld
SEQUENCE:0
SUMMARY:Gemeinsam unterwegs sein
UID:e_101187120_iv3
URL:http://pages.destination.one/de/teutonavigator/streaming/detail/Event/e
 _101187120/gemeinsam-unterwegs-sein
END:VEVENT
BEGIN:VEVENT
CATEGORIES:Workshop
CATEGORIES:Sonstiges
CATEGORIES:Vortrag/Lesung
DESCRIPTION:Spaziergang mit Trauernden\n\nmehr Informationen unter http://p
 ages.destination.one/de/teutonavigator/streaming/detail/Event/e_101187120/
 gemeinsam-unterwegs-sein
DTEND;TZID=Europe/Berlin:20260627T163000
DTSTAMP:20260421T140222Z
DTSTART;TZID=Europe/Berlin:20260627T143000
GEO:51.980076;8.530328
LOCATION:Sennefriedhof\, Brackweder Str. 80\, Bielefeld
SEQUENCE:0
SUMMARY:Gemeinsam unterwegs sein
UID:e_101187120_iv4
URL:http://pages.destination.one/de/teutonavigator/streaming/detail/Event/e
 _101187120/gemeinsam-unterwegs-sein
END:VEVENT
BEGIN:VEVENT
CATEGORIES:Workshop
CATEGORIES:Sonstiges
CATEGORIES:Vortrag/Lesung
DESCRIPTION:Spaziergang mit Trauernden\n\nmehr Informationen unter http://p
 ages.destination.one/de/teutonavigator/streaming/detail/Event/e_101187120/
 gemeinsam-unterwegs-sein
DTEND;TZID=Europe/Berlin:20261024T163000
DTSTAMP:20260421T140222Z
DTSTART;TZID=Europe/Berlin:20261024T143000
GEO:51.980076;8.530328
LOCATION:Sennefriedhof\, Brackweder Str. 80\, Bielefeld
SEQUENCE:0
SUMMARY:Gemeinsam unterwegs sein
UID:e_101187120_iv5
URL:http://pages.destination.one/de/teutonavigator/streaming/detail/Event/e
 _101187120/gemeinsam-unterwegs-sein
END:VEVENT
BEGIN:VTIMEZONE
TZID:Europe/Berlin
X-LIC-LOCATION:Europe/Berlin
BEGIN:DAYLIGHT
DTSTART:19700329T020000
RRULE:FREQ=YEARLY;BYDAY=-1SU;BYMONTH=3
TZNAME:CEST
TZOFFSETFROM:+0100
TZOFFSETTO:+0200
END:DAYLIGHT
BEGIN:STANDARD
DTSTART:19701025T030000
RRULE:FREQ=YEARLY;BYDAY=-1SU;BYMONTH=10
TZNAME:CET
TZOFFSETFROM:+0200
TZOFFSETTO:+0100
END:STANDARD
END:VTIMEZONE
END:VCALENDAR
