BEGIN:VCALENDAR
VERSION:2.0
PRODID:-//destination.one//NONSGML destination.meta API//DE
X-WR-CALDESC:A calendar powered by destination.meta
X-WR-CALNAME:teutonavigator Kalender via destination.meta
BEGIN:VEVENT
CATEGORIES:Stadtfest/Kirmes/Jahrmarkt
CATEGORIES:Fest/Ball
DESCRIPTION:...Live-Musik\, Essen und Trinken und jede Menge Spaß zwischen 
 Werre und Bega.\n\nmehr Informationen unter http://pages.destination.one/d
 e/teutonavigator/streaming/detail/Event/e_101185808/kiliansfest
DTEND;TZID=Europe/Berlin:20260918T210000
DTSTAMP:20260419T160318Z
DTSTART;TZID=Europe/Berlin:20260918T120000
GEO:52.070938;8.757071
LOCATION:Stadt Bad Salzuflen\, Innenstadt Schötmar\, Bad Salzuflen
ORGANIZER;CN=Bürgerverein Schötmar e.V.:mailto:info@buergerverein-schoetmar
 .de
RRULE:FREQ=WEEKLY;UNTIL=20260920T220000;BYDAY=FR,SA,SU
SEQUENCE:0
SUMMARY:Kiliansfest
UID:e_101185808_iv0
URL:http://pages.destination.one/de/teutonavigator/streaming/detail/Event/e
 _101185808/kiliansfest
END:VEVENT
BEGIN:VTIMEZONE
TZID:Europe/Berlin
X-LIC-LOCATION:Europe/Berlin
BEGIN:DAYLIGHT
DTSTART:19700329T020000
RRULE:FREQ=YEARLY;BYDAY=-1SU;BYMONTH=3
TZNAME:CEST
TZOFFSETFROM:+0100
TZOFFSETTO:+0200
END:DAYLIGHT
BEGIN:STANDARD
DTSTART:19701025T030000
RRULE:FREQ=YEARLY;BYDAY=-1SU;BYMONTH=10
TZNAME:CET
TZOFFSETFROM:+0200
TZOFFSETTO:+0100
END:STANDARD
END:VTIMEZONE
END:VCALENDAR
