BEGIN:VCALENDAR
VERSION:2.0
PRODID:-//destination.one//NONSGML destination.meta API//DE
X-WR-CALDESC:A calendar powered by destination.meta
X-WR-CALNAME:teutonavigator Kalender via destination.meta
BEGIN:VEVENT
CATEGORIES:Ausstellung
DESCRIPTION:Am Sonntag\, dem 17. Mai 2026 lädt die Vlotho Marketing zu „Vlo
 tho bewegt sich“ in der Zeit von 12.00 Uhr bis 18.00 Uhr mit einem breitge
 fächerten Programm zum Thema Automobil\, Zweirad und Mobilität in die Inne
 nstadt ein.\n\nmehr Informationen unter http://pages.destination.one/de/te
 utonavigator/streaming/detail/Event/e_101185166/ausstellung-vlotho-bewegt-
 sich-vlotho-f-hrt-ab
DTEND;TZID=Europe/Berlin:20260517T180000
DTSTAMP:20260422T140814Z
DTSTART;TZID=Europe/Berlin:20260517T120000
GEO:52.167848;8.861461
LOCATION:Innenstadt Vlotho\, Lange Str. 111\, Vlotho
ORGANIZER;CN=Vlotho Marketing GmbH:mailto:touristik@vlotho.de
SEQUENCE:0
SUMMARY:Ausstellung - Vlotho bewegt sich - Vlotho fährt ab
UID:e_101185166_iv0
URL:http://pages.destination.one/de/teutonavigator/streaming/detail/Event/e
 _101185166/ausstellung-vlotho-bewegt-sich-vlotho-f-hrt-ab
END:VEVENT
BEGIN:VTIMEZONE
TZID:Europe/Berlin
X-LIC-LOCATION:Europe/Berlin
BEGIN:DAYLIGHT
DTSTART:19700329T020000
RRULE:FREQ=YEARLY;BYDAY=-1SU;BYMONTH=3
TZNAME:CEST
TZOFFSETFROM:+0100
TZOFFSETTO:+0200
END:DAYLIGHT
BEGIN:STANDARD
DTSTART:19701025T030000
RRULE:FREQ=YEARLY;BYDAY=-1SU;BYMONTH=10
TZNAME:CET
TZOFFSETFROM:+0200
TZOFFSETTO:+0100
END:STANDARD
END:VTIMEZONE
END:VCALENDAR
