BEGIN:VCALENDAR
VERSION:2.0
PRODID:-//destination.one//NONSGML destination.meta API//DE
X-WR-CALDESC:A calendar powered by destination.meta
X-WR-CALNAME:teutonavigator Kalender via destination.meta
BEGIN:VEVENT
CATEGORIES:Sonstiges
DESCRIPTION:„Yidn vos hobn ibergelebt“\n\nmehr Informationen unter http://p
 ages.destination.one/de/teutonavigator/streaming/detail/Event/e_101184070/
 wissenschaft-trifft-schule-die-befreiung-der-j-dischen-frauen-in-kaunitz
DTEND;TZID=Europe/Berlin:20260422T113000
DTSTAMP:20260420T080514Z
DTSTART;TZID=Europe/Berlin:20260422T100000
GEO:51.911963;8.372199
LOCATION:Volkshochschule\, Hohenzollernstraße 43\, Gütersloh
SEQUENCE:0
SUMMARY:Wissenschaft trifft Schule: Die Befreiung der jüdischen Frauen in K
 aunitz
UID:e_101184070_iv0
URL:http://pages.destination.one/de/teutonavigator/streaming/detail/Event/e
 _101184070/wissenschaft-trifft-schule-die-befreiung-der-j-dischen-frauen-i
 n-kaunitz
END:VEVENT
BEGIN:VTIMEZONE
TZID:Europe/Berlin
X-LIC-LOCATION:Europe/Berlin
BEGIN:DAYLIGHT
DTSTART:19700329T020000
RRULE:FREQ=YEARLY;BYDAY=-1SU;BYMONTH=3
TZNAME:CEST
TZOFFSETFROM:+0100
TZOFFSETTO:+0200
END:DAYLIGHT
BEGIN:STANDARD
DTSTART:19701025T030000
RRULE:FREQ=YEARLY;BYDAY=-1SU;BYMONTH=10
TZNAME:CET
TZOFFSETFROM:+0200
TZOFFSETTO:+0100
END:STANDARD
END:VTIMEZONE
END:VCALENDAR
