BEGIN:VCALENDAR
VERSION:2.0
PRODID:-//destination.one//NONSGML destination.meta API//DE
X-WR-CALDESC:A calendar powered by destination.meta
X-WR-CALNAME:teutonavigator Kalender via destination.meta
BEGIN:VEVENT
CATEGORIES:Ausflug/Exkursion
DESCRIPTION:\n\nmehr Informationen unter http://pages.destination.one/de/te
 utonavigator/streaming/detail/Event/e_101183939/entomologische-ag-exkursio
 n-in-die-almeaue
DTEND;TZID=Europe/Berlin:20260529T170000
DTSTAMP:20260421T181714Z
DTSTART;TZID=Europe/Berlin:20260529T150000
GEO:51.501958;8.570296
LOCATION:Wohnmobilstellplatz Ringelsteiner Wald\, Eichenweg\, Büren
ORGANIZER;CN=Biologische Station Kreis Paderborn | Senne e.V.:mailto:info@b
 s-paderborn-senne.de
SEQUENCE:0
SUMMARY:Entomologische AG: Exkursion in die Almeaue
UID:e_101183939_iv0
URL:http://pages.destination.one/de/teutonavigator/streaming/detail/Event/e
 _101183939/entomologische-ag-exkursion-in-die-almeaue
END:VEVENT
BEGIN:VTIMEZONE
TZID:Europe/Berlin
X-LIC-LOCATION:Europe/Berlin
BEGIN:DAYLIGHT
DTSTART:19700329T020000
RRULE:FREQ=YEARLY;BYDAY=-1SU;BYMONTH=3
TZNAME:CEST
TZOFFSETFROM:+0100
TZOFFSETTO:+0200
END:DAYLIGHT
BEGIN:STANDARD
DTSTART:19701025T030000
RRULE:FREQ=YEARLY;BYDAY=-1SU;BYMONTH=10
TZNAME:CET
TZOFFSETFROM:+0200
TZOFFSETTO:+0100
END:STANDARD
END:VTIMEZONE
END:VCALENDAR
