BEGIN:VCALENDAR
VERSION:2.0
PRODID:-//destination.one//NONSGML destination.meta API//DE
X-WR-CALDESC:A calendar powered by destination.meta
X-WR-CALNAME:teutonavigator Kalender via destination.meta
BEGIN:VEVENT
CATEGORIES:Geselligkeit/Spiele/Treffen
DESCRIPTION:\n\nmehr Informationen unter http://pages.destination.one/de/te
 utonavigator/streaming/detail/Event/e_101178153/spieletreff-im-haus-des-ga
 stes-in-bad-holzhausen
DTEND;TZID=Europe/Berlin:20260107T235900
DTSTAMP:20260420T093607Z
DTSTART;TZID=Europe/Berlin:20260107T160000
GEO:52.286531;8.532777
LOCATION:Haus des Gastes Bad Holzhausen\, Hudenbeck 2\, Preußisch Oldendorf
ORGANIZER;CN=Rita Tscherpel:mailto:rita.tscherpel@gmx.de
SEQUENCE:0
SUMMARY:Spieletreff im Haus des Gastes in Bad Holzhausen
UID:e_101178153_iv0
URL:http://pages.destination.one/de/teutonavigator/streaming/detail/Event/e
 _101178153/spieletreff-im-haus-des-gastes-in-bad-holzhausen
END:VEVENT
BEGIN:VEVENT
CATEGORIES:Geselligkeit/Spiele/Treffen
DESCRIPTION:\n\nmehr Informationen unter http://pages.destination.one/de/te
 utonavigator/streaming/detail/Event/e_101178153/spieletreff-im-haus-des-ga
 stes-in-bad-holzhausen
DTEND;TZID=Europe/Berlin:20260128T235900
DTSTAMP:20260420T093607Z
DTSTART;TZID=Europe/Berlin:20260128T160000
GEO:52.286531;8.532777
LOCATION:Haus des Gastes Bad Holzhausen\, Hudenbeck 2\, Preußisch Oldendorf
ORGANIZER;CN=Rita Tscherpel:mailto:rita.tscherpel@gmx.de
SEQUENCE:0
SUMMARY:Spieletreff im Haus des Gastes in Bad Holzhausen
UID:e_101178153_iv1
URL:http://pages.destination.one/de/teutonavigator/streaming/detail/Event/e
 _101178153/spieletreff-im-haus-des-gastes-in-bad-holzhausen
END:VEVENT
BEGIN:VEVENT
CATEGORIES:Geselligkeit/Spiele/Treffen
DESCRIPTION:\n\nmehr Informationen unter http://pages.destination.one/de/te
 utonavigator/streaming/detail/Event/e_101178153/spieletreff-im-haus-des-ga
 stes-in-bad-holzhausen
DTEND;TZID=Europe/Berlin:20260204T235900
DTSTAMP:20260420T093607Z
DTSTART;TZID=Europe/Berlin:20260204T160000
GEO:52.286531;8.532777
LOCATION:Haus des Gastes Bad Holzhausen\, Hudenbeck 2\, Preußisch Oldendorf
ORGANIZER;CN=Rita Tscherpel:mailto:rita.tscherpel@gmx.de
SEQUENCE:0
SUMMARY:Spieletreff im Haus des Gastes in Bad Holzhausen
UID:e_101178153_iv2
URL:http://pages.destination.one/de/teutonavigator/streaming/detail/Event/e
 _101178153/spieletreff-im-haus-des-gastes-in-bad-holzhausen
END:VEVENT
BEGIN:VEVENT
CATEGORIES:Geselligkeit/Spiele/Treffen
DESCRIPTION:\n\nmehr Informationen unter http://pages.destination.one/de/te
 utonavigator/streaming/detail/Event/e_101178153/spieletreff-im-haus-des-ga
 stes-in-bad-holzhausen
DTEND;TZID=Europe/Berlin:20260225T235900
DTSTAMP:20260420T093607Z
DTSTART;TZID=Europe/Berlin:20260225T160000
GEO:52.286531;8.532777
LOCATION:Haus des Gastes Bad Holzhausen\, Hudenbeck 2\, Preußisch Oldendorf
ORGANIZER;CN=Rita Tscherpel:mailto:rita.tscherpel@gmx.de
SEQUENCE:0
SUMMARY:Spieletreff im Haus des Gastes in Bad Holzhausen
UID:e_101178153_iv3
URL:http://pages.destination.one/de/teutonavigator/streaming/detail/Event/e
 _101178153/spieletreff-im-haus-des-gastes-in-bad-holzhausen
END:VEVENT
BEGIN:VEVENT
CATEGORIES:Geselligkeit/Spiele/Treffen
DESCRIPTION:\n\nmehr Informationen unter http://pages.destination.one/de/te
 utonavigator/streaming/detail/Event/e_101178153/spieletreff-im-haus-des-ga
 stes-in-bad-holzhausen
DTEND;TZID=Europe/Berlin:20260304T235900
DTSTAMP:20260420T093607Z
DTSTART;TZID=Europe/Berlin:20260304T160000
GEO:52.286531;8.532777
LOCATION:Haus des Gastes Bad Holzhausen\, Hudenbeck 2\, Preußisch Oldendorf
ORGANIZER;CN=Rita Tscherpel:mailto:rita.tscherpel@gmx.de
SEQUENCE:0
SUMMARY:Spieletreff im Haus des Gastes in Bad Holzhausen
UID:e_101178153_iv4
URL:http://pages.destination.one/de/teutonavigator/streaming/detail/Event/e
 _101178153/spieletreff-im-haus-des-gastes-in-bad-holzhausen
END:VEVENT
BEGIN:VEVENT
CATEGORIES:Geselligkeit/Spiele/Treffen
DESCRIPTION:\n\nmehr Informationen unter http://pages.destination.one/de/te
 utonavigator/streaming/detail/Event/e_101178153/spieletreff-im-haus-des-ga
 stes-in-bad-holzhausen
DTEND;TZID=Europe/Berlin:20260325T235900
DTSTAMP:20260420T093607Z
DTSTART;TZID=Europe/Berlin:20260325T160000
GEO:52.286531;8.532777
LOCATION:Haus des Gastes Bad Holzhausen\, Hudenbeck 2\, Preußisch Oldendorf
ORGANIZER;CN=Rita Tscherpel:mailto:rita.tscherpel@gmx.de
SEQUENCE:0
SUMMARY:Spieletreff im Haus des Gastes in Bad Holzhausen
UID:e_101178153_iv5
URL:http://pages.destination.one/de/teutonavigator/streaming/detail/Event/e
 _101178153/spieletreff-im-haus-des-gastes-in-bad-holzhausen
END:VEVENT
BEGIN:VEVENT
CATEGORIES:Geselligkeit/Spiele/Treffen
DESCRIPTION:\n\nmehr Informationen unter http://pages.destination.one/de/te
 utonavigator/streaming/detail/Event/e_101178153/spieletreff-im-haus-des-ga
 stes-in-bad-holzhausen
DTEND;TZID=Europe/Berlin:20260401T235900
DTSTAMP:20260420T093607Z
DTSTART;TZID=Europe/Berlin:20260401T160000
GEO:52.286531;8.532777
LOCATION:Haus des Gastes Bad Holzhausen\, Hudenbeck 2\, Preußisch Oldendorf
ORGANIZER;CN=Rita Tscherpel:mailto:rita.tscherpel@gmx.de
SEQUENCE:0
SUMMARY:Spieletreff im Haus des Gastes in Bad Holzhausen
UID:e_101178153_iv6
URL:http://pages.destination.one/de/teutonavigator/streaming/detail/Event/e
 _101178153/spieletreff-im-haus-des-gastes-in-bad-holzhausen
END:VEVENT
BEGIN:VEVENT
CATEGORIES:Geselligkeit/Spiele/Treffen
DESCRIPTION:\n\nmehr Informationen unter http://pages.destination.one/de/te
 utonavigator/streaming/detail/Event/e_101178153/spieletreff-im-haus-des-ga
 stes-in-bad-holzhausen
DTEND;TZID=Europe/Berlin:20260422T235900
DTSTAMP:20260420T093607Z
DTSTART;TZID=Europe/Berlin:20260422T160000
GEO:52.286531;8.532777
LOCATION:Haus des Gastes Bad Holzhausen\, Hudenbeck 2\, Preußisch Oldendorf
ORGANIZER;CN=Rita Tscherpel:mailto:rita.tscherpel@gmx.de
SEQUENCE:0
SUMMARY:Spieletreff im Haus des Gastes in Bad Holzhausen
UID:e_101178153_iv7
URL:http://pages.destination.one/de/teutonavigator/streaming/detail/Event/e
 _101178153/spieletreff-im-haus-des-gastes-in-bad-holzhausen
END:VEVENT
BEGIN:VEVENT
CATEGORIES:Geselligkeit/Spiele/Treffen
DESCRIPTION:\n\nmehr Informationen unter http://pages.destination.one/de/te
 utonavigator/streaming/detail/Event/e_101178153/spieletreff-im-haus-des-ga
 stes-in-bad-holzhausen
DTEND;TZID=Europe/Berlin:20260429T235900
DTSTAMP:20260420T093607Z
DTSTART;TZID=Europe/Berlin:20260429T160000
GEO:52.286531;8.532777
LOCATION:Haus des Gastes Bad Holzhausen\, Hudenbeck 2\, Preußisch Oldendorf
ORGANIZER;CN=Rita Tscherpel:mailto:rita.tscherpel@gmx.de
SEQUENCE:0
SUMMARY:Spieletreff im Haus des Gastes in Bad Holzhausen
UID:e_101178153_iv8
URL:http://pages.destination.one/de/teutonavigator/streaming/detail/Event/e
 _101178153/spieletreff-im-haus-des-gastes-in-bad-holzhausen
END:VEVENT
BEGIN:VEVENT
CATEGORIES:Geselligkeit/Spiele/Treffen
DESCRIPTION:\n\nmehr Informationen unter http://pages.destination.one/de/te
 utonavigator/streaming/detail/Event/e_101178153/spieletreff-im-haus-des-ga
 stes-in-bad-holzhausen
DTEND;TZID=Europe/Berlin:20260506T235900
DTSTAMP:20260420T093607Z
DTSTART;TZID=Europe/Berlin:20260506T160000
GEO:52.286531;8.532777
LOCATION:Haus des Gastes Bad Holzhausen\, Hudenbeck 2\, Preußisch Oldendorf
ORGANIZER;CN=Rita Tscherpel:mailto:rita.tscherpel@gmx.de
SEQUENCE:0
SUMMARY:Spieletreff im Haus des Gastes in Bad Holzhausen
UID:e_101178153_iv9
URL:http://pages.destination.one/de/teutonavigator/streaming/detail/Event/e
 _101178153/spieletreff-im-haus-des-gastes-in-bad-holzhausen
END:VEVENT
BEGIN:VEVENT
CATEGORIES:Geselligkeit/Spiele/Treffen
DESCRIPTION:\n\nmehr Informationen unter http://pages.destination.one/de/te
 utonavigator/streaming/detail/Event/e_101178153/spieletreff-im-haus-des-ga
 stes-in-bad-holzhausen
DTEND;TZID=Europe/Berlin:20260527T235900
DTSTAMP:20260420T093607Z
DTSTART;TZID=Europe/Berlin:20260527T160000
GEO:52.286531;8.532777
LOCATION:Haus des Gastes Bad Holzhausen\, Hudenbeck 2\, Preußisch Oldendorf
ORGANIZER;CN=Rita Tscherpel:mailto:rita.tscherpel@gmx.de
SEQUENCE:0
SUMMARY:Spieletreff im Haus des Gastes in Bad Holzhausen
UID:e_101178153_iv10
URL:http://pages.destination.one/de/teutonavigator/streaming/detail/Event/e
 _101178153/spieletreff-im-haus-des-gastes-in-bad-holzhausen
END:VEVENT
BEGIN:VEVENT
CATEGORIES:Geselligkeit/Spiele/Treffen
DESCRIPTION:\n\nmehr Informationen unter http://pages.destination.one/de/te
 utonavigator/streaming/detail/Event/e_101178153/spieletreff-im-haus-des-ga
 stes-in-bad-holzhausen
DTEND;TZID=Europe/Berlin:20260603T235900
DTSTAMP:20260420T093607Z
DTSTART;TZID=Europe/Berlin:20260603T160000
GEO:52.286531;8.532777
LOCATION:Haus des Gastes Bad Holzhausen\, Hudenbeck 2\, Preußisch Oldendorf
ORGANIZER;CN=Rita Tscherpel:mailto:rita.tscherpel@gmx.de
SEQUENCE:0
SUMMARY:Spieletreff im Haus des Gastes in Bad Holzhausen
UID:e_101178153_iv11
URL:http://pages.destination.one/de/teutonavigator/streaming/detail/Event/e
 _101178153/spieletreff-im-haus-des-gastes-in-bad-holzhausen
END:VEVENT
BEGIN:VEVENT
CATEGORIES:Geselligkeit/Spiele/Treffen
DESCRIPTION:\n\nmehr Informationen unter http://pages.destination.one/de/te
 utonavigator/streaming/detail/Event/e_101178153/spieletreff-im-haus-des-ga
 stes-in-bad-holzhausen
DTEND;TZID=Europe/Berlin:20260624T235900
DTSTAMP:20260420T093607Z
DTSTART;TZID=Europe/Berlin:20260624T160000
GEO:52.286531;8.532777
LOCATION:Haus des Gastes Bad Holzhausen\, Hudenbeck 2\, Preußisch Oldendorf
ORGANIZER;CN=Rita Tscherpel:mailto:rita.tscherpel@gmx.de
SEQUENCE:0
SUMMARY:Spieletreff im Haus des Gastes in Bad Holzhausen
UID:e_101178153_iv12
URL:http://pages.destination.one/de/teutonavigator/streaming/detail/Event/e
 _101178153/spieletreff-im-haus-des-gastes-in-bad-holzhausen
END:VEVENT
BEGIN:VEVENT
CATEGORIES:Geselligkeit/Spiele/Treffen
DESCRIPTION:\n\nmehr Informationen unter http://pages.destination.one/de/te
 utonavigator/streaming/detail/Event/e_101178153/spieletreff-im-haus-des-ga
 stes-in-bad-holzhausen
DTEND;TZID=Europe/Berlin:20260701T235900
DTSTAMP:20260420T093607Z
DTSTART;TZID=Europe/Berlin:20260701T160000
GEO:52.286531;8.532777
LOCATION:Haus des Gastes Bad Holzhausen\, Hudenbeck 2\, Preußisch Oldendorf
ORGANIZER;CN=Rita Tscherpel:mailto:rita.tscherpel@gmx.de
SEQUENCE:0
SUMMARY:Spieletreff im Haus des Gastes in Bad Holzhausen
UID:e_101178153_iv13
URL:http://pages.destination.one/de/teutonavigator/streaming/detail/Event/e
 _101178153/spieletreff-im-haus-des-gastes-in-bad-holzhausen
END:VEVENT
BEGIN:VEVENT
CATEGORIES:Geselligkeit/Spiele/Treffen
DESCRIPTION:\n\nmehr Informationen unter http://pages.destination.one/de/te
 utonavigator/streaming/detail/Event/e_101178153/spieletreff-im-haus-des-ga
 stes-in-bad-holzhausen
DTEND;TZID=Europe/Berlin:20260722T235900
DTSTAMP:20260420T093607Z
DTSTART;TZID=Europe/Berlin:20260722T160000
GEO:52.286531;8.532777
LOCATION:Haus des Gastes Bad Holzhausen\, Hudenbeck 2\, Preußisch Oldendorf
ORGANIZER;CN=Rita Tscherpel:mailto:rita.tscherpel@gmx.de
SEQUENCE:0
SUMMARY:Spieletreff im Haus des Gastes in Bad Holzhausen
UID:e_101178153_iv14
URL:http://pages.destination.one/de/teutonavigator/streaming/detail/Event/e
 _101178153/spieletreff-im-haus-des-gastes-in-bad-holzhausen
END:VEVENT
BEGIN:VEVENT
CATEGORIES:Geselligkeit/Spiele/Treffen
DESCRIPTION:\n\nmehr Informationen unter http://pages.destination.one/de/te
 utonavigator/streaming/detail/Event/e_101178153/spieletreff-im-haus-des-ga
 stes-in-bad-holzhausen
DTEND;TZID=Europe/Berlin:20260729T235900
DTSTAMP:20260420T093607Z
DTSTART;TZID=Europe/Berlin:20260729T160000
GEO:52.286531;8.532777
LOCATION:Haus des Gastes Bad Holzhausen\, Hudenbeck 2\, Preußisch Oldendorf
ORGANIZER;CN=Rita Tscherpel:mailto:rita.tscherpel@gmx.de
SEQUENCE:0
SUMMARY:Spieletreff im Haus des Gastes in Bad Holzhausen
UID:e_101178153_iv15
URL:http://pages.destination.one/de/teutonavigator/streaming/detail/Event/e
 _101178153/spieletreff-im-haus-des-gastes-in-bad-holzhausen
END:VEVENT
BEGIN:VEVENT
CATEGORIES:Geselligkeit/Spiele/Treffen
DESCRIPTION:\n\nmehr Informationen unter http://pages.destination.one/de/te
 utonavigator/streaming/detail/Event/e_101178153/spieletreff-im-haus-des-ga
 stes-in-bad-holzhausen
DTEND;TZID=Europe/Berlin:20260805T235900
DTSTAMP:20260420T093607Z
DTSTART;TZID=Europe/Berlin:20260805T160000
GEO:52.286531;8.532777
LOCATION:Haus des Gastes Bad Holzhausen\, Hudenbeck 2\, Preußisch Oldendorf
ORGANIZER;CN=Rita Tscherpel:mailto:rita.tscherpel@gmx.de
SEQUENCE:0
SUMMARY:Spieletreff im Haus des Gastes in Bad Holzhausen
UID:e_101178153_iv16
URL:http://pages.destination.one/de/teutonavigator/streaming/detail/Event/e
 _101178153/spieletreff-im-haus-des-gastes-in-bad-holzhausen
END:VEVENT
BEGIN:VEVENT
CATEGORIES:Geselligkeit/Spiele/Treffen
DESCRIPTION:\n\nmehr Informationen unter http://pages.destination.one/de/te
 utonavigator/streaming/detail/Event/e_101178153/spieletreff-im-haus-des-ga
 stes-in-bad-holzhausen
DTEND;TZID=Europe/Berlin:20260826T235900
DTSTAMP:20260420T093607Z
DTSTART;TZID=Europe/Berlin:20260826T160000
GEO:52.286531;8.532777
LOCATION:Haus des Gastes Bad Holzhausen\, Hudenbeck 2\, Preußisch Oldendorf
ORGANIZER;CN=Rita Tscherpel:mailto:rita.tscherpel@gmx.de
SEQUENCE:0
SUMMARY:Spieletreff im Haus des Gastes in Bad Holzhausen
UID:e_101178153_iv17
URL:http://pages.destination.one/de/teutonavigator/streaming/detail/Event/e
 _101178153/spieletreff-im-haus-des-gastes-in-bad-holzhausen
END:VEVENT
BEGIN:VEVENT
CATEGORIES:Geselligkeit/Spiele/Treffen
DESCRIPTION:\n\nmehr Informationen unter http://pages.destination.one/de/te
 utonavigator/streaming/detail/Event/e_101178153/spieletreff-im-haus-des-ga
 stes-in-bad-holzhausen
DTEND;TZID=Europe/Berlin:20260902T235900
DTSTAMP:20260420T093607Z
DTSTART;TZID=Europe/Berlin:20260902T160000
GEO:52.286531;8.532777
LOCATION:Haus des Gastes Bad Holzhausen\, Hudenbeck 2\, Preußisch Oldendorf
ORGANIZER;CN=Rita Tscherpel:mailto:rita.tscherpel@gmx.de
SEQUENCE:0
SUMMARY:Spieletreff im Haus des Gastes in Bad Holzhausen
UID:e_101178153_iv18
URL:http://pages.destination.one/de/teutonavigator/streaming/detail/Event/e
 _101178153/spieletreff-im-haus-des-gastes-in-bad-holzhausen
END:VEVENT
BEGIN:VEVENT
CATEGORIES:Geselligkeit/Spiele/Treffen
DESCRIPTION:\n\nmehr Informationen unter http://pages.destination.one/de/te
 utonavigator/streaming/detail/Event/e_101178153/spieletreff-im-haus-des-ga
 stes-in-bad-holzhausen
DTEND;TZID=Europe/Berlin:20260923T235900
DTSTAMP:20260420T093607Z
DTSTART;TZID=Europe/Berlin:20260923T160000
GEO:52.286531;8.532777
LOCATION:Haus des Gastes Bad Holzhausen\, Hudenbeck 2\, Preußisch Oldendorf
ORGANIZER;CN=Rita Tscherpel:mailto:rita.tscherpel@gmx.de
SEQUENCE:0
SUMMARY:Spieletreff im Haus des Gastes in Bad Holzhausen
UID:e_101178153_iv19
URL:http://pages.destination.one/de/teutonavigator/streaming/detail/Event/e
 _101178153/spieletreff-im-haus-des-gastes-in-bad-holzhausen
END:VEVENT
BEGIN:VEVENT
CATEGORIES:Geselligkeit/Spiele/Treffen
DESCRIPTION:\n\nmehr Informationen unter http://pages.destination.one/de/te
 utonavigator/streaming/detail/Event/e_101178153/spieletreff-im-haus-des-ga
 stes-in-bad-holzhausen
DTEND;TZID=Europe/Berlin:20260930T235900
DTSTAMP:20260420T093607Z
DTSTART;TZID=Europe/Berlin:20260930T160000
GEO:52.286531;8.532777
LOCATION:Haus des Gastes Bad Holzhausen\, Hudenbeck 2\, Preußisch Oldendorf
ORGANIZER;CN=Rita Tscherpel:mailto:rita.tscherpel@gmx.de
SEQUENCE:0
SUMMARY:Spieletreff im Haus des Gastes in Bad Holzhausen
UID:e_101178153_iv20
URL:http://pages.destination.one/de/teutonavigator/streaming/detail/Event/e
 _101178153/spieletreff-im-haus-des-gastes-in-bad-holzhausen
END:VEVENT
BEGIN:VEVENT
CATEGORIES:Geselligkeit/Spiele/Treffen
DESCRIPTION:\n\nmehr Informationen unter http://pages.destination.one/de/te
 utonavigator/streaming/detail/Event/e_101178153/spieletreff-im-haus-des-ga
 stes-in-bad-holzhausen
DTEND;TZID=Europe/Berlin:20261007T235900
DTSTAMP:20260420T093607Z
DTSTART;TZID=Europe/Berlin:20261007T160000
GEO:52.286531;8.532777
LOCATION:Haus des Gastes Bad Holzhausen\, Hudenbeck 2\, Preußisch Oldendorf
ORGANIZER;CN=Rita Tscherpel:mailto:rita.tscherpel@gmx.de
SEQUENCE:0
SUMMARY:Spieletreff im Haus des Gastes in Bad Holzhausen
UID:e_101178153_iv21
URL:http://pages.destination.one/de/teutonavigator/streaming/detail/Event/e
 _101178153/spieletreff-im-haus-des-gastes-in-bad-holzhausen
END:VEVENT
BEGIN:VEVENT
CATEGORIES:Geselligkeit/Spiele/Treffen
DESCRIPTION:\n\nmehr Informationen unter http://pages.destination.one/de/te
 utonavigator/streaming/detail/Event/e_101178153/spieletreff-im-haus-des-ga
 stes-in-bad-holzhausen
DTEND;TZID=Europe/Berlin:20261028T235900
DTSTAMP:20260420T093607Z
DTSTART;TZID=Europe/Berlin:20261028T160000
GEO:52.286531;8.532777
LOCATION:Haus des Gastes Bad Holzhausen\, Hudenbeck 2\, Preußisch Oldendorf
ORGANIZER;CN=Rita Tscherpel:mailto:rita.tscherpel@gmx.de
SEQUENCE:0
SUMMARY:Spieletreff im Haus des Gastes in Bad Holzhausen
UID:e_101178153_iv22
URL:http://pages.destination.one/de/teutonavigator/streaming/detail/Event/e
 _101178153/spieletreff-im-haus-des-gastes-in-bad-holzhausen
END:VEVENT
BEGIN:VEVENT
CATEGORIES:Geselligkeit/Spiele/Treffen
DESCRIPTION:\n\nmehr Informationen unter http://pages.destination.one/de/te
 utonavigator/streaming/detail/Event/e_101178153/spieletreff-im-haus-des-ga
 stes-in-bad-holzhausen
DTEND;TZID=Europe/Berlin:20261104T235900
DTSTAMP:20260420T093607Z
DTSTART;TZID=Europe/Berlin:20261104T160000
GEO:52.286531;8.532777
LOCATION:Haus des Gastes Bad Holzhausen\, Hudenbeck 2\, Preußisch Oldendorf
ORGANIZER;CN=Rita Tscherpel:mailto:rita.tscherpel@gmx.de
SEQUENCE:0
SUMMARY:Spieletreff im Haus des Gastes in Bad Holzhausen
UID:e_101178153_iv23
URL:http://pages.destination.one/de/teutonavigator/streaming/detail/Event/e
 _101178153/spieletreff-im-haus-des-gastes-in-bad-holzhausen
END:VEVENT
BEGIN:VEVENT
CATEGORIES:Geselligkeit/Spiele/Treffen
DESCRIPTION:\n\nmehr Informationen unter http://pages.destination.one/de/te
 utonavigator/streaming/detail/Event/e_101178153/spieletreff-im-haus-des-ga
 stes-in-bad-holzhausen
DTEND;TZID=Europe/Berlin:20261125T235900
DTSTAMP:20260420T093607Z
DTSTART;TZID=Europe/Berlin:20261125T160000
GEO:52.286531;8.532777
LOCATION:Haus des Gastes Bad Holzhausen\, Hudenbeck 2\, Preußisch Oldendorf
ORGANIZER;CN=Rita Tscherpel:mailto:rita.tscherpel@gmx.de
SEQUENCE:0
SUMMARY:Spieletreff im Haus des Gastes in Bad Holzhausen
UID:e_101178153_iv24
URL:http://pages.destination.one/de/teutonavigator/streaming/detail/Event/e
 _101178153/spieletreff-im-haus-des-gastes-in-bad-holzhausen
END:VEVENT
BEGIN:VEVENT
CATEGORIES:Geselligkeit/Spiele/Treffen
DESCRIPTION:\n\nmehr Informationen unter http://pages.destination.one/de/te
 utonavigator/streaming/detail/Event/e_101178153/spieletreff-im-haus-des-ga
 stes-in-bad-holzhausen
DTEND;TZID=Europe/Berlin:20261202T235900
DTSTAMP:20260420T093607Z
DTSTART;TZID=Europe/Berlin:20261202T160000
GEO:52.286531;8.532777
LOCATION:Haus des Gastes Bad Holzhausen\, Hudenbeck 2\, Preußisch Oldendorf
ORGANIZER;CN=Rita Tscherpel:mailto:rita.tscherpel@gmx.de
SEQUENCE:0
SUMMARY:Spieletreff im Haus des Gastes in Bad Holzhausen
UID:e_101178153_iv25
URL:http://pages.destination.one/de/teutonavigator/streaming/detail/Event/e
 _101178153/spieletreff-im-haus-des-gastes-in-bad-holzhausen
END:VEVENT
BEGIN:VEVENT
CATEGORIES:Geselligkeit/Spiele/Treffen
DESCRIPTION:\n\nmehr Informationen unter http://pages.destination.one/de/te
 utonavigator/streaming/detail/Event/e_101178153/spieletreff-im-haus-des-ga
 stes-in-bad-holzhausen
DTEND;TZID=Europe/Berlin:20261223T235900
DTSTAMP:20260420T093607Z
DTSTART;TZID=Europe/Berlin:20261223T160000
GEO:52.286531;8.532777
LOCATION:Haus des Gastes Bad Holzhausen\, Hudenbeck 2\, Preußisch Oldendorf
ORGANIZER;CN=Rita Tscherpel:mailto:rita.tscherpel@gmx.de
SEQUENCE:0
SUMMARY:Spieletreff im Haus des Gastes in Bad Holzhausen
UID:e_101178153_iv26
URL:http://pages.destination.one/de/teutonavigator/streaming/detail/Event/e
 _101178153/spieletreff-im-haus-des-gastes-in-bad-holzhausen
END:VEVENT
BEGIN:VEVENT
CATEGORIES:Geselligkeit/Spiele/Treffen
DESCRIPTION:\n\nmehr Informationen unter http://pages.destination.one/de/te
 utonavigator/streaming/detail/Event/e_101178153/spieletreff-im-haus-des-ga
 stes-in-bad-holzhausen
DTEND;TZID=Europe/Berlin:20261230T235900
DTSTAMP:20260420T093607Z
DTSTART;TZID=Europe/Berlin:20261230T160000
GEO:52.286531;8.532777
LOCATION:Haus des Gastes Bad Holzhausen\, Hudenbeck 2\, Preußisch Oldendorf
ORGANIZER;CN=Rita Tscherpel:mailto:rita.tscherpel@gmx.de
SEQUENCE:0
SUMMARY:Spieletreff im Haus des Gastes in Bad Holzhausen
UID:e_101178153_iv27
URL:http://pages.destination.one/de/teutonavigator/streaming/detail/Event/e
 _101178153/spieletreff-im-haus-des-gastes-in-bad-holzhausen
END:VEVENT
BEGIN:VTIMEZONE
TZID:Europe/Berlin
X-LIC-LOCATION:Europe/Berlin
BEGIN:DAYLIGHT
DTSTART:19700329T020000
RRULE:FREQ=YEARLY;BYDAY=-1SU;BYMONTH=3
TZNAME:CEST
TZOFFSETFROM:+0100
TZOFFSETTO:+0200
END:DAYLIGHT
BEGIN:STANDARD
DTSTART:19701025T030000
RRULE:FREQ=YEARLY;BYDAY=-1SU;BYMONTH=10
TZNAME:CET
TZOFFSETFROM:+0200
TZOFFSETTO:+0100
END:STANDARD
END:VTIMEZONE
END:VCALENDAR
