BEGIN:VCALENDAR
VERSION:2.0
PRODID:-//destination.one//NONSGML destination.meta API//DE
X-WR-CALDESC:A calendar powered by destination.meta
X-WR-CALNAME:teutonavigator Kalender via destination.meta
BEGIN:VEVENT
CATEGORIES:Familie und Kinder
CATEGORIES:Kinderprogramm
CATEGORIES:Konzert divers
DESCRIPTION:Um in die Intimsphäre eines anderen Menschen gegen dessen Wille
 n einzudringen\, braucht es nicht unbedingt körperliche Gewalt...\n\nmehr 
 Informationen unter http://pages.destination.one/de/teutonavigator/streami
 ng/detail/Event/e_101165433/nein-hei-t-nein-oder-14
DTEND;TZID=Europe/Berlin:20260417T111000
DTSTAMP:20260421T111219Z
DTSTART;TZID=Europe/Berlin:20260417T100000
GEO:51.939441;8.875006
LOCATION:Junges Theater - Kinder- und Jugendbühne\, Bahnhofstraße 1\, Detmo
 ld
ORGANIZER;CN=Landestheater Detmold:mailto:info@landestheater-detmold.de
SEQUENCE:0
SUMMARY:Nein heißt Nein\, oder...? [14+]
UID:e_101165433_iv0
URL:http://pages.destination.one/de/teutonavigator/streaming/detail/Event/e
 _101165433/nein-hei-t-nein-oder-14
END:VEVENT
BEGIN:VEVENT
CATEGORIES:Familie und Kinder
CATEGORIES:Kinderprogramm
CATEGORIES:Konzert divers
DESCRIPTION:Um in die Intimsphäre eines anderen Menschen gegen dessen Wille
 n einzudringen\, braucht es nicht unbedingt körperliche Gewalt...\n\nmehr 
 Informationen unter http://pages.destination.one/de/teutonavigator/streami
 ng/detail/Event/e_101165433/nein-hei-t-nein-oder-14
DTEND;TZID=Europe/Berlin:20260424T111000
DTSTAMP:20260421T111219Z
DTSTART;TZID=Europe/Berlin:20260424T100000
GEO:51.939441;8.875006
LOCATION:Junges Theater - Kinder- und Jugendbühne\, Bahnhofstraße 1\, Detmo
 ld
ORGANIZER;CN=Landestheater Detmold:mailto:info@landestheater-detmold.de
SEQUENCE:0
SUMMARY:Nein heißt Nein\, oder...? [14+]
UID:e_101165433_iv1
URL:http://pages.destination.one/de/teutonavigator/streaming/detail/Event/e
 _101165433/nein-hei-t-nein-oder-14
END:VEVENT
BEGIN:VEVENT
CATEGORIES:Familie und Kinder
CATEGORIES:Kinderprogramm
CATEGORIES:Konzert divers
DESCRIPTION:Um in die Intimsphäre eines anderen Menschen gegen dessen Wille
 n einzudringen\, braucht es nicht unbedingt körperliche Gewalt...\n\nmehr 
 Informationen unter http://pages.destination.one/de/teutonavigator/streami
 ng/detail/Event/e_101165433/nein-hei-t-nein-oder-14
DTEND;TZID=Europe/Berlin:20260427T111000
DTSTAMP:20260421T111219Z
DTSTART;TZID=Europe/Berlin:20260427T100000
GEO:51.939441;8.875006
LOCATION:Junges Theater - Kinder- und Jugendbühne\, Bahnhofstraße 1\, Detmo
 ld
ORGANIZER;CN=Landestheater Detmold:mailto:info@landestheater-detmold.de
SEQUENCE:0
SUMMARY:Nein heißt Nein\, oder...? [14+]
UID:e_101165433_iv2
URL:http://pages.destination.one/de/teutonavigator/streaming/detail/Event/e
 _101165433/nein-hei-t-nein-oder-14
END:VEVENT
BEGIN:VEVENT
CATEGORIES:Familie und Kinder
CATEGORIES:Kinderprogramm
CATEGORIES:Konzert divers
DESCRIPTION:Um in die Intimsphäre eines anderen Menschen gegen dessen Wille
 n einzudringen\, braucht es nicht unbedingt körperliche Gewalt...\n\nmehr 
 Informationen unter http://pages.destination.one/de/teutonavigator/streami
 ng/detail/Event/e_101165433/nein-hei-t-nein-oder-14
DTEND;TZID=Europe/Berlin:20260519T111000
DTSTAMP:20260421T111219Z
DTSTART;TZID=Europe/Berlin:20260519T100000
GEO:51.939441;8.875006
LOCATION:Junges Theater - Kinder- und Jugendbühne\, Bahnhofstraße 1\, Detmo
 ld
ORGANIZER;CN=Landestheater Detmold:mailto:info@landestheater-detmold.de
SEQUENCE:0
SUMMARY:Nein heißt Nein\, oder...? [14+]
UID:e_101165433_iv3
URL:http://pages.destination.one/de/teutonavigator/streaming/detail/Event/e
 _101165433/nein-hei-t-nein-oder-14
END:VEVENT
BEGIN:VEVENT
CATEGORIES:Familie und Kinder
CATEGORIES:Kinderprogramm
CATEGORIES:Konzert divers
DESCRIPTION:Um in die Intimsphäre eines anderen Menschen gegen dessen Wille
 n einzudringen\, braucht es nicht unbedingt körperliche Gewalt...\n\nmehr 
 Informationen unter http://pages.destination.one/de/teutonavigator/streami
 ng/detail/Event/e_101165433/nein-hei-t-nein-oder-14
DTEND;TZID=Europe/Berlin:20260602T111000
DTSTAMP:20260421T111219Z
DTSTART;TZID=Europe/Berlin:20260602T100000
GEO:51.939441;8.875006
LOCATION:Junges Theater - Kinder- und Jugendbühne\, Bahnhofstraße 1\, Detmo
 ld
ORGANIZER;CN=Landestheater Detmold:mailto:info@landestheater-detmold.de
SEQUENCE:0
SUMMARY:Nein heißt Nein\, oder...? [14+]
UID:e_101165433_iv4
URL:http://pages.destination.one/de/teutonavigator/streaming/detail/Event/e
 _101165433/nein-hei-t-nein-oder-14
END:VEVENT
BEGIN:VEVENT
CATEGORIES:Familie und Kinder
CATEGORIES:Kinderprogramm
CATEGORIES:Konzert divers
DESCRIPTION:Um in die Intimsphäre eines anderen Menschen gegen dessen Wille
 n einzudringen\, braucht es nicht unbedingt körperliche Gewalt...\n\nmehr 
 Informationen unter http://pages.destination.one/de/teutonavigator/streami
 ng/detail/Event/e_101165433/nein-hei-t-nein-oder-14
DTEND;TZID=Europe/Berlin:20260603T111000
DTSTAMP:20260421T111219Z
DTSTART;TZID=Europe/Berlin:20260603T100000
GEO:51.939441;8.875006
LOCATION:Junges Theater - Kinder- und Jugendbühne\, Bahnhofstraße 1\, Detmo
 ld
ORGANIZER;CN=Landestheater Detmold:mailto:info@landestheater-detmold.de
SEQUENCE:0
SUMMARY:Nein heißt Nein\, oder...? [14+]
UID:e_101165433_iv5
URL:http://pages.destination.one/de/teutonavigator/streaming/detail/Event/e
 _101165433/nein-hei-t-nein-oder-14
END:VEVENT
BEGIN:VTIMEZONE
TZID:Europe/Berlin
X-LIC-LOCATION:Europe/Berlin
BEGIN:DAYLIGHT
DTSTART:19700329T020000
RRULE:FREQ=YEARLY;BYDAY=-1SU;BYMONTH=3
TZNAME:CEST
TZOFFSETFROM:+0100
TZOFFSETTO:+0200
END:DAYLIGHT
BEGIN:STANDARD
DTSTART:19701025T030000
RRULE:FREQ=YEARLY;BYDAY=-1SU;BYMONTH=10
TZNAME:CET
TZOFFSETFROM:+0200
TZOFFSETTO:+0100
END:STANDARD
END:VTIMEZONE
END:VCALENDAR
