BEGIN:VCALENDAR
VERSION:2.0
PRODID:-//destination.one//NONSGML destination.meta API//DE
X-WR-CALDESC:A calendar powered by destination.meta
X-WR-CALNAME:teutonavigator Kalender via destination.meta
BEGIN:VEVENT
CATEGORIES:Brauchtum/Kultur
DESCRIPTION:\n\nmehr Informationen unter http://pages.destination.one/de/te
 utonavigator/streaming/detail/Event/e_101164824/icarus-f-ked-up-tickets-be
 r-tourist-info-gt
DTEND;TZID=Europe/Berlin:20260506T235900
DTSTAMP:20260421T181834Z
DTSTART;TZID=Europe/Berlin:20260506T110000
GEO:51.906126;8.370565
LOCATION:Theater Gütersloh\, Hans-Werner-Henze-Platz 1\, Gütersloh
SEQUENCE:0
SUMMARY:Icarus – F**ked Up! - Tickets über Tourist-Info GT
UID:e_101164824_iv0
URL:http://pages.destination.one/de/teutonavigator/streaming/detail/Event/e
 _101164824/icarus-f-ked-up-tickets-ber-tourist-info-gt
END:VEVENT
BEGIN:VTIMEZONE
TZID:Europe/Berlin
X-LIC-LOCATION:Europe/Berlin
BEGIN:DAYLIGHT
DTSTART:19700329T020000
RRULE:FREQ=YEARLY;BYDAY=-1SU;BYMONTH=3
TZNAME:CEST
TZOFFSETFROM:+0100
TZOFFSETTO:+0200
END:DAYLIGHT
BEGIN:STANDARD
DTSTART:19701025T030000
RRULE:FREQ=YEARLY;BYDAY=-1SU;BYMONTH=10
TZNAME:CET
TZOFFSETFROM:+0200
TZOFFSETTO:+0100
END:STANDARD
END:VTIMEZONE
END:VCALENDAR
