BEGIN:VCALENDAR
VERSION:2.0
PRODID:-//destination.one//NONSGML destination.meta API//DE
X-WR-CALDESC:A calendar powered by destination.meta
X-WR-CALNAME:teutonavigator Kalender via destination.meta
BEGIN:VEVENT
CATEGORIES:Konzert divers
DESCRIPTION:\n\nmehr Informationen unter http://pages.destination.one/de/te
 utonavigator/streaming/detail/Event/e_101164816/nordwestdeutsche-philharmo
 nie-adrien-perruchon-sonic-art-saxophonquartett
DTEND;TZID=Europe/Berlin:20260422T235900
DTSTAMP:20260423T083050Z
DTSTART;TZID=Europe/Berlin:20260422T200000
GEO:51.906432;8.371196
LOCATION:Stadthalle Gütersloh\, Friedrichstraße 10\, Gütersloh
SEQUENCE:0
SUMMARY:Nordwestdeutsche Philharmonie | Adrien Perruchon | sonic.art Saxoph
 onquartett -
UID:e_101164816_iv0
URL:http://pages.destination.one/de/teutonavigator/streaming/detail/Event/e
 _101164816/nordwestdeutsche-philharmonie-adrien-perruchon-sonic-art-saxoph
 onquartett
END:VEVENT
BEGIN:VTIMEZONE
TZID:Europe/Berlin
X-LIC-LOCATION:Europe/Berlin
BEGIN:DAYLIGHT
DTSTART:19700329T020000
RRULE:FREQ=YEARLY;BYDAY=-1SU;BYMONTH=3
TZNAME:CEST
TZOFFSETFROM:+0100
TZOFFSETTO:+0200
END:DAYLIGHT
BEGIN:STANDARD
DTSTART:19701025T030000
RRULE:FREQ=YEARLY;BYDAY=-1SU;BYMONTH=10
TZNAME:CET
TZOFFSETFROM:+0200
TZOFFSETTO:+0100
END:STANDARD
END:VTIMEZONE
END:VCALENDAR
