BEGIN:VCALENDAR
VERSION:2.0
PRODID:-//destination.one//NONSGML destination.meta API//DE
X-WR-CALDESC:A calendar powered by destination.meta
X-WR-CALNAME:teutonavigator Kalender via destination.meta
BEGIN:VEVENT
CATEGORIES:Brauchtum/Kultur
DESCRIPTION:Wenn Worte reden könnten oder: 14 Tage im Leben einer Stunde\n\
 nmehr Informationen unter http://pages.destination.one/de/teutonavigator/s
 treaming/detail/Event/e_101164809/jochen-malmsheimer
DTEND;TZID=Europe/Berlin:20260416T235900
DTSTAMP:20260422T120119Z
DTSTART;TZID=Europe/Berlin:20260416T200000
GEO:51.906432;8.371196
LOCATION:Stadthalle Gütersloh\, Friedrichstraße 10\, Gütersloh
SEQUENCE:0
SUMMARY:Jochen Malmsheimer
UID:e_101164809_iv0
URL:http://pages.destination.one/de/teutonavigator/streaming/detail/Event/e
 _101164809/jochen-malmsheimer
END:VEVENT
BEGIN:VTIMEZONE
TZID:Europe/Berlin
X-LIC-LOCATION:Europe/Berlin
BEGIN:DAYLIGHT
DTSTART:19700329T020000
RRULE:FREQ=YEARLY;BYDAY=-1SU;BYMONTH=3
TZNAME:CEST
TZOFFSETFROM:+0100
TZOFFSETTO:+0200
END:DAYLIGHT
BEGIN:STANDARD
DTSTART:19701025T030000
RRULE:FREQ=YEARLY;BYDAY=-1SU;BYMONTH=10
TZNAME:CET
TZOFFSETFROM:+0200
TZOFFSETTO:+0100
END:STANDARD
END:VTIMEZONE
END:VCALENDAR
