BEGIN:VCALENDAR
VERSION:2.0
PRODID:-//destination.one//NONSGML destination.meta API//DE
X-WR-CALDESC:A calendar powered by destination.meta
X-WR-CALNAME:teutonavigator Kalender via destination.meta
BEGIN:VEVENT
CATEGORIES:Sonstiges
CATEGORIES:Brauchtum/Kultur
CATEGORIES:Familie und Kinder
DESCRIPTION:\n\nmehr Informationen unter http://pages.destination.one/de/te
 utonavigator/streaming/detail/Event/e_101164742/theater-picknick-anmeldung
 -erforderlich
DTEND;TZID=Europe/Berlin:20260301T235900
DTSTAMP:20260421T140600Z
DTSTART;TZID=Europe/Berlin:20260301T150000
GEO:51.906126;8.370565
LOCATION:Theater Gütersloh\, Hans-Werner-Henze-Platz 1\, Gütersloh
SEQUENCE:0
SUMMARY:Theater-Picknick - Anmeldung erforderlich
UID:e_101164742_iv0
URL:http://pages.destination.one/de/teutonavigator/streaming/detail/Event/e
 _101164742/theater-picknick-anmeldung-erforderlich
END:VEVENT
BEGIN:VEVENT
CATEGORIES:Sonstiges
CATEGORIES:Brauchtum/Kultur
CATEGORIES:Familie und Kinder
DESCRIPTION:\n\nmehr Informationen unter http://pages.destination.one/de/te
 utonavigator/streaming/detail/Event/e_101164742/theater-picknick-anmeldung
 -erforderlich
DTEND;TZID=Europe/Berlin:20260329T235900
DTSTAMP:20260421T140600Z
DTSTART;TZID=Europe/Berlin:20260329T150000
GEO:51.906126;8.370565
LOCATION:Theater Gütersloh\, Hans-Werner-Henze-Platz 1\, Gütersloh
SEQUENCE:0
SUMMARY:Theater-Picknick - Anmeldung erforderlich
UID:e_101164742_iv1
URL:http://pages.destination.one/de/teutonavigator/streaming/detail/Event/e
 _101164742/theater-picknick-anmeldung-erforderlich
END:VEVENT
BEGIN:VEVENT
CATEGORIES:Sonstiges
CATEGORIES:Brauchtum/Kultur
CATEGORIES:Familie und Kinder
DESCRIPTION:\n\nmehr Informationen unter http://pages.destination.one/de/te
 utonavigator/streaming/detail/Event/e_101164742/theater-picknick-anmeldung
 -erforderlich
DTEND;TZID=Europe/Berlin:20260419T235900
DTSTAMP:20260421T140600Z
DTSTART;TZID=Europe/Berlin:20260419T150000
GEO:51.906126;8.370565
LOCATION:Theater Gütersloh\, Hans-Werner-Henze-Platz 1\, Gütersloh
SEQUENCE:0
SUMMARY:Theater-Picknick - Anmeldung erforderlich
UID:e_101164742_iv2
URL:http://pages.destination.one/de/teutonavigator/streaming/detail/Event/e
 _101164742/theater-picknick-anmeldung-erforderlich
END:VEVENT
BEGIN:VEVENT
CATEGORIES:Sonstiges
CATEGORIES:Brauchtum/Kultur
CATEGORIES:Familie und Kinder
DESCRIPTION:\n\nmehr Informationen unter http://pages.destination.one/de/te
 utonavigator/streaming/detail/Event/e_101164742/theater-picknick-anmeldung
 -erforderlich
DTEND;TZID=Europe/Berlin:20260517T235900
DTSTAMP:20260421T140600Z
DTSTART;TZID=Europe/Berlin:20260517T150000
GEO:51.906126;8.370565
LOCATION:Theater Gütersloh\, Hans-Werner-Henze-Platz 1\, Gütersloh
SEQUENCE:0
SUMMARY:Theater-Picknick - Anmeldung erforderlich
UID:e_101164742_iv3
URL:http://pages.destination.one/de/teutonavigator/streaming/detail/Event/e
 _101164742/theater-picknick-anmeldung-erforderlich
END:VEVENT
BEGIN:VTIMEZONE
TZID:Europe/Berlin
X-LIC-LOCATION:Europe/Berlin
BEGIN:DAYLIGHT
DTSTART:19700329T020000
RRULE:FREQ=YEARLY;BYDAY=-1SU;BYMONTH=3
TZNAME:CEST
TZOFFSETFROM:+0100
TZOFFSETTO:+0200
END:DAYLIGHT
BEGIN:STANDARD
DTSTART:19701025T030000
RRULE:FREQ=YEARLY;BYDAY=-1SU;BYMONTH=10
TZNAME:CET
TZOFFSETFROM:+0200
TZOFFSETTO:+0100
END:STANDARD
END:VTIMEZONE
END:VCALENDAR
