BEGIN:VCALENDAR
VERSION:2.0
PRODID:-//destination.one//NONSGML destination.meta API//DE
X-WR-CALDESC:A calendar powered by destination.meta
X-WR-CALNAME:teutonavigator Kalender via destination.meta
BEGIN:VEVENT
CATEGORIES:Folk
DESCRIPTION:\n\nmehr Informationen unter http://pages.destination.one/de/te
 utonavigator/streaming/detail/Event/e_101164579/scheunenfolk-tante-friedl-
 usa-d
DTEND;TZID=Europe/Berlin:20260711T235900
DTSTAMP:20260421T174615Z
DTSTART;TZID=Europe/Berlin:20260711T200000
GEO:51.521918;8.699843
LOCATION:Heimatscheune\, Rosenstraße 16\, Bad Wünnenberg
ORGANIZER;CN=KuK Kunst & Kultur:http://www.kuk-bad-wuennenberg.de/
SEQUENCE:0
SUMMARY:ScheunenFolk: "Tante Friedl" (USA/D)
UID:e_101164579_iv0
URL:http://pages.destination.one/de/teutonavigator/streaming/detail/Event/e
 _101164579/scheunenfolk-tante-friedl-usa-d
END:VEVENT
BEGIN:VTIMEZONE
TZID:Europe/Berlin
X-LIC-LOCATION:Europe/Berlin
BEGIN:DAYLIGHT
DTSTART:19700329T020000
RRULE:FREQ=YEARLY;BYDAY=-1SU;BYMONTH=3
TZNAME:CEST
TZOFFSETFROM:+0100
TZOFFSETTO:+0200
END:DAYLIGHT
BEGIN:STANDARD
DTSTART:19701025T030000
RRULE:FREQ=YEARLY;BYDAY=-1SU;BYMONTH=10
TZNAME:CET
TZOFFSETFROM:+0200
TZOFFSETTO:+0100
END:STANDARD
END:VTIMEZONE
END:VCALENDAR
