BEGIN:VCALENDAR
VERSION:2.0
PRODID:-//destination.one//NONSGML destination.meta API//DE
X-WR-CALDESC:A calendar powered by destination.meta
X-WR-CALNAME:teutonavigator Kalender via destination.meta
BEGIN:VEVENT
CATEGORIES:Sonstiges
DESCRIPTION:Von Hagebutten-Smoothie & Löwenzahnwurzelkaffee bis Heilmittel 
 wie Oxymel & Meerrettich-Honig. Mit Exkursion durch Hecken & Wiesen voller
  heimischer „Superfoods\n\nmehr Informationen unter http://pages.destinati
 on.one/de/teutonavigator/streaming/detail/Event/e_101163993/wildfr-chte-un
 d-wurzelseminar
DTEND;TZID=Europe/Berlin:20261010T170000
DTSTAMP:20260421T154831Z
DTSTART;TZID=Europe/Berlin:20261010T110000
GEO:51.895681;8.869338
LOCATION:NABU Umweltbildungsstätte Rolfscher Hof\, Hahnbruchweg 5\, Detmold
ORGANIZER;CN=NABU Umweltbildungsstätte Rolfscher Hof:mailto:info@rolfscher-
 hof.de
SEQUENCE:0
SUMMARY:Wildfrüchte- und Wurzelseminar
UID:e_101163993_iv0
URL:http://pages.destination.one/de/teutonavigator/streaming/detail/Event/e
 _101163993/wildfr-chte-und-wurzelseminar
END:VEVENT
BEGIN:VTIMEZONE
TZID:Europe/Berlin
X-LIC-LOCATION:Europe/Berlin
BEGIN:DAYLIGHT
DTSTART:19700329T020000
RRULE:FREQ=YEARLY;BYDAY=-1SU;BYMONTH=3
TZNAME:CEST
TZOFFSETFROM:+0100
TZOFFSETTO:+0200
END:DAYLIGHT
BEGIN:STANDARD
DTSTART:19701025T030000
RRULE:FREQ=YEARLY;BYDAY=-1SU;BYMONTH=10
TZNAME:CET
TZOFFSETFROM:+0200
TZOFFSETTO:+0100
END:STANDARD
END:VTIMEZONE
END:VCALENDAR
