BEGIN:VCALENDAR
VERSION:2.0
PRODID:-//destination.one//NONSGML destination.meta API//DE
X-WR-CALDESC:A calendar powered by destination.meta
X-WR-CALNAME:teutonavigator Kalender via destination.meta
BEGIN:VEVENT
CATEGORIES:Konzert divers
DESCRIPTION:Werke von Bonis\, Connesson\, Poulenc\, Burton u.a.\nKonzertein
 führung durch Laura Christina Wikert um 18.30 Uhr im Gartensaal\n\nmehr In
 formationen unter http://pages.destination.one/de/teutonavigator/streaming
 /detail/Event/e_101163991/6-meisterkonzert-emily-beynon-fl-te-andrew-west-
 klavier
DTEND;TZID=Europe/Berlin:20260630T213000
DTSTAMP:20260421T204018Z
DTSTART;TZID=Europe/Berlin:20260630T193000
GEO:51.930861;8.876229
LOCATION:Hochschule für Musik\, Konzerthaus\, Neustadt 22\, Detmold
ORGANIZER;CN=Hochschule für Musik:mailto:info@hfm-detmold.de
SEQUENCE:0
SUMMARY:6. Meisterkonzert\nEmily Beynon\, Flöte\nAndrew West\, Klavier
UID:e_101163991_iv0
URL:http://pages.destination.one/de/teutonavigator/streaming/detail/Event/e
 _101163991/6-meisterkonzert-emily-beynon-fl-te-andrew-west-klavier
END:VEVENT
BEGIN:VTIMEZONE
TZID:Europe/Berlin
X-LIC-LOCATION:Europe/Berlin
BEGIN:DAYLIGHT
DTSTART:19700329T020000
RRULE:FREQ=YEARLY;BYDAY=-1SU;BYMONTH=3
TZNAME:CEST
TZOFFSETFROM:+0100
TZOFFSETTO:+0200
END:DAYLIGHT
BEGIN:STANDARD
DTSTART:19701025T030000
RRULE:FREQ=YEARLY;BYDAY=-1SU;BYMONTH=10
TZNAME:CET
TZOFFSETFROM:+0200
TZOFFSETTO:+0100
END:STANDARD
END:VTIMEZONE
END:VCALENDAR
