BEGIN:VCALENDAR
VERSION:2.0
PRODID:-//destination.one//NONSGML destination.meta API//DE
X-WR-CALDESC:A calendar powered by destination.meta
X-WR-CALNAME:teutonavigator Kalender via destination.meta
BEGIN:VEVENT
CATEGORIES:Familie und Kinder
CATEGORIES:Kinderprogramm
DESCRIPTION:An diesem Tag sind wir wieder von Kopf bis Fuß auf Familien ein
 gestellt. Gemeinsam mit vielen lokalen Akteuren feiern wir erneut den beli
 ebten „Tag der Weserren\n\nmehr Informationen unter http://pages.destinati
 on.one/de/teutonavigator/streaming/detail/Event/e_101163989/gro-es-familie
 nfest
DTEND;TZID=Europe/Berlin:20260621T180000
DTSTAMP:20260421T174913Z
DTSTART;TZID=Europe/Berlin:20260621T130000
GEO:52.021336;8.916211
LOCATION:Weserrenaissance-Museum Schloss Brake\, Schlossstraße 18\, Lemgo
ORGANIZER;CN=Weserrenaissance Museum Brake:mailto:info@museum-schloss-brake
 .de
SEQUENCE:0
SUMMARY:Großes Familienfest
UID:e_101163989_iv0
URL:http://pages.destination.one/de/teutonavigator/streaming/detail/Event/e
 _101163989/gro-es-familienfest
END:VEVENT
BEGIN:VTIMEZONE
TZID:Europe/Berlin
X-LIC-LOCATION:Europe/Berlin
BEGIN:DAYLIGHT
DTSTART:19700329T020000
RRULE:FREQ=YEARLY;BYDAY=-1SU;BYMONTH=3
TZNAME:CEST
TZOFFSETFROM:+0100
TZOFFSETTO:+0200
END:DAYLIGHT
BEGIN:STANDARD
DTSTART:19701025T030000
RRULE:FREQ=YEARLY;BYDAY=-1SU;BYMONTH=10
TZNAME:CET
TZOFFSETFROM:+0200
TZOFFSETTO:+0100
END:STANDARD
END:VTIMEZONE
END:VCALENDAR
