BEGIN:VCALENDAR
VERSION:2.0
PRODID:-//destination.one//NONSGML destination.meta API//DE
X-WR-CALDESC:A calendar powered by destination.meta
X-WR-CALNAME:teutonavigator Kalender via destination.meta
BEGIN:VEVENT
CATEGORIES:Stadtfest/Kirmes/Jahrmarkt
DESCRIPTION:\n\nmehr Informationen unter http://pages.destination.one/de/te
 utonavigator/streaming/detail/Event/e_101163986/bildst-rung-2026
DTEND;TZID=Europe/Berlin:20260522T235900
DTSTAMP:20260421T185939Z
DTSTART;TZID=Europe/Berlin:20260522T120000
GEO:51.936563;8.879834
LOCATION:Schlossplatz\, Schlossplatz\, Detmold
ORGANIZER;CN=Stadt Detmold KulturTeam:mailto:kulturteam@detmold.de
PRIORITY:4
RRULE:FREQ=DAILY;UNTIL=20260525T215900
SEQUENCE:0
SUMMARY:Bildstörung 2026
UID:e_101163986_iv0
URL:http://pages.destination.one/de/teutonavigator/streaming/detail/Event/e
 _101163986/bildst-rung-2026
END:VEVENT
BEGIN:VTIMEZONE
TZID:Europe/Berlin
X-LIC-LOCATION:Europe/Berlin
BEGIN:DAYLIGHT
DTSTART:19700329T020000
RRULE:FREQ=YEARLY;BYDAY=-1SU;BYMONTH=3
TZNAME:CEST
TZOFFSETFROM:+0100
TZOFFSETTO:+0200
END:DAYLIGHT
BEGIN:STANDARD
DTSTART:19701025T030000
RRULE:FREQ=YEARLY;BYDAY=-1SU;BYMONTH=10
TZNAME:CET
TZOFFSETFROM:+0200
TZOFFSETTO:+0100
END:STANDARD
END:VTIMEZONE
END:VCALENDAR
