BEGIN:VCALENDAR
VERSION:2.0
PRODID:-//destination.one//NONSGML destination.meta API//DE
X-WR-CALDESC:A calendar powered by destination.meta
X-WR-CALNAME:teutonavigator Kalender via destination.meta
BEGIN:VEVENT
CATEGORIES:Familie und Kinder
CATEGORIES:Ausstellung
DESCRIPTION:Für die einen sind sie Heimat\, Wahrzeichen und Kulturgenuss. F
 ür die anderen sind sie ein Dorn im Auge: alt\, unbequem\, teuer.\n\nmehr 
 Informationen unter http://pages.destination.one/de/teutonavigator/streami
 ng/detail/Event/e_101163949/liebe-oder-last-baustelle-denkmal
DTEND;TZID=Europe/Berlin:20260217T180000
DTSTAMP:20260421T111219Z
DTSTART;TZID=Europe/Berlin:20260217T100000
GEO:52.021336;8.916211
LOCATION:Weserrenaissance-Museum Schloss Brake\, Schlossstraße 18\, Lemgo
ORGANIZER;CN=Weserrenaissance Museum Brake:mailto:info@museum-schloss-brake
 .de
RRULE:FREQ=DAILY;UNTIL=20260705T160000
SEQUENCE:0
SUMMARY:Liebe oder Last – Baustelle Denkmal
UID:e_101163949_iv0
URL:http://pages.destination.one/de/teutonavigator/streaming/detail/Event/e
 _101163949/liebe-oder-last-baustelle-denkmal
END:VEVENT
BEGIN:VTIMEZONE
TZID:Europe/Berlin
X-LIC-LOCATION:Europe/Berlin
BEGIN:DAYLIGHT
DTSTART:19700329T020000
RRULE:FREQ=YEARLY;BYDAY=-1SU;BYMONTH=3
TZNAME:CEST
TZOFFSETFROM:+0100
TZOFFSETTO:+0200
END:DAYLIGHT
BEGIN:STANDARD
DTSTART:19701025T030000
RRULE:FREQ=YEARLY;BYDAY=-1SU;BYMONTH=10
TZNAME:CET
TZOFFSETFROM:+0200
TZOFFSETTO:+0100
END:STANDARD
END:VTIMEZONE
END:VCALENDAR
