BEGIN:VCALENDAR
VERSION:2.0
PRODID:-//destination.one//NONSGML destination.meta API//DE
X-WR-CALDESC:A calendar powered by destination.meta
X-WR-CALNAME:teutonavigator Kalender via destination.meta
BEGIN:VEVENT
CATEGORIES:Familie und Kinder
CATEGORIES:Kinderprogramm
CATEGORIES:Konzert divers
DESCRIPTION:Pettersson und Findus sind ein Herz und eine Seele und führen e
 in beschauliches Leben auf ihrem Hof...\n\nmehr Informationen unter http:/
 /pages.destination.one/de/teutonavigator/streaming/detail/Event/e_10116391
 6/pettersson-und-findus-und-der-hahn-im-korb-5
DTEND;TZID=Europe/Berlin:20260122T110000
DTSTAMP:20260421T155008Z
DTSTART;TZID=Europe/Berlin:20260122T100000
GEO:51.939441;8.875006
LOCATION:Junges Theater - Kinder- und Jugendbühne\, Bahnhofstraße 1\, Detmo
 ld
ORGANIZER;CN=Landestheater Detmold:mailto:info@landestheater-detmold.de
SEQUENCE:0
SUMMARY:Pettersson und Findus und der Hahn im Korb [5+]
UID:e_101163916_iv0
URL:http://pages.destination.one/de/teutonavigator/streaming/detail/Event/e
 _101163916/pettersson-und-findus-und-der-hahn-im-korb-5
END:VEVENT
BEGIN:VEVENT
CATEGORIES:Familie und Kinder
CATEGORIES:Kinderprogramm
CATEGORIES:Konzert divers
DESCRIPTION:Pettersson und Findus sind ein Herz und eine Seele und führen e
 in beschauliches Leben auf ihrem Hof...\n\nmehr Informationen unter http:/
 /pages.destination.one/de/teutonavigator/streaming/detail/Event/e_10116391
 6/pettersson-und-findus-und-der-hahn-im-korb-5
DTEND;TZID=Europe/Berlin:20260123T110000
DTSTAMP:20260421T155008Z
DTSTART;TZID=Europe/Berlin:20260123T100000
GEO:51.939441;8.875006
LOCATION:Junges Theater - Kinder- und Jugendbühne\, Bahnhofstraße 1\, Detmo
 ld
ORGANIZER;CN=Landestheater Detmold:mailto:info@landestheater-detmold.de
SEQUENCE:0
SUMMARY:Pettersson und Findus und der Hahn im Korb [5+]
UID:e_101163916_iv1
URL:http://pages.destination.one/de/teutonavigator/streaming/detail/Event/e
 _101163916/pettersson-und-findus-und-der-hahn-im-korb-5
END:VEVENT
BEGIN:VEVENT
CATEGORIES:Familie und Kinder
CATEGORIES:Kinderprogramm
CATEGORIES:Konzert divers
DESCRIPTION:Pettersson und Findus sind ein Herz und eine Seele und führen e
 in beschauliches Leben auf ihrem Hof...\n\nmehr Informationen unter http:/
 /pages.destination.one/de/teutonavigator/streaming/detail/Event/e_10116391
 6/pettersson-und-findus-und-der-hahn-im-korb-5
DTEND;TZID=Europe/Berlin:20260520T110000
DTSTAMP:20260421T155008Z
DTSTART;TZID=Europe/Berlin:20260520T100000
GEO:51.939441;8.875006
LOCATION:Junges Theater - Kinder- und Jugendbühne\, Bahnhofstraße 1\, Detmo
 ld
ORGANIZER;CN=Landestheater Detmold:mailto:info@landestheater-detmold.de
SEQUENCE:0
SUMMARY:Pettersson und Findus und der Hahn im Korb [5+]
UID:e_101163916_iv2
URL:http://pages.destination.one/de/teutonavigator/streaming/detail/Event/e
 _101163916/pettersson-und-findus-und-der-hahn-im-korb-5
END:VEVENT
BEGIN:VTIMEZONE
TZID:Europe/Berlin
X-LIC-LOCATION:Europe/Berlin
BEGIN:DAYLIGHT
DTSTART:19700329T020000
RRULE:FREQ=YEARLY;BYDAY=-1SU;BYMONTH=3
TZNAME:CEST
TZOFFSETFROM:+0100
TZOFFSETTO:+0200
END:DAYLIGHT
BEGIN:STANDARD
DTSTART:19701025T030000
RRULE:FREQ=YEARLY;BYDAY=-1SU;BYMONTH=10
TZNAME:CET
TZOFFSETFROM:+0200
TZOFFSETTO:+0100
END:STANDARD
END:VTIMEZONE
END:VCALENDAR
