BEGIN:VCALENDAR
VERSION:2.0
PRODID:-//destination.one//NONSGML destination.meta API//DE
X-WR-CALDESC:A calendar powered by destination.meta
X-WR-CALNAME:teutonavigator Kalender via destination.meta
BEGIN:VEVENT
CATEGORIES:Markt
DESCRIPTION:Flohmarkt im Ballhauskeller\, Frauen für Lemgo\n\nmehr Informat
 ionen unter http://pages.destination.one/de/teutonavigator/streaming/detai
 l/Event/e_101163891/flohmarkt-im-ballhauskeller
DTEND;TZID=Europe/Berlin:20260110T130000
DTSTAMP:20260421T114153Z
DTSTART;TZID=Europe/Berlin:20260110T080000
GEO:52.028125;8.901634
LOCATION:Rathaus der Alten Hansestadt Lemgo\, Marktplatz 1\, Lemgo
SEQUENCE:0
SUMMARY:Flohmarkt im Ballhauskeller
UID:e_101163891_iv0
URL:http://pages.destination.one/de/teutonavigator/streaming/detail/Event/e
 _101163891/flohmarkt-im-ballhauskeller
END:VEVENT
BEGIN:VEVENT
CATEGORIES:Markt
DESCRIPTION:Flohmarkt im Ballhauskeller\, Frauen für Lemgo\n\nmehr Informat
 ionen unter http://pages.destination.one/de/teutonavigator/streaming/detai
 l/Event/e_101163891/flohmarkt-im-ballhauskeller
DTEND;TZID=Europe/Berlin:20260214T130000
DTSTAMP:20260421T114153Z
DTSTART;TZID=Europe/Berlin:20260214T080000
GEO:52.028125;8.901634
LOCATION:Rathaus der Alten Hansestadt Lemgo\, Marktplatz 1\, Lemgo
SEQUENCE:0
SUMMARY:Flohmarkt im Ballhauskeller
UID:e_101163891_iv1
URL:http://pages.destination.one/de/teutonavigator/streaming/detail/Event/e
 _101163891/flohmarkt-im-ballhauskeller
END:VEVENT
BEGIN:VEVENT
CATEGORIES:Markt
DESCRIPTION:Flohmarkt im Ballhauskeller\, Frauen für Lemgo\n\nmehr Informat
 ionen unter http://pages.destination.one/de/teutonavigator/streaming/detai
 l/Event/e_101163891/flohmarkt-im-ballhauskeller
DTEND;TZID=Europe/Berlin:20260314T130000
DTSTAMP:20260421T114153Z
DTSTART;TZID=Europe/Berlin:20260314T080000
GEO:52.028125;8.901634
LOCATION:Rathaus der Alten Hansestadt Lemgo\, Marktplatz 1\, Lemgo
SEQUENCE:0
SUMMARY:Flohmarkt im Ballhauskeller
UID:e_101163891_iv2
URL:http://pages.destination.one/de/teutonavigator/streaming/detail/Event/e
 _101163891/flohmarkt-im-ballhauskeller
END:VEVENT
BEGIN:VEVENT
CATEGORIES:Markt
DESCRIPTION:Flohmarkt im Ballhauskeller\, Frauen für Lemgo\n\nmehr Informat
 ionen unter http://pages.destination.one/de/teutonavigator/streaming/detai
 l/Event/e_101163891/flohmarkt-im-ballhauskeller
DTEND;TZID=Europe/Berlin:20260411T130000
DTSTAMP:20260421T114153Z
DTSTART;TZID=Europe/Berlin:20260411T080000
GEO:52.028125;8.901634
LOCATION:Rathaus der Alten Hansestadt Lemgo\, Marktplatz 1\, Lemgo
SEQUENCE:0
SUMMARY:Flohmarkt im Ballhauskeller
UID:e_101163891_iv3
URL:http://pages.destination.one/de/teutonavigator/streaming/detail/Event/e
 _101163891/flohmarkt-im-ballhauskeller
END:VEVENT
BEGIN:VEVENT
CATEGORIES:Markt
DESCRIPTION:Flohmarkt im Ballhauskeller\, Frauen für Lemgo\n\nmehr Informat
 ionen unter http://pages.destination.one/de/teutonavigator/streaming/detai
 l/Event/e_101163891/flohmarkt-im-ballhauskeller
DTEND;TZID=Europe/Berlin:20260613T130000
DTSTAMP:20260421T114153Z
DTSTART;TZID=Europe/Berlin:20260613T080000
GEO:52.028125;8.901634
LOCATION:Rathaus der Alten Hansestadt Lemgo\, Marktplatz 1\, Lemgo
SEQUENCE:0
SUMMARY:Flohmarkt im Ballhauskeller
UID:e_101163891_iv4
URL:http://pages.destination.one/de/teutonavigator/streaming/detail/Event/e
 _101163891/flohmarkt-im-ballhauskeller
END:VEVENT
BEGIN:VEVENT
CATEGORIES:Markt
DESCRIPTION:Flohmarkt im Ballhauskeller\, Frauen für Lemgo\n\nmehr Informat
 ionen unter http://pages.destination.one/de/teutonavigator/streaming/detai
 l/Event/e_101163891/flohmarkt-im-ballhauskeller
DTEND;TZID=Europe/Berlin:20260808T130000
DTSTAMP:20260421T114153Z
DTSTART;TZID=Europe/Berlin:20260808T080000
GEO:52.028125;8.901634
LOCATION:Rathaus der Alten Hansestadt Lemgo\, Marktplatz 1\, Lemgo
SEQUENCE:0
SUMMARY:Flohmarkt im Ballhauskeller
UID:e_101163891_iv5
URL:http://pages.destination.one/de/teutonavigator/streaming/detail/Event/e
 _101163891/flohmarkt-im-ballhauskeller
END:VEVENT
BEGIN:VEVENT
CATEGORIES:Markt
DESCRIPTION:Flohmarkt im Ballhauskeller\, Frauen für Lemgo\n\nmehr Informat
 ionen unter http://pages.destination.one/de/teutonavigator/streaming/detai
 l/Event/e_101163891/flohmarkt-im-ballhauskeller
DTEND;TZID=Europe/Berlin:20260912T130000
DTSTAMP:20260421T114153Z
DTSTART;TZID=Europe/Berlin:20260912T080000
GEO:52.028125;8.901634
LOCATION:Rathaus der Alten Hansestadt Lemgo\, Marktplatz 1\, Lemgo
SEQUENCE:0
SUMMARY:Flohmarkt im Ballhauskeller
UID:e_101163891_iv6
URL:http://pages.destination.one/de/teutonavigator/streaming/detail/Event/e
 _101163891/flohmarkt-im-ballhauskeller
END:VEVENT
BEGIN:VEVENT
CATEGORIES:Markt
DESCRIPTION:Flohmarkt im Ballhauskeller\, Frauen für Lemgo\n\nmehr Informat
 ionen unter http://pages.destination.one/de/teutonavigator/streaming/detai
 l/Event/e_101163891/flohmarkt-im-ballhauskeller
DTEND;TZID=Europe/Berlin:20261010T130000
DTSTAMP:20260421T114153Z
DTSTART;TZID=Europe/Berlin:20261010T080000
GEO:52.028125;8.901634
LOCATION:Rathaus der Alten Hansestadt Lemgo\, Marktplatz 1\, Lemgo
SEQUENCE:0
SUMMARY:Flohmarkt im Ballhauskeller
UID:e_101163891_iv7
URL:http://pages.destination.one/de/teutonavigator/streaming/detail/Event/e
 _101163891/flohmarkt-im-ballhauskeller
END:VEVENT
BEGIN:VEVENT
CATEGORIES:Markt
DESCRIPTION:Flohmarkt im Ballhauskeller\, Frauen für Lemgo\n\nmehr Informat
 ionen unter http://pages.destination.one/de/teutonavigator/streaming/detai
 l/Event/e_101163891/flohmarkt-im-ballhauskeller
DTEND;TZID=Europe/Berlin:20261114T130000
DTSTAMP:20260421T114153Z
DTSTART;TZID=Europe/Berlin:20261114T080000
GEO:52.028125;8.901634
LOCATION:Rathaus der Alten Hansestadt Lemgo\, Marktplatz 1\, Lemgo
SEQUENCE:0
SUMMARY:Flohmarkt im Ballhauskeller
UID:e_101163891_iv8
URL:http://pages.destination.one/de/teutonavigator/streaming/detail/Event/e
 _101163891/flohmarkt-im-ballhauskeller
END:VEVENT
BEGIN:VTIMEZONE
TZID:Europe/Berlin
X-LIC-LOCATION:Europe/Berlin
BEGIN:DAYLIGHT
DTSTART:19700329T020000
RRULE:FREQ=YEARLY;BYDAY=-1SU;BYMONTH=3
TZNAME:CEST
TZOFFSETFROM:+0100
TZOFFSETTO:+0200
END:DAYLIGHT
BEGIN:STANDARD
DTSTART:19701025T030000
RRULE:FREQ=YEARLY;BYDAY=-1SU;BYMONTH=10
TZNAME:CET
TZOFFSETFROM:+0200
TZOFFSETTO:+0100
END:STANDARD
END:VTIMEZONE
END:VCALENDAR
