BEGIN:VCALENDAR
VERSION:2.0
PRODID:-//destination.one//NONSGML destination.meta API//DE
X-WR-CALDESC:A calendar powered by destination.meta
X-WR-CALNAME:teutonavigator Kalender via destination.meta
BEGIN:VEVENT
CATEGORIES:Konzert divers
DESCRIPTION:Prinz Tamino möchte eigentlich gar kein Prinz mehr sein...\n\nm
 ehr Informationen unter http://pages.destination.one/de/teutonavigator/str
 eaming/detail/Event/e_101163881/die-zauberfl-te
DTEND;TZID=Europe/Berlin:20260530T221500
DTSTAMP:20260421T174139Z
DTSTART;TZID=Europe/Berlin:20260530T193000
GEO:51.937884;8.879425
LOCATION:Landestheater Detmold - Theaterplatz\, Theaterplatz\, Detmold
ORGANIZER;CN=Landestheater Detmold:mailto:info@landestheater-detmold.de
SEQUENCE:0
SUMMARY:Die Zauberflöte
UID:e_101163881_iv0
URL:http://pages.destination.one/de/teutonavigator/streaming/detail/Event/e
 _101163881/die-zauberfl-te
END:VEVENT
BEGIN:VTIMEZONE
TZID:Europe/Berlin
X-LIC-LOCATION:Europe/Berlin
BEGIN:DAYLIGHT
DTSTART:19700329T020000
RRULE:FREQ=YEARLY;BYDAY=-1SU;BYMONTH=3
TZNAME:CEST
TZOFFSETFROM:+0100
TZOFFSETTO:+0200
END:DAYLIGHT
BEGIN:STANDARD
DTSTART:19701025T030000
RRULE:FREQ=YEARLY;BYDAY=-1SU;BYMONTH=10
TZNAME:CET
TZOFFSETFROM:+0200
TZOFFSETTO:+0100
END:STANDARD
END:VTIMEZONE
END:VCALENDAR
