BEGIN:VCALENDAR
VERSION:2.0
PRODID:-//destination.one//NONSGML destination.meta API//DE
X-WR-CALDESC:A calendar powered by destination.meta
X-WR-CALNAME:teutonavigator Kalender via destination.meta
BEGIN:VEVENT
CATEGORIES:Konzert divers
DESCRIPTION:Violetta führt ein Leben im Überfluss: Männer\, Geld und Alkoho
 l ohne Ende und eine Party nach der nächsten\n\nmehr Informationen unter h
 ttp://pages.destination.one/de/teutonavigator/streaming/detail/Event/e_101
 163880/la-traviata
DTEND;TZID=Europe/Berlin:20251225T202500
DTSTAMP:20260421T122625Z
DTSTART;TZID=Europe/Berlin:20251225T180000
GEO:51.937884;8.879425
LOCATION:Landestheater Detmold - Theaterplatz\, Theaterplatz\, Detmold
ORGANIZER;CN=Landestheater Detmold:mailto:info@landestheater-detmold.de
SEQUENCE:0
SUMMARY:La traviata
UID:e_101163880_iv0
URL:http://pages.destination.one/de/teutonavigator/streaming/detail/Event/e
 _101163880/la-traviata
END:VEVENT
BEGIN:VEVENT
CATEGORIES:Konzert divers
DESCRIPTION:Violetta führt ein Leben im Überfluss: Männer\, Geld und Alkoho
 l ohne Ende und eine Party nach der nächsten\n\nmehr Informationen unter h
 ttp://pages.destination.one/de/teutonavigator/streaming/detail/Event/e_101
 163880/la-traviata
DTEND;TZID=Europe/Berlin:20260116T215500
DTSTAMP:20260421T122625Z
DTSTART;TZID=Europe/Berlin:20260116T193000
GEO:51.937884;8.879425
LOCATION:Landestheater Detmold - Theaterplatz\, Theaterplatz\, Detmold
ORGANIZER;CN=Landestheater Detmold:mailto:info@landestheater-detmold.de
SEQUENCE:0
SUMMARY:La traviata
UID:e_101163880_iv1
URL:http://pages.destination.one/de/teutonavigator/streaming/detail/Event/e
 _101163880/la-traviata
END:VEVENT
BEGIN:VEVENT
CATEGORIES:Konzert divers
DESCRIPTION:Violetta führt ein Leben im Überfluss: Männer\, Geld und Alkoho
 l ohne Ende und eine Party nach der nächsten\n\nmehr Informationen unter h
 ttp://pages.destination.one/de/teutonavigator/streaming/detail/Event/e_101
 163880/la-traviata
DTEND;TZID=Europe/Berlin:20260205T215500
DTSTAMP:20260421T122625Z
DTSTART;TZID=Europe/Berlin:20260205T193000
GEO:51.937884;8.879425
LOCATION:Landestheater Detmold - Theaterplatz\, Theaterplatz\, Detmold
ORGANIZER;CN=Landestheater Detmold:mailto:info@landestheater-detmold.de
SEQUENCE:0
SUMMARY:La traviata
UID:e_101163880_iv2
URL:http://pages.destination.one/de/teutonavigator/streaming/detail/Event/e
 _101163880/la-traviata
END:VEVENT
BEGIN:VEVENT
CATEGORIES:Konzert divers
DESCRIPTION:Violetta führt ein Leben im Überfluss: Männer\, Geld und Alkoho
 l ohne Ende und eine Party nach der nächsten\n\nmehr Informationen unter h
 ttp://pages.destination.one/de/teutonavigator/streaming/detail/Event/e_101
 163880/la-traviata
DTEND;TZID=Europe/Berlin:20260620T172500
DTSTAMP:20260421T122625Z
DTSTART;TZID=Europe/Berlin:20260620T150000
GEO:51.937884;8.879425
LOCATION:Landestheater Detmold - Theaterplatz\, Theaterplatz\, Detmold
ORGANIZER;CN=Landestheater Detmold:mailto:info@landestheater-detmold.de
SEQUENCE:0
SUMMARY:La traviata
UID:e_101163880_iv3
URL:http://pages.destination.one/de/teutonavigator/streaming/detail/Event/e
 _101163880/la-traviata
END:VEVENT
BEGIN:VTIMEZONE
TZID:Europe/Berlin
X-LIC-LOCATION:Europe/Berlin
BEGIN:DAYLIGHT
DTSTART:19700329T020000
RRULE:FREQ=YEARLY;BYDAY=-1SU;BYMONTH=3
TZNAME:CEST
TZOFFSETFROM:+0100
TZOFFSETTO:+0200
END:DAYLIGHT
BEGIN:STANDARD
DTSTART:19701025T030000
RRULE:FREQ=YEARLY;BYDAY=-1SU;BYMONTH=10
TZNAME:CET
TZOFFSETFROM:+0200
TZOFFSETTO:+0100
END:STANDARD
END:VTIMEZONE
END:VCALENDAR
