BEGIN:VCALENDAR
VERSION:2.0
PRODID:-//destination.one//NONSGML destination.meta API//DE
X-WR-CALDESC:A calendar powered by destination.meta
X-WR-CALNAME:teutonavigator Kalender via destination.meta
BEGIN:VEVENT
CATEGORIES:Führung/Besichtigung
CATEGORIES:Ausstellung
DESCRIPTION:Diese Führung ist ein unterhaltsamer Streifzug durch Aberglaube
 \, lippische Legenden und Mythen.\n\nmehr Informationen unter http://pages
 .destination.one/de/teutonavigator/streaming/detail/Event/e_101163859/hexe
 nwahn-aberglaube
DTEND;TZID=Europe/Berlin:20260329T160000
DTSTAMP:20260422T144023Z
DTSTART;TZID=Europe/Berlin:20260329T150000
GEO:51.936975;8.876870
LOCATION:Lippisches Landesmuseum\, Ameide 4\, Detmold
ORGANIZER;CN=Lippisches Landesmuseum:http://www.lippisches-landesmuseum.de/
SEQUENCE:0
SUMMARY:Hexenwahn & Aberglaube
UID:e_101163859_iv0
URL:http://pages.destination.one/de/teutonavigator/streaming/detail/Event/e
 _101163859/hexenwahn-aberglaube
END:VEVENT
BEGIN:VEVENT
CATEGORIES:Führung/Besichtigung
CATEGORIES:Ausstellung
DESCRIPTION:Diese Führung ist ein unterhaltsamer Streifzug durch Aberglaube
 \, lippische Legenden und Mythen.\n\nmehr Informationen unter http://pages
 .destination.one/de/teutonavigator/streaming/detail/Event/e_101163859/hexe
 nwahn-aberglaube
DTEND;TZID=Europe/Berlin:20260524T160000
DTSTAMP:20260422T144023Z
DTSTART;TZID=Europe/Berlin:20260524T150000
GEO:51.936975;8.876870
LOCATION:Lippisches Landesmuseum\, Ameide 4\, Detmold
ORGANIZER;CN=Lippisches Landesmuseum:http://www.lippisches-landesmuseum.de/
SEQUENCE:0
SUMMARY:Hexenwahn & Aberglaube
UID:e_101163859_iv1
URL:http://pages.destination.one/de/teutonavigator/streaming/detail/Event/e
 _101163859/hexenwahn-aberglaube
END:VEVENT
BEGIN:VTIMEZONE
TZID:Europe/Berlin
X-LIC-LOCATION:Europe/Berlin
BEGIN:DAYLIGHT
DTSTART:19700329T020000
RRULE:FREQ=YEARLY;BYDAY=-1SU;BYMONTH=3
TZNAME:CEST
TZOFFSETFROM:+0100
TZOFFSETTO:+0200
END:DAYLIGHT
BEGIN:STANDARD
DTSTART:19701025T030000
RRULE:FREQ=YEARLY;BYDAY=-1SU;BYMONTH=10
TZNAME:CET
TZOFFSETFROM:+0200
TZOFFSETTO:+0100
END:STANDARD
END:VTIMEZONE
END:VCALENDAR
