BEGIN:VCALENDAR
VERSION:2.0
PRODID:-//destination.one//NONSGML destination.meta API//DE
X-WR-CALDESC:A calendar powered by destination.meta
X-WR-CALNAME:teutonavigator Kalender via destination.meta
BEGIN:VEVENT
CATEGORIES:Familie und Kinder
CATEGORIES:Kinderprogramm
CATEGORIES:Konzert divers
DESCRIPTION:In Sammy herrscht Gefühlschaos: Im Kopf\, im Bauch\, im Herzen\
 , überall...\n\nmehr Informationen unter http://pages.destination.one/de/t
 eutonavigator/streaming/detail/Event/e_101163829/viel-zu-feel-10
DTEND;TZID=Europe/Berlin:20251209T113000
DTSTAMP:20260422T122946Z
DTSTART;TZID=Europe/Berlin:20251209T103000
GEO:51.939441;8.875006
LOCATION:Junges Theater - Kinder- und Jugendbühne\, Bahnhofstraße 1\, Detmo
 ld
ORGANIZER;CN=Landestheater Detmold:mailto:info@landestheater-detmold.de
SEQUENCE:0
SUMMARY:VIEL ZU FEEL [10+]
UID:e_101163829_iv0
URL:http://pages.destination.one/de/teutonavigator/streaming/detail/Event/e
 _101163829/viel-zu-feel-10
END:VEVENT
BEGIN:VEVENT
CATEGORIES:Familie und Kinder
CATEGORIES:Kinderprogramm
CATEGORIES:Konzert divers
DESCRIPTION:In Sammy herrscht Gefühlschaos: Im Kopf\, im Bauch\, im Herzen\
 , überall...\n\nmehr Informationen unter http://pages.destination.one/de/t
 eutonavigator/streaming/detail/Event/e_101163829/viel-zu-feel-10
DTEND;TZID=Europe/Berlin:20260217T113000
DTSTAMP:20260422T122946Z
DTSTART;TZID=Europe/Berlin:20260217T103000
GEO:51.939441;8.875006
LOCATION:Junges Theater - Kinder- und Jugendbühne\, Bahnhofstraße 1\, Detmo
 ld
ORGANIZER;CN=Landestheater Detmold:mailto:info@landestheater-detmold.de
SEQUENCE:0
SUMMARY:VIEL ZU FEEL [10+]
UID:e_101163829_iv1
URL:http://pages.destination.one/de/teutonavigator/streaming/detail/Event/e
 _101163829/viel-zu-feel-10
END:VEVENT
BEGIN:VEVENT
CATEGORIES:Familie und Kinder
CATEGORIES:Kinderprogramm
CATEGORIES:Konzert divers
DESCRIPTION:In Sammy herrscht Gefühlschaos: Im Kopf\, im Bauch\, im Herzen\
 , überall...\n\nmehr Informationen unter http://pages.destination.one/de/t
 eutonavigator/streaming/detail/Event/e_101163829/viel-zu-feel-10
DTEND;TZID=Europe/Berlin:20260218T113000
DTSTAMP:20260422T122946Z
DTSTART;TZID=Europe/Berlin:20260218T103000
GEO:51.939441;8.875006
LOCATION:Junges Theater - Kinder- und Jugendbühne\, Bahnhofstraße 1\, Detmo
 ld
ORGANIZER;CN=Landestheater Detmold:mailto:info@landestheater-detmold.de
SEQUENCE:0
SUMMARY:VIEL ZU FEEL [10+]
UID:e_101163829_iv2
URL:http://pages.destination.one/de/teutonavigator/streaming/detail/Event/e
 _101163829/viel-zu-feel-10
END:VEVENT
BEGIN:VEVENT
CATEGORIES:Familie und Kinder
CATEGORIES:Kinderprogramm
CATEGORIES:Konzert divers
DESCRIPTION:In Sammy herrscht Gefühlschaos: Im Kopf\, im Bauch\, im Herzen\
 , überall...\n\nmehr Informationen unter http://pages.destination.one/de/t
 eutonavigator/streaming/detail/Event/e_101163829/viel-zu-feel-10
DTEND;TZID=Europe/Berlin:20260430T113000
DTSTAMP:20260422T122946Z
DTSTART;TZID=Europe/Berlin:20260430T103000
GEO:51.939441;8.875006
LOCATION:Junges Theater - Kinder- und Jugendbühne\, Bahnhofstraße 1\, Detmo
 ld
ORGANIZER;CN=Landestheater Detmold:mailto:info@landestheater-detmold.de
SEQUENCE:0
SUMMARY:VIEL ZU FEEL [10+]
UID:e_101163829_iv3
URL:http://pages.destination.one/de/teutonavigator/streaming/detail/Event/e
 _101163829/viel-zu-feel-10
END:VEVENT
BEGIN:VEVENT
CATEGORIES:Familie und Kinder
CATEGORIES:Kinderprogramm
CATEGORIES:Konzert divers
DESCRIPTION:In Sammy herrscht Gefühlschaos: Im Kopf\, im Bauch\, im Herzen\
 , überall...\n\nmehr Informationen unter http://pages.destination.one/de/t
 eutonavigator/streaming/detail/Event/e_101163829/viel-zu-feel-10
DTEND;TZID=Europe/Berlin:20260504T113000
DTSTAMP:20260422T122946Z
DTSTART;TZID=Europe/Berlin:20260504T103000
GEO:51.939441;8.875006
LOCATION:Junges Theater - Kinder- und Jugendbühne\, Bahnhofstraße 1\, Detmo
 ld
ORGANIZER;CN=Landestheater Detmold:mailto:info@landestheater-detmold.de
SEQUENCE:0
SUMMARY:VIEL ZU FEEL [10+]
UID:e_101163829_iv4
URL:http://pages.destination.one/de/teutonavigator/streaming/detail/Event/e
 _101163829/viel-zu-feel-10
END:VEVENT
BEGIN:VTIMEZONE
TZID:Europe/Berlin
X-LIC-LOCATION:Europe/Berlin
BEGIN:DAYLIGHT
DTSTART:19700329T020000
RRULE:FREQ=YEARLY;BYDAY=-1SU;BYMONTH=3
TZNAME:CEST
TZOFFSETFROM:+0100
TZOFFSETTO:+0200
END:DAYLIGHT
BEGIN:STANDARD
DTSTART:19701025T030000
RRULE:FREQ=YEARLY;BYDAY=-1SU;BYMONTH=10
TZNAME:CET
TZOFFSETFROM:+0200
TZOFFSETTO:+0100
END:STANDARD
END:VTIMEZONE
END:VCALENDAR
