BEGIN:VCALENDAR
VERSION:2.0
PRODID:-//destination.one//NONSGML destination.meta API//DE
X-WR-CALDESC:A calendar powered by destination.meta
X-WR-CALNAME:teutonavigator Kalender via destination.meta
BEGIN:VEVENT
CATEGORIES:Familie und Kinder
CATEGORIES:Führung/Besichtigung
CATEGORIES:Ausstellung
DESCRIPTION:Die Sonderausstellung nimmt Denkmäler als Ausdruck von Geschich
 te\, Macht und Erinnerung in den Blick.\n\nmehr Informationen unter http:/
 /pages.destination.one/de/teutonavigator/streaming/detail/Event/e_10116381
 9/denk-mal-150-jahre-hermannsdenkmal
DTEND;TZID=Europe/Berlin:20260111T160000
DTSTAMP:20260421T190639Z
DTSTART;TZID=Europe/Berlin:20260111T150000
GEO:51.936975;8.876870
LOCATION:Lippisches Landesmuseum\, Ameide 4\, Detmold
ORGANIZER;CN=Lippisches Landesmuseum:http://www.lippisches-landesmuseum.de/
SEQUENCE:0
SUMMARY:Denk:Mal! 150 Jahre Hermannsdenkmal
UID:e_101163819_iv0
URL:http://pages.destination.one/de/teutonavigator/streaming/detail/Event/e
 _101163819/denk-mal-150-jahre-hermannsdenkmal
END:VEVENT
BEGIN:VEVENT
CATEGORIES:Familie und Kinder
CATEGORIES:Führung/Besichtigung
CATEGORIES:Ausstellung
DESCRIPTION:Die Sonderausstellung nimmt Denkmäler als Ausdruck von Geschich
 te\, Macht und Erinnerung in den Blick.\n\nmehr Informationen unter http:/
 /pages.destination.one/de/teutonavigator/streaming/detail/Event/e_10116381
 9/denk-mal-150-jahre-hermannsdenkmal
DTEND;TZID=Europe/Berlin:20260125T160000
DTSTAMP:20260421T190639Z
DTSTART;TZID=Europe/Berlin:20260125T150000
GEO:51.936975;8.876870
LOCATION:Lippisches Landesmuseum\, Ameide 4\, Detmold
ORGANIZER;CN=Lippisches Landesmuseum:http://www.lippisches-landesmuseum.de/
SEQUENCE:0
SUMMARY:Denk:Mal! 150 Jahre Hermannsdenkmal
UID:e_101163819_iv1
URL:http://pages.destination.one/de/teutonavigator/streaming/detail/Event/e
 _101163819/denk-mal-150-jahre-hermannsdenkmal
END:VEVENT
BEGIN:VEVENT
CATEGORIES:Familie und Kinder
CATEGORIES:Führung/Besichtigung
CATEGORIES:Ausstellung
DESCRIPTION:Die Sonderausstellung nimmt Denkmäler als Ausdruck von Geschich
 te\, Macht und Erinnerung in den Blick.\n\nmehr Informationen unter http:/
 /pages.destination.one/de/teutonavigator/streaming/detail/Event/e_10116381
 9/denk-mal-150-jahre-hermannsdenkmal
DTEND;TZID=Europe/Berlin:20260208T160000
DTSTAMP:20260421T190639Z
DTSTART;TZID=Europe/Berlin:20260208T150000
GEO:51.936975;8.876870
LOCATION:Lippisches Landesmuseum\, Ameide 4\, Detmold
ORGANIZER;CN=Lippisches Landesmuseum:http://www.lippisches-landesmuseum.de/
SEQUENCE:0
SUMMARY:Denk:Mal! 150 Jahre Hermannsdenkmal
UID:e_101163819_iv2
URL:http://pages.destination.one/de/teutonavigator/streaming/detail/Event/e
 _101163819/denk-mal-150-jahre-hermannsdenkmal
END:VEVENT
BEGIN:VEVENT
CATEGORIES:Familie und Kinder
CATEGORIES:Führung/Besichtigung
CATEGORIES:Ausstellung
DESCRIPTION:Die Sonderausstellung nimmt Denkmäler als Ausdruck von Geschich
 te\, Macht und Erinnerung in den Blick.\n\nmehr Informationen unter http:/
 /pages.destination.one/de/teutonavigator/streaming/detail/Event/e_10116381
 9/denk-mal-150-jahre-hermannsdenkmal
DTEND;TZID=Europe/Berlin:20260308T160000
DTSTAMP:20260421T190639Z
DTSTART;TZID=Europe/Berlin:20260308T150000
GEO:51.936975;8.876870
LOCATION:Lippisches Landesmuseum\, Ameide 4\, Detmold
ORGANIZER;CN=Lippisches Landesmuseum:http://www.lippisches-landesmuseum.de/
SEQUENCE:0
SUMMARY:Denk:Mal! 150 Jahre Hermannsdenkmal
UID:e_101163819_iv3
URL:http://pages.destination.one/de/teutonavigator/streaming/detail/Event/e
 _101163819/denk-mal-150-jahre-hermannsdenkmal
END:VEVENT
BEGIN:VEVENT
CATEGORIES:Familie und Kinder
CATEGORIES:Führung/Besichtigung
CATEGORIES:Ausstellung
DESCRIPTION:Die Sonderausstellung nimmt Denkmäler als Ausdruck von Geschich
 te\, Macht und Erinnerung in den Blick.\n\nmehr Informationen unter http:/
 /pages.destination.one/de/teutonavigator/streaming/detail/Event/e_10116381
 9/denk-mal-150-jahre-hermannsdenkmal
DTEND;TZID=Europe/Berlin:20260322T160000
DTSTAMP:20260421T190639Z
DTSTART;TZID=Europe/Berlin:20260322T150000
GEO:51.936975;8.876870
LOCATION:Lippisches Landesmuseum\, Ameide 4\, Detmold
ORGANIZER;CN=Lippisches Landesmuseum:http://www.lippisches-landesmuseum.de/
SEQUENCE:0
SUMMARY:Denk:Mal! 150 Jahre Hermannsdenkmal
UID:e_101163819_iv4
URL:http://pages.destination.one/de/teutonavigator/streaming/detail/Event/e
 _101163819/denk-mal-150-jahre-hermannsdenkmal
END:VEVENT
BEGIN:VEVENT
CATEGORIES:Familie und Kinder
CATEGORIES:Führung/Besichtigung
CATEGORIES:Ausstellung
DESCRIPTION:Die Sonderausstellung nimmt Denkmäler als Ausdruck von Geschich
 te\, Macht und Erinnerung in den Blick.\n\nmehr Informationen unter http:/
 /pages.destination.one/de/teutonavigator/streaming/detail/Event/e_10116381
 9/denk-mal-150-jahre-hermannsdenkmal
DTEND;TZID=Europe/Berlin:20260405T160000
DTSTAMP:20260421T190639Z
DTSTART;TZID=Europe/Berlin:20260405T150000
GEO:51.936975;8.876870
LOCATION:Lippisches Landesmuseum\, Ameide 4\, Detmold
ORGANIZER;CN=Lippisches Landesmuseum:http://www.lippisches-landesmuseum.de/
SEQUENCE:0
SUMMARY:Denk:Mal! 150 Jahre Hermannsdenkmal
UID:e_101163819_iv5
URL:http://pages.destination.one/de/teutonavigator/streaming/detail/Event/e
 _101163819/denk-mal-150-jahre-hermannsdenkmal
END:VEVENT
BEGIN:VEVENT
CATEGORIES:Familie und Kinder
CATEGORIES:Führung/Besichtigung
CATEGORIES:Ausstellung
DESCRIPTION:Die Sonderausstellung nimmt Denkmäler als Ausdruck von Geschich
 te\, Macht und Erinnerung in den Blick.\n\nmehr Informationen unter http:/
 /pages.destination.one/de/teutonavigator/streaming/detail/Event/e_10116381
 9/denk-mal-150-jahre-hermannsdenkmal
DTEND;TZID=Europe/Berlin:20260419T160000
DTSTAMP:20260421T190639Z
DTSTART;TZID=Europe/Berlin:20260419T150000
GEO:51.936975;8.876870
LOCATION:Lippisches Landesmuseum\, Ameide 4\, Detmold
ORGANIZER;CN=Lippisches Landesmuseum:http://www.lippisches-landesmuseum.de/
SEQUENCE:0
SUMMARY:Denk:Mal! 150 Jahre Hermannsdenkmal
UID:e_101163819_iv6
URL:http://pages.destination.one/de/teutonavigator/streaming/detail/Event/e
 _101163819/denk-mal-150-jahre-hermannsdenkmal
END:VEVENT
BEGIN:VEVENT
CATEGORIES:Familie und Kinder
CATEGORIES:Führung/Besichtigung
CATEGORIES:Ausstellung
DESCRIPTION:Die Sonderausstellung nimmt Denkmäler als Ausdruck von Geschich
 te\, Macht und Erinnerung in den Blick.\n\nmehr Informationen unter http:/
 /pages.destination.one/de/teutonavigator/streaming/detail/Event/e_10116381
 9/denk-mal-150-jahre-hermannsdenkmal
DTEND;TZID=Europe/Berlin:20260426T160000
DTSTAMP:20260421T190639Z
DTSTART;TZID=Europe/Berlin:20260426T150000
GEO:51.936975;8.876870
LOCATION:Lippisches Landesmuseum\, Ameide 4\, Detmold
ORGANIZER;CN=Lippisches Landesmuseum:http://www.lippisches-landesmuseum.de/
SEQUENCE:0
SUMMARY:Denk:Mal! 150 Jahre Hermannsdenkmal
UID:e_101163819_iv7
URL:http://pages.destination.one/de/teutonavigator/streaming/detail/Event/e
 _101163819/denk-mal-150-jahre-hermannsdenkmal
END:VEVENT
BEGIN:VTIMEZONE
TZID:Europe/Berlin
X-LIC-LOCATION:Europe/Berlin
BEGIN:DAYLIGHT
DTSTART:19700329T020000
RRULE:FREQ=YEARLY;BYDAY=-1SU;BYMONTH=3
TZNAME:CEST
TZOFFSETFROM:+0100
TZOFFSETTO:+0200
END:DAYLIGHT
BEGIN:STANDARD
DTSTART:19701025T030000
RRULE:FREQ=YEARLY;BYDAY=-1SU;BYMONTH=10
TZNAME:CET
TZOFFSETFROM:+0200
TZOFFSETTO:+0100
END:STANDARD
END:VTIMEZONE
END:VCALENDAR
