BEGIN:VCALENDAR
VERSION:2.0
PRODID:-//destination.one//NONSGML destination.meta API//DE
X-WR-CALDESC:A calendar powered by destination.meta
X-WR-CALNAME:teutonavigator Kalender via destination.meta
BEGIN:VEVENT
CATEGORIES:Familie und Kinder
CATEGORIES:Kinderprogramm
CATEGORIES:Ausstellung
DESCRIPTION:Im Zentrum steht nicht nur das berühmte Denkmal selbst\, sonder
 n auch der Blick auf Denkmalkultur\, Erinnerungspolitik und historische Na
 rrative\n\nmehr Informationen unter http://pages.destination.one/de/teuton
 avigator/streaming/detail/Event/e_101163779/ausstellung-denk-mal-150-jahre
 -hermannsdenkmal
DTEND;TZID=Europe/Berlin:20251122T180000
DTSTAMP:20260421T155012Z
DTSTART;TZID=Europe/Berlin:20251122T110000
GEO:51.936975;8.876870
LOCATION:Lippisches Landesmuseum\, Ameide 4\, Detmold
ORGANIZER;CN=Lippisches Landesmuseum:http://www.lippisches-landesmuseum.de/
PRIORITY:4
RRULE:FREQ=DAILY;UNTIL=20260426T160000
SEQUENCE:0
SUMMARY:Ausstellung Denk:Mal! 150 Jahre Hermannsdenkmal
UID:e_101163779_iv0
URL:http://pages.destination.one/de/teutonavigator/streaming/detail/Event/e
 _101163779/ausstellung-denk-mal-150-jahre-hermannsdenkmal
END:VEVENT
BEGIN:VTIMEZONE
TZID:Europe/Berlin
X-LIC-LOCATION:Europe/Berlin
BEGIN:DAYLIGHT
DTSTART:19700329T020000
RRULE:FREQ=YEARLY;BYDAY=-1SU;BYMONTH=3
TZNAME:CEST
TZOFFSETFROM:+0100
TZOFFSETTO:+0200
END:DAYLIGHT
BEGIN:STANDARD
DTSTART:19701025T030000
RRULE:FREQ=YEARLY;BYDAY=-1SU;BYMONTH=10
TZNAME:CET
TZOFFSETFROM:+0200
TZOFFSETTO:+0100
END:STANDARD
END:VTIMEZONE
END:VCALENDAR
