BEGIN:VCALENDAR
VERSION:2.0
PRODID:-//destination.one//NONSGML destination.meta API//DE
X-WR-CALDESC:A calendar powered by destination.meta
X-WR-CALNAME:teutonavigator Kalender via destination.meta
BEGIN:VEVENT
CATEGORIES:Sonstiges
DESCRIPTION:Trink Aus! Wir Müssen Gehen - Tour 2026\n\nmehr Informationen u
 nter http://pages.destination.one/de/teutonavigator/streaming/detail/Event
 /e_101163746/die-toten-hosen
DTEND;TZID=Europe/Berlin:20260905T235900
DTSTAMP:20260421T193342Z
DTSTART;TZID=Europe/Berlin:20260905T170000
GEO:52.287290;8.925480
LOCATION:Kanzlers Weide\, Kanzlers Weide 1\, Minden
ORGANIZER;CN=Crunch Time Promotion:mailto:marc@crunchtime.de
PRIORITY:4
RRULE:FREQ=WEEKLY;UNTIL=20260905T220000;BYDAY=FR,SA
SEQUENCE:0
SUMMARY:Die Toten Hosen
UID:e_101163746_iv0
URL:http://pages.destination.one/de/teutonavigator/streaming/detail/Event/e
 _101163746/die-toten-hosen
END:VEVENT
BEGIN:VTIMEZONE
TZID:Europe/Berlin
X-LIC-LOCATION:Europe/Berlin
BEGIN:DAYLIGHT
DTSTART:19700329T020000
RRULE:FREQ=YEARLY;BYDAY=-1SU;BYMONTH=3
TZNAME:CEST
TZOFFSETFROM:+0100
TZOFFSETTO:+0200
END:DAYLIGHT
BEGIN:STANDARD
DTSTART:19701025T030000
RRULE:FREQ=YEARLY;BYDAY=-1SU;BYMONTH=10
TZNAME:CET
TZOFFSETFROM:+0200
TZOFFSETTO:+0100
END:STANDARD
END:VTIMEZONE
END:VCALENDAR
