BEGIN:VCALENDAR
VERSION:2.0
PRODID:-//destination.one//NONSGML destination.meta API//DE
X-WR-CALDESC:A calendar powered by destination.meta
X-WR-CALNAME:teutonavigator Kalender via destination.meta
BEGIN:VEVENT
CATEGORIES:Sonstiges
DESCRIPTION:\n\nmehr Informationen unter http://pages.destination.one/de/te
 utonavigator/streaming/detail/Event/e_101162507/taschenlampenf-hrung-pest-
 und-plagen
DTEND;TZID=Europe/Berlin:20251222T193000
DTSTAMP:20260421T182530Z
DTSTART;TZID=Europe/Berlin:20251222T180000
GEO:52.287836;8.918405
LOCATION:Tourist-Information der Minden Marketing GmbH\, Kleiner Domhof 17\
 , Minden
ORGANIZER;CN=Tourist-Information der Minden Marketing GmbH:mailto:info@mind
 enmarketing.de
RRULE:FREQ=WEEKLY;UNTIL=20251222T230000;BYDAY=MO,FR
SEQUENCE:0
SUMMARY:Taschenlampenführung "Pest und Plagen"
UID:e_101162507_iv0
URL:http://pages.destination.one/de/teutonavigator/streaming/detail/Event/e
 _101162507/taschenlampenf-hrung-pest-und-plagen
END:VEVENT
BEGIN:VEVENT
CATEGORIES:Sonstiges
DESCRIPTION:\n\nmehr Informationen unter http://pages.destination.one/de/te
 utonavigator/streaming/detail/Event/e_101162507/taschenlampenf-hrung-pest-
 und-plagen
DTEND;TZID=Europe/Berlin:20260207T200000
DTSTAMP:20260421T182530Z
DTSTART;TZID=Europe/Berlin:20260207T183000
GEO:52.287836;8.918405
LOCATION:Tourist-Information der Minden Marketing GmbH\, Kleiner Domhof 17\
 , Minden
ORGANIZER;CN=Tourist-Information der Minden Marketing GmbH:mailto:info@mind
 enmarketing.de
RRULE:FREQ=WEEKLY;UNTIL=20260207T230000;BYDAY=SA
SEQUENCE:0
SUMMARY:Taschenlampenführung "Pest und Plagen"
UID:e_101162507_iv1
URL:http://pages.destination.one/de/teutonavigator/streaming/detail/Event/e
 _101162507/taschenlampenf-hrung-pest-und-plagen
END:VEVENT
BEGIN:VEVENT
CATEGORIES:Sonstiges
DESCRIPTION:\n\nmehr Informationen unter http://pages.destination.one/de/te
 utonavigator/streaming/detail/Event/e_101162507/taschenlampenf-hrung-pest-
 und-plagen
DTEND;TZID=Europe/Berlin:20260220T210000
DTSTAMP:20260421T182530Z
DTSTART;TZID=Europe/Berlin:20260220T193000
GEO:52.287836;8.918405
LOCATION:Tourist-Information der Minden Marketing GmbH\, Kleiner Domhof 17\
 , Minden
ORGANIZER;CN=Tourist-Information der Minden Marketing GmbH:mailto:info@mind
 enmarketing.de
RRULE:FREQ=WEEKLY;UNTIL=20260220T230000;BYDAY=FR
SEQUENCE:0
SUMMARY:Taschenlampenführung "Pest und Plagen"
UID:e_101162507_iv2
URL:http://pages.destination.one/de/teutonavigator/streaming/detail/Event/e
 _101162507/taschenlampenf-hrung-pest-und-plagen
END:VEVENT
BEGIN:VEVENT
CATEGORIES:Sonstiges
DESCRIPTION:\n\nmehr Informationen unter http://pages.destination.one/de/te
 utonavigator/streaming/detail/Event/e_101162507/taschenlampenf-hrung-pest-
 und-plagen
DTEND;TZID=Europe/Berlin:20260313T210000
DTSTAMP:20260421T182530Z
DTSTART;TZID=Europe/Berlin:20260313T193000
GEO:52.287836;8.918405
LOCATION:Tourist-Information der Minden Marketing GmbH\, Kleiner Domhof 17\
 , Minden
ORGANIZER;CN=Tourist-Information der Minden Marketing GmbH:mailto:info@mind
 enmarketing.de
RRULE:FREQ=WEEKLY;UNTIL=20260313T230000;BYDAY=FR
SEQUENCE:0
SUMMARY:Taschenlampenführung "Pest und Plagen"
UID:e_101162507_iv3
URL:http://pages.destination.one/de/teutonavigator/streaming/detail/Event/e
 _101162507/taschenlampenf-hrung-pest-und-plagen
END:VEVENT
BEGIN:VEVENT
CATEGORIES:Sonstiges
DESCRIPTION:\n\nmehr Informationen unter http://pages.destination.one/de/te
 utonavigator/streaming/detail/Event/e_101162507/taschenlampenf-hrung-pest-
 und-plagen
DTEND;TZID=Europe/Berlin:20261113T203000
DTSTAMP:20260421T182530Z
DTSTART;TZID=Europe/Berlin:20261113T190000
GEO:52.287836;8.918405
LOCATION:Tourist-Information der Minden Marketing GmbH\, Kleiner Domhof 17\
 , Minden
ORGANIZER;CN=Tourist-Information der Minden Marketing GmbH:mailto:info@mind
 enmarketing.de
RRULE:FREQ=WEEKLY;UNTIL=20261113T230000;BYDAY=FR
SEQUENCE:0
SUMMARY:Taschenlampenführung "Pest und Plagen"
UID:e_101162507_iv4
URL:http://pages.destination.one/de/teutonavigator/streaming/detail/Event/e
 _101162507/taschenlampenf-hrung-pest-und-plagen
END:VEVENT
BEGIN:VEVENT
CATEGORIES:Sonstiges
DESCRIPTION:\n\nmehr Informationen unter http://pages.destination.one/de/te
 utonavigator/streaming/detail/Event/e_101162507/taschenlampenf-hrung-pest-
 und-plagen
DTEND;TZID=Europe/Berlin:20261211T193000
DTSTAMP:20260421T182530Z
DTSTART;TZID=Europe/Berlin:20261211T180000
GEO:52.287836;8.918405
LOCATION:Tourist-Information der Minden Marketing GmbH\, Kleiner Domhof 17\
 , Minden
ORGANIZER;CN=Tourist-Information der Minden Marketing GmbH:mailto:info@mind
 enmarketing.de
RRULE:FREQ=WEEKLY;UNTIL=20261211T230000;BYDAY=MO,FR
SEQUENCE:0
SUMMARY:Taschenlampenführung "Pest und Plagen"
UID:e_101162507_iv5
URL:http://pages.destination.one/de/teutonavigator/streaming/detail/Event/e
 _101162507/taschenlampenf-hrung-pest-und-plagen
END:VEVENT
BEGIN:VTIMEZONE
TZID:Europe/Berlin
X-LIC-LOCATION:Europe/Berlin
BEGIN:DAYLIGHT
DTSTART:19700329T020000
RRULE:FREQ=YEARLY;BYDAY=-1SU;BYMONTH=3
TZNAME:CEST
TZOFFSETFROM:+0100
TZOFFSETTO:+0200
END:DAYLIGHT
BEGIN:STANDARD
DTSTART:19701025T030000
RRULE:FREQ=YEARLY;BYDAY=-1SU;BYMONTH=10
TZNAME:CET
TZOFFSETFROM:+0200
TZOFFSETTO:+0100
END:STANDARD
END:VTIMEZONE
END:VCALENDAR
