BEGIN:VCALENDAR
VERSION:2.0
PRODID:-//destination.one//NONSGML destination.meta API//DE
X-WR-CALDESC:A calendar powered by destination.meta
X-WR-CALNAME:teutonavigator Kalender via destination.meta
BEGIN:VEVENT
CATEGORIES:Sonstiges
DESCRIPTION:\n\nmehr Informationen unter http://pages.destination.one/de/te
 utonavigator/streaming/detail/Event/e_101162505/stolpersteine-erz-hlen-ges
 chichte-n
DTEND;TZID=Europe/Berlin:20260225T200000
DTSTAMP:20260422T152031Z
DTSTART;TZID=Europe/Berlin:20260225T183000
GEO:52.287836;8.918405
LOCATION:Tourist-Information der Minden Marketing GmbH\, Kleiner Domhof 17\
 , Minden
ORGANIZER;CN=Tourist-Information der Minden Marketing GmbH:mailto:info@mind
 enmarketing.de
RRULE:FREQ=WEEKLY;UNTIL=20260225T230000;BYDAY=WE
SEQUENCE:0
SUMMARY:Stolpersteine erzählen Geschichte(n)
UID:e_101162505_iv0
URL:http://pages.destination.one/de/teutonavigator/streaming/detail/Event/e
 _101162505/stolpersteine-erz-hlen-geschichte-n
END:VEVENT
BEGIN:VEVENT
CATEGORIES:Sonstiges
DESCRIPTION:\n\nmehr Informationen unter http://pages.destination.one/de/te
 utonavigator/streaming/detail/Event/e_101162505/stolpersteine-erz-hlen-ges
 chichte-n
DTEND;TZID=Europe/Berlin:20260415T200000
DTSTAMP:20260422T152031Z
DTSTART;TZID=Europe/Berlin:20260415T183000
GEO:52.287836;8.918405
LOCATION:Tourist-Information der Minden Marketing GmbH\, Kleiner Domhof 17\
 , Minden
ORGANIZER;CN=Tourist-Information der Minden Marketing GmbH:mailto:info@mind
 enmarketing.de
RRULE:FREQ=WEEKLY;UNTIL=20260415T220000;BYDAY=WE
SEQUENCE:0
SUMMARY:Stolpersteine erzählen Geschichte(n)
UID:e_101162505_iv1
URL:http://pages.destination.one/de/teutonavigator/streaming/detail/Event/e
 _101162505/stolpersteine-erz-hlen-geschichte-n
END:VEVENT
BEGIN:VEVENT
CATEGORIES:Sonstiges
DESCRIPTION:\n\nmehr Informationen unter http://pages.destination.one/de/te
 utonavigator/streaming/detail/Event/e_101162505/stolpersteine-erz-hlen-ges
 chichte-n
DTEND;TZID=Europe/Berlin:20260624T200000
DTSTAMP:20260422T152031Z
DTSTART;TZID=Europe/Berlin:20260624T183000
GEO:52.287836;8.918405
LOCATION:Tourist-Information der Minden Marketing GmbH\, Kleiner Domhof 17\
 , Minden
ORGANIZER;CN=Tourist-Information der Minden Marketing GmbH:mailto:info@mind
 enmarketing.de
RRULE:FREQ=WEEKLY;UNTIL=20260624T220000;BYDAY=WE
SEQUENCE:0
SUMMARY:Stolpersteine erzählen Geschichte(n)
UID:e_101162505_iv2
URL:http://pages.destination.one/de/teutonavigator/streaming/detail/Event/e
 _101162505/stolpersteine-erz-hlen-geschichte-n
END:VEVENT
BEGIN:VEVENT
CATEGORIES:Sonstiges
DESCRIPTION:\n\nmehr Informationen unter http://pages.destination.one/de/te
 utonavigator/streaming/detail/Event/e_101162505/stolpersteine-erz-hlen-ges
 chichte-n
DTEND;TZID=Europe/Berlin:20260819T200000
DTSTAMP:20260422T152031Z
DTSTART;TZID=Europe/Berlin:20260819T183000
GEO:52.287836;8.918405
LOCATION:Tourist-Information der Minden Marketing GmbH\, Kleiner Domhof 17\
 , Minden
ORGANIZER;CN=Tourist-Information der Minden Marketing GmbH:mailto:info@mind
 enmarketing.de
RRULE:FREQ=WEEKLY;UNTIL=20260819T220000;BYDAY=WE
SEQUENCE:0
SUMMARY:Stolpersteine erzählen Geschichte(n)
UID:e_101162505_iv3
URL:http://pages.destination.one/de/teutonavigator/streaming/detail/Event/e
 _101162505/stolpersteine-erz-hlen-geschichte-n
END:VEVENT
BEGIN:VEVENT
CATEGORIES:Sonstiges
DESCRIPTION:\n\nmehr Informationen unter http://pages.destination.one/de/te
 utonavigator/streaming/detail/Event/e_101162505/stolpersteine-erz-hlen-ges
 chichte-n
DTEND;TZID=Europe/Berlin:20261014T200000
DTSTAMP:20260422T152031Z
DTSTART;TZID=Europe/Berlin:20261014T183000
GEO:52.287836;8.918405
LOCATION:Tourist-Information der Minden Marketing GmbH\, Kleiner Domhof 17\
 , Minden
ORGANIZER;CN=Tourist-Information der Minden Marketing GmbH:mailto:info@mind
 enmarketing.de
RRULE:FREQ=WEEKLY;UNTIL=20261014T220000;BYDAY=WE
SEQUENCE:0
SUMMARY:Stolpersteine erzählen Geschichte(n)
UID:e_101162505_iv4
URL:http://pages.destination.one/de/teutonavigator/streaming/detail/Event/e
 _101162505/stolpersteine-erz-hlen-geschichte-n
END:VEVENT
BEGIN:VTIMEZONE
TZID:Europe/Berlin
X-LIC-LOCATION:Europe/Berlin
BEGIN:DAYLIGHT
DTSTART:19700329T020000
RRULE:FREQ=YEARLY;BYDAY=-1SU;BYMONTH=3
TZNAME:CEST
TZOFFSETFROM:+0100
TZOFFSETTO:+0200
END:DAYLIGHT
BEGIN:STANDARD
DTSTART:19701025T030000
RRULE:FREQ=YEARLY;BYDAY=-1SU;BYMONTH=10
TZNAME:CET
TZOFFSETFROM:+0200
TZOFFSETTO:+0100
END:STANDARD
END:VTIMEZONE
END:VCALENDAR
