BEGIN:VCALENDAR
VERSION:2.0
PRODID:-//destination.one//NONSGML destination.meta API//DE
X-WR-CALDESC:A calendar powered by destination.meta
X-WR-CALNAME:teutonavigator Kalender via destination.meta
BEGIN:VEVENT
CATEGORIES:Sonstiges
DESCRIPTION:\n\nmehr Informationen unter http://pages.destination.one/de/te
 utonavigator/streaming/detail/Event/e_101162501/minden-in-der-zeit-der-wel
 tkriege
DTEND;TZID=Europe/Berlin:20260328T183000
DTSTAMP:20260421T190644Z
DTSTART;TZID=Europe/Berlin:20260328T163000
GEO:52.287836;8.918405
LOCATION:Tourist-Information der Minden Marketing GmbH\, Kleiner Domhof 17\
 , Minden
ORGANIZER;CN=Tourist-Information der Minden Marketing GmbH:mailto:info@mind
 enmarketing.de
RRULE:FREQ=WEEKLY;UNTIL=20260328T230000;BYDAY=SA
SEQUENCE:0
SUMMARY:Minden in der Zeit der Weltkriege
UID:e_101162501_iv0
URL:http://pages.destination.one/de/teutonavigator/streaming/detail/Event/e
 _101162501/minden-in-der-zeit-der-weltkriege
END:VEVENT
BEGIN:VEVENT
CATEGORIES:Sonstiges
DESCRIPTION:\n\nmehr Informationen unter http://pages.destination.one/de/te
 utonavigator/streaming/detail/Event/e_101162501/minden-in-der-zeit-der-wel
 tkriege
DTEND;TZID=Europe/Berlin:20260515T193000
DTSTAMP:20260421T190644Z
DTSTART;TZID=Europe/Berlin:20260515T173000
GEO:52.287836;8.918405
LOCATION:Tourist-Information der Minden Marketing GmbH\, Kleiner Domhof 17\
 , Minden
ORGANIZER;CN=Tourist-Information der Minden Marketing GmbH:mailto:info@mind
 enmarketing.de
RRULE:FREQ=WEEKLY;UNTIL=20260515T220000;BYDAY=FR
SEQUENCE:0
SUMMARY:Minden in der Zeit der Weltkriege
UID:e_101162501_iv1
URL:http://pages.destination.one/de/teutonavigator/streaming/detail/Event/e
 _101162501/minden-in-der-zeit-der-weltkriege
END:VEVENT
BEGIN:VEVENT
CATEGORIES:Sonstiges
DESCRIPTION:\n\nmehr Informationen unter http://pages.destination.one/de/te
 utonavigator/streaming/detail/Event/e_101162501/minden-in-der-zeit-der-wel
 tkriege
DTEND;TZID=Europe/Berlin:20260628T200000
DTSTAMP:20260421T190644Z
DTSTART;TZID=Europe/Berlin:20260628T180000
GEO:52.287836;8.918405
LOCATION:Tourist-Information der Minden Marketing GmbH\, Kleiner Domhof 17\
 , Minden
ORGANIZER;CN=Tourist-Information der Minden Marketing GmbH:mailto:info@mind
 enmarketing.de
RRULE:FREQ=WEEKLY;UNTIL=20260628T220000;BYDAY=SU
SEQUENCE:0
SUMMARY:Minden in der Zeit der Weltkriege
UID:e_101162501_iv2
URL:http://pages.destination.one/de/teutonavigator/streaming/detail/Event/e
 _101162501/minden-in-der-zeit-der-weltkriege
END:VEVENT
BEGIN:VEVENT
CATEGORIES:Sonstiges
DESCRIPTION:\n\nmehr Informationen unter http://pages.destination.one/de/te
 utonavigator/streaming/detail/Event/e_101162501/minden-in-der-zeit-der-wel
 tkriege
DTEND;TZID=Europe/Berlin:20260815T190000
DTSTAMP:20260421T190644Z
DTSTART;TZID=Europe/Berlin:20260815T170000
GEO:52.287836;8.918405
LOCATION:Tourist-Information der Minden Marketing GmbH\, Kleiner Domhof 17\
 , Minden
ORGANIZER;CN=Tourist-Information der Minden Marketing GmbH:mailto:info@mind
 enmarketing.de
RRULE:FREQ=WEEKLY;UNTIL=20260815T220000;BYDAY=SA
SEQUENCE:0
SUMMARY:Minden in der Zeit der Weltkriege
UID:e_101162501_iv3
URL:http://pages.destination.one/de/teutonavigator/streaming/detail/Event/e
 _101162501/minden-in-der-zeit-der-weltkriege
END:VEVENT
BEGIN:VEVENT
CATEGORIES:Sonstiges
DESCRIPTION:\n\nmehr Informationen unter http://pages.destination.one/de/te
 utonavigator/streaming/detail/Event/e_101162501/minden-in-der-zeit-der-wel
 tkriege
DTEND;TZID=Europe/Berlin:20260926T183000
DTSTAMP:20260421T190644Z
DTSTART;TZID=Europe/Berlin:20260926T163000
GEO:52.287836;8.918405
LOCATION:Tourist-Information der Minden Marketing GmbH\, Kleiner Domhof 17\
 , Minden
ORGANIZER;CN=Tourist-Information der Minden Marketing GmbH:mailto:info@mind
 enmarketing.de
RRULE:FREQ=WEEKLY;UNTIL=20260926T220000;BYDAY=SA
SEQUENCE:0
SUMMARY:Minden in der Zeit der Weltkriege
UID:e_101162501_iv4
URL:http://pages.destination.one/de/teutonavigator/streaming/detail/Event/e
 _101162501/minden-in-der-zeit-der-weltkriege
END:VEVENT
BEGIN:VTIMEZONE
TZID:Europe/Berlin
X-LIC-LOCATION:Europe/Berlin
BEGIN:DAYLIGHT
DTSTART:19700329T020000
RRULE:FREQ=YEARLY;BYDAY=-1SU;BYMONTH=3
TZNAME:CEST
TZOFFSETFROM:+0100
TZOFFSETTO:+0200
END:DAYLIGHT
BEGIN:STANDARD
DTSTART:19701025T030000
RRULE:FREQ=YEARLY;BYDAY=-1SU;BYMONTH=10
TZNAME:CET
TZOFFSETFROM:+0200
TZOFFSETTO:+0100
END:STANDARD
END:VTIMEZONE
END:VCALENDAR
