BEGIN:VCALENDAR
VERSION:2.0
PRODID:-//destination.one//NONSGML destination.meta API//DE
X-WR-CALDESC:A calendar powered by destination.meta
X-WR-CALNAME:teutonavigator Kalender via destination.meta
BEGIN:VEVENT
CATEGORIES:Sonstiges
DESCRIPTION:\n\nmehr Informationen unter http://pages.destination.one/de/te
 utonavigator/streaming/detail/Event/e_101162500/der-nachtw-chter-und-t-rme
 r-zu-minden-zum-ersten-advent
DTEND;TZID=Europe/Berlin:20251130T183000
DTSTAMP:20260421T182139Z
DTSTART;TZID=Europe/Berlin:20251130T170000
GEO:52.287836;8.918405
LOCATION:Tourist-Information der Minden Marketing GmbH\, Kleiner Domhof 17\
 , Minden
ORGANIZER;CN=Tourist-Information der Minden Marketing GmbH:mailto:info@mind
 enmarketing.de
RRULE:FREQ=WEEKLY;UNTIL=20251130T230000;BYDAY=SU
SEQUENCE:0
SUMMARY:Der Nachtwächter und Türmer zu Minden zum ersten Advent
UID:e_101162500_iv0
URL:http://pages.destination.one/de/teutonavigator/streaming/detail/Event/e
 _101162500/der-nachtw-chter-und-t-rmer-zu-minden-zum-ersten-advent
END:VEVENT
BEGIN:VEVENT
CATEGORIES:Sonstiges
DESCRIPTION:\n\nmehr Informationen unter http://pages.destination.one/de/te
 utonavigator/streaming/detail/Event/e_101162500/der-nachtw-chter-und-t-rme
 r-zu-minden-zum-ersten-advent
DTEND;TZID=Europe/Berlin:20261127T200000
DTSTAMP:20260421T182139Z
DTSTART;TZID=Europe/Berlin:20261127T183000
GEO:52.287836;8.918405
LOCATION:Tourist-Information der Minden Marketing GmbH\, Kleiner Domhof 17\
 , Minden
ORGANIZER;CN=Tourist-Information der Minden Marketing GmbH:mailto:info@mind
 enmarketing.de
RRULE:FREQ=WEEKLY;UNTIL=20261127T230000;BYDAY=FR
SEQUENCE:0
SUMMARY:Der Nachtwächter und Türmer zu Minden zum ersten Advent
UID:e_101162500_iv1
URL:http://pages.destination.one/de/teutonavigator/streaming/detail/Event/e
 _101162500/der-nachtw-chter-und-t-rmer-zu-minden-zum-ersten-advent
END:VEVENT
BEGIN:VEVENT
CATEGORIES:Sonstiges
DESCRIPTION:\n\nmehr Informationen unter http://pages.destination.one/de/te
 utonavigator/streaming/detail/Event/e_101162500/der-nachtw-chter-und-t-rme
 r-zu-minden-zum-ersten-advent
DTEND;TZID=Europe/Berlin:20261210T200000
DTSTAMP:20260421T182139Z
DTSTART;TZID=Europe/Berlin:20261210T183000
GEO:52.287836;8.918405
LOCATION:Tourist-Information der Minden Marketing GmbH\, Kleiner Domhof 17\
 , Minden
ORGANIZER;CN=Tourist-Information der Minden Marketing GmbH:mailto:info@mind
 enmarketing.de
RRULE:FREQ=WEEKLY;UNTIL=20261210T230000;BYDAY=TH
SEQUENCE:0
SUMMARY:Der Nachtwächter und Türmer zu Minden zum ersten Advent
UID:e_101162500_iv2
URL:http://pages.destination.one/de/teutonavigator/streaming/detail/Event/e
 _101162500/der-nachtw-chter-und-t-rmer-zu-minden-zum-ersten-advent
END:VEVENT
BEGIN:VTIMEZONE
TZID:Europe/Berlin
X-LIC-LOCATION:Europe/Berlin
BEGIN:DAYLIGHT
DTSTART:19700329T020000
RRULE:FREQ=YEARLY;BYDAY=-1SU;BYMONTH=3
TZNAME:CEST
TZOFFSETFROM:+0100
TZOFFSETTO:+0200
END:DAYLIGHT
BEGIN:STANDARD
DTSTART:19701025T030000
RRULE:FREQ=YEARLY;BYDAY=-1SU;BYMONTH=10
TZNAME:CET
TZOFFSETFROM:+0200
TZOFFSETTO:+0100
END:STANDARD
END:VTIMEZONE
END:VCALENDAR
