BEGIN:VCALENDAR
VERSION:2.0
PRODID:-//destination.one//NONSGML destination.meta API//DE
X-WR-CALDESC:A calendar powered by destination.meta
X-WR-CALNAME:teutonavigator Kalender via destination.meta
BEGIN:VEVENT
CATEGORIES:Führung/Besichtigung
DESCRIPTION:Rundgang um die Sinalco Werke I und II und Infos zum Sinalco Mu
 sical\n\nmehr Informationen unter http://pages.destination.one/de/teutonav
 igator/streaming/detail/Event/e_101162156/selbst-ndiger-rundgang-um-die-eh
 emaligen-sinalco-werke-i-und-ii-mit-der-sinalco-ag-pdf-app-und-infos-zum-s
 inalco-musical
DTEND;TZID=Europe/Berlin:20231126T230000
DTSTAMP:20260422T102916Z
DTSTART;TZID=Europe/Berlin:20231126T100000
GEO:51.941873;8.866367
LOCATION:Sinalcohaus\, Nähe Bahnhof\, Bahnhofstraße 8\, Detmold
ORGANIZER;CN=Dr. Hans-Joachim Keil:mailto:hj.keil@t-online.de
RRULE:FREQ=DAILY;UNTIL=20300101T220000
SEQUENCE:0
SUMMARY:Selbständiger Rundgang um die ehemaligen Sinalco Werke I und II mit
  der Sinalco AG PDF APP und Infos zum Sinalco Musical.
UID:e_101162156_iv0
URL:http://pages.destination.one/de/teutonavigator/streaming/detail/Event/e
 _101162156/selbst-ndiger-rundgang-um-die-ehemaligen-sinalco-werke-i-und-ii
 -mit-der-sinalco-ag-pdf-app-und-infos-zum-sinalco-musical
END:VEVENT
BEGIN:VTIMEZONE
TZID:Europe/Berlin
X-LIC-LOCATION:Europe/Berlin
BEGIN:DAYLIGHT
DTSTART:19700329T020000
RRULE:FREQ=YEARLY;BYDAY=-1SU;BYMONTH=3
TZNAME:CEST
TZOFFSETFROM:+0100
TZOFFSETTO:+0200
END:DAYLIGHT
BEGIN:STANDARD
DTSTART:19701025T030000
RRULE:FREQ=YEARLY;BYDAY=-1SU;BYMONTH=10
TZNAME:CET
TZOFFSETFROM:+0200
TZOFFSETTO:+0100
END:STANDARD
END:VTIMEZONE
END:VCALENDAR
