BEGIN:VCALENDAR
VERSION:2.0
PRODID:-//destination.one//NONSGML destination.meta API//DE
X-WR-CALDESC:A calendar powered by destination.meta
X-WR-CALNAME:teutonavigator Kalender via destination.meta
BEGIN:VEVENT
CATEGORIES:Führung/Besichtigung
DESCRIPTION:Selbständige Rundgänge mit der Detmolder Zeitmaschine\n\nmehr I
 nformationen unter http://pages.destination.one/de/teutonavigator/streamin
 g/detail/Event/e_101162155/ihr-smartphone-wird-zur-detmolder-zeitmaschine
DTEND;TZID=Europe/Berlin:20230927T235900
DTSTAMP:20260421T135922Z
DTSTART;TZID=Europe/Berlin:20230927T145800
GEO:51.932925;8.877504
LOCATION:Willy-Brandt-Platz am Friedrichstaler Kanal\, Willy-Brandt-Platz 2
 \, Detmold
ORGANIZER;CN=Dr. Hans-Joachim Keil:mailto:hj.keil@t-online.de
RRULE:FREQ=DAILY;UNTIL=20300101T225900
SEQUENCE:0
SUMMARY:Ihr Smartphone wird zur Detmolder Zeitmaschine
UID:e_101162155_iv0
URL:http://pages.destination.one/de/teutonavigator/streaming/detail/Event/e
 _101162155/ihr-smartphone-wird-zur-detmolder-zeitmaschine
END:VEVENT
BEGIN:VTIMEZONE
TZID:Europe/Berlin
X-LIC-LOCATION:Europe/Berlin
BEGIN:DAYLIGHT
DTSTART:19700329T020000
RRULE:FREQ=YEARLY;BYDAY=-1SU;BYMONTH=3
TZNAME:CEST
TZOFFSETFROM:+0100
TZOFFSETTO:+0200
END:DAYLIGHT
BEGIN:STANDARD
DTSTART:19701025T030000
RRULE:FREQ=YEARLY;BYDAY=-1SU;BYMONTH=10
TZNAME:CET
TZOFFSETFROM:+0200
TZOFFSETTO:+0100
END:STANDARD
END:VTIMEZONE
END:VCALENDAR
