BEGIN:VCALENDAR
VERSION:2.0
PRODID:-//destination.one//NONSGML destination.meta API//DE
X-WR-CALDESC:A calendar powered by destination.meta
X-WR-CALNAME:teutonavigator Kalender via destination.meta
BEGIN:VEVENT
CATEGORIES:Ausflug/Exkursion
CATEGORIES:Führung/Besichtigung
CATEGORIES:Wanderung
DESCRIPTION:\n\nmehr Informationen unter http://pages.destination.one/de/te
 utonavigator/streaming/detail/Event/e_101161971/eselwanderung-zum-velmerst
 ot-mit-bernachtung
DTEND;TZID=Europe/Berlin;VALUE=DATE:20260511
DTSTAMP:20260421T155023Z
DTSTART;TZID=Europe/Berlin;VALUE=DATE:20260509
GEO:51.884250;8.923890
LOCATION:Rosenhof-Lippe\, Zum Rosenbusch 102\, Horn-Bad Meinberg
ORGANIZER;CN=Rosenhof - Lippe:http://https//www.rosenhof-lippe.com/
PRIORITY:4
SEQUENCE:0
SUMMARY:Eselwanderung zum Velmerstot mit Übernachtung
UID:e_101161971_iv0
URL:http://pages.destination.one/de/teutonavigator/streaming/detail/Event/e
 _101161971/eselwanderung-zum-velmerstot-mit-bernachtung
END:VEVENT
BEGIN:VTIMEZONE
TZID:Europe/Berlin
X-LIC-LOCATION:Europe/Berlin
BEGIN:DAYLIGHT
DTSTART:19700329T020000
RRULE:FREQ=YEARLY;BYDAY=-1SU;BYMONTH=3
TZNAME:CEST
TZOFFSETFROM:+0100
TZOFFSETTO:+0200
END:DAYLIGHT
BEGIN:STANDARD
DTSTART:19701025T030000
RRULE:FREQ=YEARLY;BYDAY=-1SU;BYMONTH=10
TZNAME:CET
TZOFFSETFROM:+0200
TZOFFSETTO:+0100
END:STANDARD
END:VTIMEZONE
END:VCALENDAR
