BEGIN:VCALENDAR
VERSION:2.0
PRODID:-//destination.one//NONSGML destination.meta API//DE
X-WR-CALDESC:A calendar powered by destination.meta
X-WR-CALNAME:teutonavigator Kalender via destination.meta
BEGIN:VEVENT
CATEGORIES:Sport/Freizeit
CATEGORIES:Führung/Besichtigung
CATEGORIES:Stadtfest/Kirmes/Jahrmarkt
CATEGORIES:Festival/Open-Air
CATEGORIES:Brauchtum/Kultur
DESCRIPTION:Die besondere Stadtführung\, die sich dem Thema Aberglaube widm
 et. Unter dem Titel „von Zauberbohrungen und Verhaltensweisen“ begeben sic
 h Teilnehmende auf einen historischen Rundgang durch Alt- und Innenstadt\,
  um uralte Bräuche\, Legenden und Rituale kennenzulernen\, die das Alltags
 leben und die Architektur der Stadt über Jahrhunderte geprägt haben. Inkl.
  Stationen an historischen Schauplätzen\, an denen Aberglaube das Handeln 
 beeinflusste wie auch Geschichten über Schutz- und Unglückssymbole\, Spukl
 egenden und religiöse Rituale.\nTreffpunkt: Historisches Rathaus (Am Markt
  26)\nTeilnahme: 8€ pro Person\nAnmeldung nicht notwendig\, einfach kommen
 .\n\nmehr Informationen unter http://pages.destination.one/de/teutonavigat
 or/streaming/detail/Event/e_101161880/von-zauberbohrungen-und-verhaltenswe
 isen
DTEND;TZID=Europe/Berlin:20251213T200000
DTSTAMP:20260421T131528Z
DTSTART;TZID=Europe/Berlin:20251213T190000
GEO:52.083613;8.747435
LOCATION:evenso!\, Wasserfuhr 12\, Bad Salzuflen
ORGANIZER;CN=Sabine Mirbach:mailto:mirbach@evenso.info
RRULE:FREQ=WEEKLY;UNTIL=20251213T230000;BYDAY=SA
SEQUENCE:0
SUMMARY:Von Zauberbohrungen und Verhaltensweisen
UID:e_101161880_iv0
URL:http://pages.destination.one/de/teutonavigator/streaming/detail/Event/e
 _101161880/von-zauberbohrungen-und-verhaltensweisen
END:VEVENT
BEGIN:VEVENT
CATEGORIES:Sport/Freizeit
CATEGORIES:Führung/Besichtigung
CATEGORIES:Stadtfest/Kirmes/Jahrmarkt
CATEGORIES:Festival/Open-Air
CATEGORIES:Brauchtum/Kultur
DESCRIPTION:Die besondere Stadtführung\, die sich dem Thema Aberglaube widm
 et. Unter dem Titel „von Zauberbohrungen und Verhaltensweisen“ begeben sic
 h Teilnehmende auf einen historischen Rundgang durch Alt- und Innenstadt\,
  um uralte Bräuche\, Legenden und Rituale kennenzulernen\, die das Alltags
 leben und die Architektur der Stadt über Jahrhunderte geprägt haben. Inkl.
  Stationen an historischen Schauplätzen\, an denen Aberglaube das Handeln 
 beeinflusste wie auch Geschichten über Schutz- und Unglückssymbole\, Spukl
 egenden und religiöse Rituale.\nTreffpunkt: Historisches Rathaus (Am Markt
  26)\nTeilnahme: 8€ pro Person\nAnmeldung nicht notwendig\, einfach kommen
 .\n\nmehr Informationen unter http://pages.destination.one/de/teutonavigat
 or/streaming/detail/Event/e_101161880/von-zauberbohrungen-und-verhaltenswe
 isen
DTEND;TZID=Europe/Berlin:20260113T200000
DTSTAMP:20260421T131528Z
DTSTART;TZID=Europe/Berlin:20260113T190000
GEO:52.083613;8.747435
LOCATION:evenso!\, Wasserfuhr 12\, Bad Salzuflen
ORGANIZER;CN=Sabine Mirbach:mailto:mirbach@evenso.info
RRULE:FREQ=WEEKLY;UNTIL=20260113T230000;BYDAY=TU
SEQUENCE:0
SUMMARY:Von Zauberbohrungen und Verhaltensweisen
UID:e_101161880_iv1
URL:http://pages.destination.one/de/teutonavigator/streaming/detail/Event/e
 _101161880/von-zauberbohrungen-und-verhaltensweisen
END:VEVENT
BEGIN:VEVENT
CATEGORIES:Sport/Freizeit
CATEGORIES:Führung/Besichtigung
CATEGORIES:Stadtfest/Kirmes/Jahrmarkt
CATEGORIES:Festival/Open-Air
CATEGORIES:Brauchtum/Kultur
DESCRIPTION:Die besondere Stadtführung\, die sich dem Thema Aberglaube widm
 et. Unter dem Titel „von Zauberbohrungen und Verhaltensweisen“ begeben sic
 h Teilnehmende auf einen historischen Rundgang durch Alt- und Innenstadt\,
  um uralte Bräuche\, Legenden und Rituale kennenzulernen\, die das Alltags
 leben und die Architektur der Stadt über Jahrhunderte geprägt haben. Inkl.
  Stationen an historischen Schauplätzen\, an denen Aberglaube das Handeln 
 beeinflusste wie auch Geschichten über Schutz- und Unglückssymbole\, Spukl
 egenden und religiöse Rituale.\nTreffpunkt: Historisches Rathaus (Am Markt
  26)\nTeilnahme: 8€ pro Person\nAnmeldung nicht notwendig\, einfach kommen
 .\n\nmehr Informationen unter http://pages.destination.one/de/teutonavigat
 or/streaming/detail/Event/e_101161880/von-zauberbohrungen-und-verhaltenswe
 isen
DTEND;TZID=Europe/Berlin:20260213T200000
DTSTAMP:20260421T131528Z
DTSTART;TZID=Europe/Berlin:20260213T190000
GEO:52.083613;8.747435
LOCATION:evenso!\, Wasserfuhr 12\, Bad Salzuflen
ORGANIZER;CN=Sabine Mirbach:mailto:mirbach@evenso.info
RRULE:FREQ=WEEKLY;UNTIL=20260213T230000;BYDAY=FR
SEQUENCE:0
SUMMARY:Von Zauberbohrungen und Verhaltensweisen
UID:e_101161880_iv2
URL:http://pages.destination.one/de/teutonavigator/streaming/detail/Event/e
 _101161880/von-zauberbohrungen-und-verhaltensweisen
END:VEVENT
BEGIN:VEVENT
CATEGORIES:Sport/Freizeit
CATEGORIES:Führung/Besichtigung
CATEGORIES:Stadtfest/Kirmes/Jahrmarkt
CATEGORIES:Festival/Open-Air
CATEGORIES:Brauchtum/Kultur
DESCRIPTION:Die besondere Stadtführung\, die sich dem Thema Aberglaube widm
 et. Unter dem Titel „von Zauberbohrungen und Verhaltensweisen“ begeben sic
 h Teilnehmende auf einen historischen Rundgang durch Alt- und Innenstadt\,
  um uralte Bräuche\, Legenden und Rituale kennenzulernen\, die das Alltags
 leben und die Architektur der Stadt über Jahrhunderte geprägt haben. Inkl.
  Stationen an historischen Schauplätzen\, an denen Aberglaube das Handeln 
 beeinflusste wie auch Geschichten über Schutz- und Unglückssymbole\, Spukl
 egenden und religiöse Rituale.\nTreffpunkt: Historisches Rathaus (Am Markt
  26)\nTeilnahme: 8€ pro Person\nAnmeldung nicht notwendig\, einfach kommen
 .\n\nmehr Informationen unter http://pages.destination.one/de/teutonavigat
 or/streaming/detail/Event/e_101161880/von-zauberbohrungen-und-verhaltenswe
 isen
DTEND;TZID=Europe/Berlin:20260313T200000
DTSTAMP:20260421T131528Z
DTSTART;TZID=Europe/Berlin:20260313T190000
GEO:52.083613;8.747435
LOCATION:evenso!\, Wasserfuhr 12\, Bad Salzuflen
ORGANIZER;CN=Sabine Mirbach:mailto:mirbach@evenso.info
RRULE:FREQ=WEEKLY;UNTIL=20260313T230000;BYDAY=FR
SEQUENCE:0
SUMMARY:Von Zauberbohrungen und Verhaltensweisen
UID:e_101161880_iv3
URL:http://pages.destination.one/de/teutonavigator/streaming/detail/Event/e
 _101161880/von-zauberbohrungen-und-verhaltensweisen
END:VEVENT
BEGIN:VEVENT
CATEGORIES:Sport/Freizeit
CATEGORIES:Führung/Besichtigung
CATEGORIES:Stadtfest/Kirmes/Jahrmarkt
CATEGORIES:Festival/Open-Air
CATEGORIES:Brauchtum/Kultur
DESCRIPTION:Die besondere Stadtführung\, die sich dem Thema Aberglaube widm
 et. Unter dem Titel „von Zauberbohrungen und Verhaltensweisen“ begeben sic
 h Teilnehmende auf einen historischen Rundgang durch Alt- und Innenstadt\,
  um uralte Bräuche\, Legenden und Rituale kennenzulernen\, die das Alltags
 leben und die Architektur der Stadt über Jahrhunderte geprägt haben. Inkl.
  Stationen an historischen Schauplätzen\, an denen Aberglaube das Handeln 
 beeinflusste wie auch Geschichten über Schutz- und Unglückssymbole\, Spukl
 egenden und religiöse Rituale.\nTreffpunkt: Historisches Rathaus (Am Markt
  26)\nTeilnahme: 8€ pro Person\nAnmeldung nicht notwendig\, einfach kommen
 .\n\nmehr Informationen unter http://pages.destination.one/de/teutonavigat
 or/streaming/detail/Event/e_101161880/von-zauberbohrungen-und-verhaltenswe
 isen
DTEND;TZID=Europe/Berlin:20260412T200000
DTSTAMP:20260421T131528Z
DTSTART;TZID=Europe/Berlin:20260412T190000
GEO:52.083613;8.747435
LOCATION:evenso!\, Wasserfuhr 12\, Bad Salzuflen
ORGANIZER;CN=Sabine Mirbach:mailto:mirbach@evenso.info
RRULE:FREQ=WEEKLY;UNTIL=20260412T220000;BYDAY=SU
SEQUENCE:0
SUMMARY:Von Zauberbohrungen und Verhaltensweisen
UID:e_101161880_iv4
URL:http://pages.destination.one/de/teutonavigator/streaming/detail/Event/e
 _101161880/von-zauberbohrungen-und-verhaltensweisen
END:VEVENT
BEGIN:VEVENT
CATEGORIES:Sport/Freizeit
CATEGORIES:Führung/Besichtigung
CATEGORIES:Stadtfest/Kirmes/Jahrmarkt
CATEGORIES:Festival/Open-Air
CATEGORIES:Brauchtum/Kultur
DESCRIPTION:Die besondere Stadtführung\, die sich dem Thema Aberglaube widm
 et. Unter dem Titel „von Zauberbohrungen und Verhaltensweisen“ begeben sic
 h Teilnehmende auf einen historischen Rundgang durch Alt- und Innenstadt\,
  um uralte Bräuche\, Legenden und Rituale kennenzulernen\, die das Alltags
 leben und die Architektur der Stadt über Jahrhunderte geprägt haben. Inkl.
  Stationen an historischen Schauplätzen\, an denen Aberglaube das Handeln 
 beeinflusste wie auch Geschichten über Schutz- und Unglückssymbole\, Spukl
 egenden und religiöse Rituale.\nTreffpunkt: Historisches Rathaus (Am Markt
  26)\nTeilnahme: 8€ pro Person\nAnmeldung nicht notwendig\, einfach kommen
 .\n\nmehr Informationen unter http://pages.destination.one/de/teutonavigat
 or/streaming/detail/Event/e_101161880/von-zauberbohrungen-und-verhaltenswe
 isen
DTEND;TZID=Europe/Berlin:20260513T200000
DTSTAMP:20260421T131528Z
DTSTART;TZID=Europe/Berlin:20260513T190000
GEO:52.083613;8.747435
LOCATION:evenso!\, Wasserfuhr 12\, Bad Salzuflen
ORGANIZER;CN=Sabine Mirbach:mailto:mirbach@evenso.info
RRULE:FREQ=WEEKLY;UNTIL=20260513T220000;BYDAY=WE
SEQUENCE:0
SUMMARY:Von Zauberbohrungen und Verhaltensweisen
UID:e_101161880_iv5
URL:http://pages.destination.one/de/teutonavigator/streaming/detail/Event/e
 _101161880/von-zauberbohrungen-und-verhaltensweisen
END:VEVENT
BEGIN:VEVENT
CATEGORIES:Sport/Freizeit
CATEGORIES:Führung/Besichtigung
CATEGORIES:Stadtfest/Kirmes/Jahrmarkt
CATEGORIES:Festival/Open-Air
CATEGORIES:Brauchtum/Kultur
DESCRIPTION:Die besondere Stadtführung\, die sich dem Thema Aberglaube widm
 et. Unter dem Titel „von Zauberbohrungen und Verhaltensweisen“ begeben sic
 h Teilnehmende auf einen historischen Rundgang durch Alt- und Innenstadt\,
  um uralte Bräuche\, Legenden und Rituale kennenzulernen\, die das Alltags
 leben und die Architektur der Stadt über Jahrhunderte geprägt haben. Inkl.
  Stationen an historischen Schauplätzen\, an denen Aberglaube das Handeln 
 beeinflusste wie auch Geschichten über Schutz- und Unglückssymbole\, Spukl
 egenden und religiöse Rituale.\nTreffpunkt: Historisches Rathaus (Am Markt
  26)\nTeilnahme: 8€ pro Person\nAnmeldung nicht notwendig\, einfach kommen
 .\n\nmehr Informationen unter http://pages.destination.one/de/teutonavigat
 or/streaming/detail/Event/e_101161880/von-zauberbohrungen-und-verhaltenswe
 isen
DTEND;TZID=Europe/Berlin:20260613T200000
DTSTAMP:20260421T131528Z
DTSTART;TZID=Europe/Berlin:20260613T190000
GEO:52.083613;8.747435
LOCATION:evenso!\, Wasserfuhr 12\, Bad Salzuflen
ORGANIZER;CN=Sabine Mirbach:mailto:mirbach@evenso.info
RRULE:FREQ=WEEKLY;UNTIL=20260613T220000;BYDAY=SA
SEQUENCE:0
SUMMARY:Von Zauberbohrungen und Verhaltensweisen
UID:e_101161880_iv6
URL:http://pages.destination.one/de/teutonavigator/streaming/detail/Event/e
 _101161880/von-zauberbohrungen-und-verhaltensweisen
END:VEVENT
BEGIN:VTIMEZONE
TZID:Europe/Berlin
X-LIC-LOCATION:Europe/Berlin
BEGIN:DAYLIGHT
DTSTART:19700329T020000
RRULE:FREQ=YEARLY;BYDAY=-1SU;BYMONTH=3
TZNAME:CEST
TZOFFSETFROM:+0100
TZOFFSETTO:+0200
END:DAYLIGHT
BEGIN:STANDARD
DTSTART:19701025T030000
RRULE:FREQ=YEARLY;BYDAY=-1SU;BYMONTH=10
TZNAME:CET
TZOFFSETFROM:+0200
TZOFFSETTO:+0100
END:STANDARD
END:VTIMEZONE
END:VCALENDAR
