BEGIN:VCALENDAR
VERSION:2.0
PRODID:-//destination.one//NONSGML destination.meta API//DE
X-WR-CALDESC:A calendar powered by destination.meta
X-WR-CALNAME:teutonavigator Kalender via destination.meta
BEGIN:VEVENT
CATEGORIES:Sport/Freizeit
CATEGORIES:Sonstiges
DESCRIPTION:Verbindung zu dir & deinem Herzensmenschen!\n\nmehr Information
 en unter http://pages.destination.one/de/teutonavigator/streaming/detail/E
 vent/e_101161716/yoga-zu-zweit
DTEND;TZID=Europe/Berlin:20260315T113000
DTSTAMP:20260421T124123Z
DTSTART;TZID=Europe/Berlin:20260315T100000
GEO:52.020599;8.531972
LOCATION:Theater am Alten Markt\, Alter Markt 1\, Bielefeld
SEQUENCE:0
SUMMARY:Yoga zu zweit
UID:e_101161716_iv0
URL:http://pages.destination.one/de/teutonavigator/streaming/detail/Event/e
 _101161716/yoga-zu-zweit
END:VEVENT
BEGIN:VEVENT
CATEGORIES:Sport/Freizeit
CATEGORIES:Sonstiges
DESCRIPTION:Verbindung zu dir & deinem Herzensmenschen!\n\nmehr Information
 en unter http://pages.destination.one/de/teutonavigator/streaming/detail/E
 vent/e_101161716/yoga-zu-zweit
DTEND;TZID=Europe/Berlin:20260614T113000
DTSTAMP:20260421T124123Z
DTSTART;TZID=Europe/Berlin:20260614T100000
GEO:52.020599;8.531972
LOCATION:Theater am Alten Markt\, Alter Markt 1\, Bielefeld
SEQUENCE:0
SUMMARY:Yoga zu zweit
UID:e_101161716_iv1
URL:http://pages.destination.one/de/teutonavigator/streaming/detail/Event/e
 _101161716/yoga-zu-zweit
END:VEVENT
BEGIN:VEVENT
CATEGORIES:Sport/Freizeit
CATEGORIES:Sonstiges
DESCRIPTION:Verbindung zu dir & deinem Herzensmenschen!\n\nmehr Information
 en unter http://pages.destination.one/de/teutonavigator/streaming/detail/E
 vent/e_101161716/yoga-zu-zweit
DTEND;TZID=Europe/Berlin:20260714T113000
DTSTAMP:20260421T124123Z
DTSTART;TZID=Europe/Berlin:20260714T100000
GEO:52.020599;8.531972
LOCATION:Theater am Alten Markt\, Alter Markt 1\, Bielefeld
SEQUENCE:0
SUMMARY:Yoga zu zweit
UID:e_101161716_iv2
URL:http://pages.destination.one/de/teutonavigator/streaming/detail/Event/e
 _101161716/yoga-zu-zweit
END:VEVENT
BEGIN:VTIMEZONE
TZID:Europe/Berlin
X-LIC-LOCATION:Europe/Berlin
BEGIN:DAYLIGHT
DTSTART:19700329T020000
RRULE:FREQ=YEARLY;BYDAY=-1SU;BYMONTH=3
TZNAME:CEST
TZOFFSETFROM:+0100
TZOFFSETTO:+0200
END:DAYLIGHT
BEGIN:STANDARD
DTSTART:19701025T030000
RRULE:FREQ=YEARLY;BYDAY=-1SU;BYMONTH=10
TZNAME:CET
TZOFFSETFROM:+0200
TZOFFSETTO:+0100
END:STANDARD
END:VTIMEZONE
END:VCALENDAR
