BEGIN:VCALENDAR
VERSION:2.0
PRODID:-//destination.one//NONSGML destination.meta API//DE
X-WR-CALDESC:A calendar powered by destination.meta
X-WR-CALNAME:teutonavigator Kalender via destination.meta
BEGIN:VEVENT
CATEGORIES:Konzert divers
DESCRIPTION:\n\nmehr Informationen unter http://pages.destination.one/de/te
 utonavigator/streaming/detail/Event/e_101161224/kulturfr-hst-ck-d-tetaler-
 blaskapelle-wellendorf
DTEND;TZID=Europe/Berlin:20261108T130000
DTSTAMP:20260421T171100Z
DTSTART;TZID=Europe/Berlin:20261108T110000
GEO:52.254059;8.480349
LOCATION:Haus des Gastes\, Feierhalle\, Pemberville Platz 1\, Rödinghausen
ORGANIZER;CN=Gemeinde Rödinghausen:mailto:info@roedinghausen.de
SEQUENCE:0
SUMMARY:Kulturfrühstück: Dütetaler Blaskapelle Wellendorf
UID:e_101161224_iv0
URL:http://pages.destination.one/de/teutonavigator/streaming/detail/Event/e
 _101161224/kulturfr-hst-ck-d-tetaler-blaskapelle-wellendorf
END:VEVENT
BEGIN:VTIMEZONE
TZID:Europe/Berlin
X-LIC-LOCATION:Europe/Berlin
BEGIN:DAYLIGHT
DTSTART:19700329T020000
RRULE:FREQ=YEARLY;BYDAY=-1SU;BYMONTH=3
TZNAME:CEST
TZOFFSETFROM:+0100
TZOFFSETTO:+0200
END:DAYLIGHT
BEGIN:STANDARD
DTSTART:19701025T030000
RRULE:FREQ=YEARLY;BYDAY=-1SU;BYMONTH=10
TZNAME:CET
TZOFFSETFROM:+0200
TZOFFSETTO:+0100
END:STANDARD
END:VTIMEZONE
END:VCALENDAR
