BEGIN:VCALENDAR
VERSION:2.0
PRODID:-//destination.one//NONSGML destination.meta API//DE
X-WR-CALDESC:A calendar powered by destination.meta
X-WR-CALNAME:teutonavigator Kalender via destination.meta
BEGIN:VEVENT
CATEGORIES:Konzert divers
DESCRIPTION:Jubiläumsweltreise mit der Drehorgel\n\nmehr Informationen unte
 r http://pages.destination.one/de/teutonavigator/streaming/detail/Event/e_
 101161220/kulturfr-hst-ck-10-jahre-fiedel-lise-der-orgeldreher
DTEND;TZID=Europe/Berlin:20261004T130000
DTSTAMP:20260423T082013Z
DTSTART;TZID=Europe/Berlin:20261004T110000
GEO:52.254059;8.480349
LOCATION:Haus des Gastes\, Feierhalle\, Pemberville Platz 1\, Rödinghausen
ORGANIZER;CN=Gemeinde Rödinghausen:mailto:info@roedinghausen.de
SEQUENCE:0
SUMMARY:Kulturfrühstück: 10 Jahre Fiedel-Lise & der Orgeldreher
UID:e_101161220_iv0
URL:http://pages.destination.one/de/teutonavigator/streaming/detail/Event/e
 _101161220/kulturfr-hst-ck-10-jahre-fiedel-lise-der-orgeldreher
END:VEVENT
BEGIN:VTIMEZONE
TZID:Europe/Berlin
X-LIC-LOCATION:Europe/Berlin
BEGIN:DAYLIGHT
DTSTART:19700329T020000
RRULE:FREQ=YEARLY;BYDAY=-1SU;BYMONTH=3
TZNAME:CEST
TZOFFSETFROM:+0100
TZOFFSETTO:+0200
END:DAYLIGHT
BEGIN:STANDARD
DTSTART:19701025T030000
RRULE:FREQ=YEARLY;BYDAY=-1SU;BYMONTH=10
TZNAME:CET
TZOFFSETFROM:+0200
TZOFFSETTO:+0100
END:STANDARD
END:VTIMEZONE
END:VCALENDAR
