BEGIN:VCALENDAR
VERSION:2.0
PRODID:-//destination.one//NONSGML destination.meta API//DE
X-WR-CALDESC:A calendar powered by destination.meta
X-WR-CALNAME:teutonavigator Kalender via destination.meta
BEGIN:VEVENT
CATEGORIES:Bühne divers
DESCRIPTION:Stellen Sie sich vor\, Sie wären in Paris und Sie hätten dazu d
 ie beste Stadtführung\, die man sich vorstellen könnte\, nicht nur rein in
  den Doppeldecker und Stimme vom Band\, sondern musikalisch\, kulinarisch 
 und vieles mehr! Auf so eine ganz und gar besondere Reise lädt Sie sowohl 
 fachmännisch als auch überaus charmant das Duo „Pariser Flair“ ein\n\nmehr
  Informationen unter http://pages.destination.one/de/teutonavigator/stream
 ing/detail/Event/e_101161065/pariser-flair-eine-musikalische-stadtf-hrung
DTEND;TZID=Europe/Berlin:20260426T200000
DTSTAMP:20260421T110031Z
DTSTART;TZID=Europe/Berlin:20260426T180000
GEO:52.247789;8.506211
LOCATION:Gesamtschule Rödinghausen\, An der Stertwelle 34-38\, Rödinghausen
ORGANIZER;CN=Gemeinde Rödinghausen:mailto:info@roedinghausen.de
SEQUENCE:0
SUMMARY:Pariser Flair - Eine musikalische Stadtführung
UID:e_101161065_iv0
URL:http://pages.destination.one/de/teutonavigator/streaming/detail/Event/e
 _101161065/pariser-flair-eine-musikalische-stadtf-hrung
END:VEVENT
BEGIN:VTIMEZONE
TZID:Europe/Berlin
X-LIC-LOCATION:Europe/Berlin
BEGIN:DAYLIGHT
DTSTART:19700329T020000
RRULE:FREQ=YEARLY;BYDAY=-1SU;BYMONTH=3
TZNAME:CEST
TZOFFSETFROM:+0100
TZOFFSETTO:+0200
END:DAYLIGHT
BEGIN:STANDARD
DTSTART:19701025T030000
RRULE:FREQ=YEARLY;BYDAY=-1SU;BYMONTH=10
TZNAME:CET
TZOFFSETFROM:+0200
TZOFFSETTO:+0100
END:STANDARD
END:VTIMEZONE
END:VCALENDAR
