BEGIN:VCALENDAR
VERSION:2.0
PRODID:-//destination.one//NONSGML destination.meta API//DE
X-WR-CALDESC:A calendar powered by destination.meta
X-WR-CALNAME:teutonavigator Kalender via destination.meta
BEGIN:VEVENT
CATEGORIES:Sonstiges
CATEGORIES:Führung/Besichtigung
DESCRIPTION:\n\nmehr Informationen unter http://pages.destination.one/de/te
 utonavigator/streaming/detail/Event/e_101160840/weihnachtliche-stadtf-hrun
 g
DTEND;TZID=Europe/Berlin:20241130T163000
DTSTAMP:20260422T123104Z
DTSTART;TZID=Europe/Berlin:20241130T150000
GEO:52.287836;8.918405
LOCATION:Tourist-Information der Minden Marketing GmbH\, Kleiner Domhof 17\
 , Minden
ORGANIZER;CN=Tourist-Information der Minden Marketing GmbH:mailto:info@mind
 enmarketing.de
RRULE:FREQ=WEEKLY;UNTIL=20241130T230000;BYDAY=SA
SEQUENCE:0
SUMMARY:Weihnachtliche Stadtführung
UID:e_101160840_iv0
URL:http://pages.destination.one/de/teutonavigator/streaming/detail/Event/e
 _101160840/weihnachtliche-stadtf-hrung
END:VEVENT
BEGIN:VEVENT
CATEGORIES:Sonstiges
CATEGORIES:Führung/Besichtigung
DESCRIPTION:\n\nmehr Informationen unter http://pages.destination.one/de/te
 utonavigator/streaming/detail/Event/e_101160840/weihnachtliche-stadtf-hrun
 g
DTEND;TZID=Europe/Berlin:20241207T163000
DTSTAMP:20260422T123104Z
DTSTART;TZID=Europe/Berlin:20241207T150000
GEO:52.287836;8.918405
LOCATION:Tourist-Information der Minden Marketing GmbH\, Kleiner Domhof 17\
 , Minden
ORGANIZER;CN=Tourist-Information der Minden Marketing GmbH:mailto:info@mind
 enmarketing.de
RRULE:FREQ=WEEKLY;UNTIL=20241207T230000;BYDAY=SA
SEQUENCE:0
SUMMARY:Weihnachtliche Stadtführung
UID:e_101160840_iv1
URL:http://pages.destination.one/de/teutonavigator/streaming/detail/Event/e
 _101160840/weihnachtliche-stadtf-hrung
END:VEVENT
BEGIN:VEVENT
CATEGORIES:Sonstiges
CATEGORIES:Führung/Besichtigung
DESCRIPTION:\n\nmehr Informationen unter http://pages.destination.one/de/te
 utonavigator/streaming/detail/Event/e_101160840/weihnachtliche-stadtf-hrun
 g
DTEND;TZID=Europe/Berlin:20241214T163000
DTSTAMP:20260422T123104Z
DTSTART;TZID=Europe/Berlin:20241214T150000
GEO:52.287836;8.918405
LOCATION:Tourist-Information der Minden Marketing GmbH\, Kleiner Domhof 17\
 , Minden
ORGANIZER;CN=Tourist-Information der Minden Marketing GmbH:mailto:info@mind
 enmarketing.de
RRULE:FREQ=WEEKLY;UNTIL=20241214T230000;BYDAY=SA
SEQUENCE:0
SUMMARY:Weihnachtliche Stadtführung
UID:e_101160840_iv2
URL:http://pages.destination.one/de/teutonavigator/streaming/detail/Event/e
 _101160840/weihnachtliche-stadtf-hrung
END:VEVENT
BEGIN:VEVENT
CATEGORIES:Sonstiges
CATEGORIES:Führung/Besichtigung
DESCRIPTION:\n\nmehr Informationen unter http://pages.destination.one/de/te
 utonavigator/streaming/detail/Event/e_101160840/weihnachtliche-stadtf-hrun
 g
DTEND;TZID=Europe/Berlin:20241221T163000
DTSTAMP:20260422T123104Z
DTSTART;TZID=Europe/Berlin:20241221T150000
GEO:52.287836;8.918405
LOCATION:Tourist-Information der Minden Marketing GmbH\, Kleiner Domhof 17\
 , Minden
ORGANIZER;CN=Tourist-Information der Minden Marketing GmbH:mailto:info@mind
 enmarketing.de
RRULE:FREQ=WEEKLY;UNTIL=20241221T230000;BYDAY=SA
SEQUENCE:0
SUMMARY:Weihnachtliche Stadtführung
UID:e_101160840_iv3
URL:http://pages.destination.one/de/teutonavigator/streaming/detail/Event/e
 _101160840/weihnachtliche-stadtf-hrung
END:VEVENT
BEGIN:VEVENT
CATEGORIES:Sonstiges
CATEGORIES:Führung/Besichtigung
DESCRIPTION:\n\nmehr Informationen unter http://pages.destination.one/de/te
 utonavigator/streaming/detail/Event/e_101160840/weihnachtliche-stadtf-hrun
 g
DTEND;TZID=Europe/Berlin:20251129T163000
DTSTAMP:20260422T123104Z
DTSTART;TZID=Europe/Berlin:20251129T150000
GEO:52.287836;8.918405
LOCATION:Tourist-Information der Minden Marketing GmbH\, Kleiner Domhof 17\
 , Minden
ORGANIZER;CN=Tourist-Information der Minden Marketing GmbH:mailto:info@mind
 enmarketing.de
RRULE:FREQ=WEEKLY;UNTIL=20251129T230000;BYDAY=SA
SEQUENCE:0
SUMMARY:Weihnachtliche Stadtführung
UID:e_101160840_iv4
URL:http://pages.destination.one/de/teutonavigator/streaming/detail/Event/e
 _101160840/weihnachtliche-stadtf-hrung
END:VEVENT
BEGIN:VEVENT
CATEGORIES:Sonstiges
CATEGORIES:Führung/Besichtigung
DESCRIPTION:\n\nmehr Informationen unter http://pages.destination.one/de/te
 utonavigator/streaming/detail/Event/e_101160840/weihnachtliche-stadtf-hrun
 g
DTEND;TZID=Europe/Berlin:20251206T163000
DTSTAMP:20260422T123104Z
DTSTART;TZID=Europe/Berlin:20251206T150000
GEO:52.287836;8.918405
LOCATION:Tourist-Information der Minden Marketing GmbH\, Kleiner Domhof 17\
 , Minden
ORGANIZER;CN=Tourist-Information der Minden Marketing GmbH:mailto:info@mind
 enmarketing.de
RRULE:FREQ=WEEKLY;UNTIL=20251206T230000;BYDAY=SA
SEQUENCE:0
SUMMARY:Weihnachtliche Stadtführung
UID:e_101160840_iv5
URL:http://pages.destination.one/de/teutonavigator/streaming/detail/Event/e
 _101160840/weihnachtliche-stadtf-hrung
END:VEVENT
BEGIN:VEVENT
CATEGORIES:Sonstiges
CATEGORIES:Führung/Besichtigung
DESCRIPTION:\n\nmehr Informationen unter http://pages.destination.one/de/te
 utonavigator/streaming/detail/Event/e_101160840/weihnachtliche-stadtf-hrun
 g
DTEND;TZID=Europe/Berlin:20251213T163000
DTSTAMP:20260422T123104Z
DTSTART;TZID=Europe/Berlin:20251213T150000
GEO:52.287836;8.918405
LOCATION:Tourist-Information der Minden Marketing GmbH\, Kleiner Domhof 17\
 , Minden
ORGANIZER;CN=Tourist-Information der Minden Marketing GmbH:mailto:info@mind
 enmarketing.de
RRULE:FREQ=WEEKLY;UNTIL=20251213T230000;BYDAY=SA
SEQUENCE:0
SUMMARY:Weihnachtliche Stadtführung
UID:e_101160840_iv6
URL:http://pages.destination.one/de/teutonavigator/streaming/detail/Event/e
 _101160840/weihnachtliche-stadtf-hrung
END:VEVENT
BEGIN:VEVENT
CATEGORIES:Sonstiges
CATEGORIES:Führung/Besichtigung
DESCRIPTION:\n\nmehr Informationen unter http://pages.destination.one/de/te
 utonavigator/streaming/detail/Event/e_101160840/weihnachtliche-stadtf-hrun
 g
DTEND;TZID=Europe/Berlin:20251220T163000
DTSTAMP:20260422T123104Z
DTSTART;TZID=Europe/Berlin:20251220T150000
GEO:52.287836;8.918405
LOCATION:Tourist-Information der Minden Marketing GmbH\, Kleiner Domhof 17\
 , Minden
ORGANIZER;CN=Tourist-Information der Minden Marketing GmbH:mailto:info@mind
 enmarketing.de
RRULE:FREQ=WEEKLY;UNTIL=20251220T230000;BYDAY=SA
SEQUENCE:0
SUMMARY:Weihnachtliche Stadtführung
UID:e_101160840_iv7
URL:http://pages.destination.one/de/teutonavigator/streaming/detail/Event/e
 _101160840/weihnachtliche-stadtf-hrung
END:VEVENT
BEGIN:VEVENT
CATEGORIES:Sonstiges
CATEGORIES:Führung/Besichtigung
DESCRIPTION:\n\nmehr Informationen unter http://pages.destination.one/de/te
 utonavigator/streaming/detail/Event/e_101160840/weihnachtliche-stadtf-hrun
 g
DTEND;TZID=Europe/Berlin:20261128T163000
DTSTAMP:20260422T123104Z
DTSTART;TZID=Europe/Berlin:20261128T150000
GEO:52.287836;8.918405
LOCATION:Tourist-Information der Minden Marketing GmbH\, Kleiner Domhof 17\
 , Minden
ORGANIZER;CN=Tourist-Information der Minden Marketing GmbH:mailto:info@mind
 enmarketing.de
RRULE:FREQ=WEEKLY;UNTIL=20261128T230000;BYDAY=SA
SEQUENCE:0
SUMMARY:Weihnachtliche Stadtführung
UID:e_101160840_iv8
URL:http://pages.destination.one/de/teutonavigator/streaming/detail/Event/e
 _101160840/weihnachtliche-stadtf-hrung
END:VEVENT
BEGIN:VEVENT
CATEGORIES:Sonstiges
CATEGORIES:Führung/Besichtigung
DESCRIPTION:\n\nmehr Informationen unter http://pages.destination.one/de/te
 utonavigator/streaming/detail/Event/e_101160840/weihnachtliche-stadtf-hrun
 g
DTEND;TZID=Europe/Berlin:20261205T163000
DTSTAMP:20260422T123104Z
DTSTART;TZID=Europe/Berlin:20261205T150000
GEO:52.287836;8.918405
LOCATION:Tourist-Information der Minden Marketing GmbH\, Kleiner Domhof 17\
 , Minden
ORGANIZER;CN=Tourist-Information der Minden Marketing GmbH:mailto:info@mind
 enmarketing.de
RRULE:FREQ=WEEKLY;UNTIL=20261205T230000;BYDAY=SA
SEQUENCE:0
SUMMARY:Weihnachtliche Stadtführung
UID:e_101160840_iv9
URL:http://pages.destination.one/de/teutonavigator/streaming/detail/Event/e
 _101160840/weihnachtliche-stadtf-hrung
END:VEVENT
BEGIN:VEVENT
CATEGORIES:Sonstiges
CATEGORIES:Führung/Besichtigung
DESCRIPTION:\n\nmehr Informationen unter http://pages.destination.one/de/te
 utonavigator/streaming/detail/Event/e_101160840/weihnachtliche-stadtf-hrun
 g
DTEND;TZID=Europe/Berlin:20261212T163000
DTSTAMP:20260422T123104Z
DTSTART;TZID=Europe/Berlin:20261212T150000
GEO:52.287836;8.918405
LOCATION:Tourist-Information der Minden Marketing GmbH\, Kleiner Domhof 17\
 , Minden
ORGANIZER;CN=Tourist-Information der Minden Marketing GmbH:mailto:info@mind
 enmarketing.de
RRULE:FREQ=WEEKLY;UNTIL=20261212T230000;BYDAY=SA
SEQUENCE:0
SUMMARY:Weihnachtliche Stadtführung
UID:e_101160840_iv10
URL:http://pages.destination.one/de/teutonavigator/streaming/detail/Event/e
 _101160840/weihnachtliche-stadtf-hrung
END:VEVENT
BEGIN:VEVENT
CATEGORIES:Sonstiges
CATEGORIES:Führung/Besichtigung
DESCRIPTION:\n\nmehr Informationen unter http://pages.destination.one/de/te
 utonavigator/streaming/detail/Event/e_101160840/weihnachtliche-stadtf-hrun
 g
DTEND;TZID=Europe/Berlin:20261219T163000
DTSTAMP:20260422T123104Z
DTSTART;TZID=Europe/Berlin:20261219T150000
GEO:52.287836;8.918405
LOCATION:Tourist-Information der Minden Marketing GmbH\, Kleiner Domhof 17\
 , Minden
ORGANIZER;CN=Tourist-Information der Minden Marketing GmbH:mailto:info@mind
 enmarketing.de
RRULE:FREQ=WEEKLY;UNTIL=20261219T230000;BYDAY=SA
SEQUENCE:0
SUMMARY:Weihnachtliche Stadtführung
UID:e_101160840_iv11
URL:http://pages.destination.one/de/teutonavigator/streaming/detail/Event/e
 _101160840/weihnachtliche-stadtf-hrung
END:VEVENT
BEGIN:VTIMEZONE
TZID:Europe/Berlin
X-LIC-LOCATION:Europe/Berlin
BEGIN:DAYLIGHT
DTSTART:19700329T020000
RRULE:FREQ=YEARLY;BYDAY=-1SU;BYMONTH=3
TZNAME:CEST
TZOFFSETFROM:+0100
TZOFFSETTO:+0200
END:DAYLIGHT
BEGIN:STANDARD
DTSTART:19701025T030000
RRULE:FREQ=YEARLY;BYDAY=-1SU;BYMONTH=10
TZNAME:CET
TZOFFSETFROM:+0200
TZOFFSETTO:+0100
END:STANDARD
END:VTIMEZONE
END:VCALENDAR
