BEGIN:VCALENDAR
VERSION:2.0
PRODID:-//destination.one//NONSGML destination.meta API//DE
X-WR-CALDESC:A calendar powered by destination.meta
X-WR-CALNAME:teutonavigator Kalender via destination.meta
BEGIN:VEVENT
CATEGORIES:Sonstiges
CATEGORIES:Führung/Besichtigung
DESCRIPTION:\n\nmehr Informationen unter http://pages.destination.one/de/te
 utonavigator/streaming/detail/Event/e_101160839/dom-in-the-dark-taschenlam
 penf-hrung
DTEND;TZID=Europe/Berlin:20250225T203000
DTSTAMP:20260421T182421Z
DTSTART;TZID=Europe/Berlin:20250225T190000
GEO:52.287836;8.918405
LOCATION:Tourist-Information der Minden Marketing GmbH\, Kleiner Domhof 17\
 , Minden
ORGANIZER;CN=Tourist-Information der Minden Marketing GmbH:mailto:info@mind
 enmarketing.de
RRULE:FREQ=WEEKLY;UNTIL=20250225T230000;BYDAY=TU
SEQUENCE:0
SUMMARY:Dom in the dark - Taschenlampenführung
UID:e_101160839_iv0
URL:http://pages.destination.one/de/teutonavigator/streaming/detail/Event/e
 _101160839/dom-in-the-dark-taschenlampenf-hrung
END:VEVENT
BEGIN:VEVENT
CATEGORIES:Sonstiges
CATEGORIES:Führung/Besichtigung
DESCRIPTION:\n\nmehr Informationen unter http://pages.destination.one/de/te
 utonavigator/streaming/detail/Event/e_101160839/dom-in-the-dark-taschenlam
 penf-hrung
DTEND;TZID=Europe/Berlin:20250304T203000
DTSTAMP:20260421T182421Z
DTSTART;TZID=Europe/Berlin:20250304T190000
GEO:52.287836;8.918405
LOCATION:Tourist-Information der Minden Marketing GmbH\, Kleiner Domhof 17\
 , Minden
ORGANIZER;CN=Tourist-Information der Minden Marketing GmbH:mailto:info@mind
 enmarketing.de
RRULE:FREQ=WEEKLY;UNTIL=20250304T230000;BYDAY=TU
SEQUENCE:0
SUMMARY:Dom in the dark - Taschenlampenführung
UID:e_101160839_iv1
URL:http://pages.destination.one/de/teutonavigator/streaming/detail/Event/e
 _101160839/dom-in-the-dark-taschenlampenf-hrung
END:VEVENT
BEGIN:VEVENT
CATEGORIES:Sonstiges
CATEGORIES:Führung/Besichtigung
DESCRIPTION:\n\nmehr Informationen unter http://pages.destination.one/de/te
 utonavigator/streaming/detail/Event/e_101160839/dom-in-the-dark-taschenlam
 penf-hrung
DTEND;TZID=Europe/Berlin:20251125T203000
DTSTAMP:20260421T182421Z
DTSTART;TZID=Europe/Berlin:20251125T190000
GEO:52.287836;8.918405
LOCATION:Tourist-Information der Minden Marketing GmbH\, Kleiner Domhof 17\
 , Minden
ORGANIZER;CN=Tourist-Information der Minden Marketing GmbH:mailto:info@mind
 enmarketing.de
RRULE:FREQ=WEEKLY;UNTIL=20251125T230000;BYDAY=TU
SEQUENCE:0
SUMMARY:Dom in the dark - Taschenlampenführung
UID:e_101160839_iv2
URL:http://pages.destination.one/de/teutonavigator/streaming/detail/Event/e
 _101160839/dom-in-the-dark-taschenlampenf-hrung
END:VEVENT
BEGIN:VEVENT
CATEGORIES:Sonstiges
CATEGORIES:Führung/Besichtigung
DESCRIPTION:\n\nmehr Informationen unter http://pages.destination.one/de/te
 utonavigator/streaming/detail/Event/e_101160839/dom-in-the-dark-taschenlam
 penf-hrung
DTEND;TZID=Europe/Berlin:20251202T203000
DTSTAMP:20260421T182421Z
DTSTART;TZID=Europe/Berlin:20251202T190000
GEO:52.287836;8.918405
LOCATION:Tourist-Information der Minden Marketing GmbH\, Kleiner Domhof 17\
 , Minden
ORGANIZER;CN=Tourist-Information der Minden Marketing GmbH:mailto:info@mind
 enmarketing.de
RRULE:FREQ=WEEKLY;UNTIL=20251202T230000;BYDAY=TU
SEQUENCE:0
SUMMARY:Dom in the dark - Taschenlampenführung
UID:e_101160839_iv3
URL:http://pages.destination.one/de/teutonavigator/streaming/detail/Event/e
 _101160839/dom-in-the-dark-taschenlampenf-hrung
END:VEVENT
BEGIN:VEVENT
CATEGORIES:Sonstiges
CATEGORIES:Führung/Besichtigung
DESCRIPTION:\n\nmehr Informationen unter http://pages.destination.one/de/te
 utonavigator/streaming/detail/Event/e_101160839/dom-in-the-dark-taschenlam
 penf-hrung
DTEND;TZID=Europe/Berlin:20260120T203000
DTSTAMP:20260421T182421Z
DTSTART;TZID=Europe/Berlin:20260120T190000
GEO:52.287836;8.918405
LOCATION:Tourist-Information der Minden Marketing GmbH\, Kleiner Domhof 17\
 , Minden
ORGANIZER;CN=Tourist-Information der Minden Marketing GmbH:mailto:info@mind
 enmarketing.de
RRULE:FREQ=WEEKLY;UNTIL=20260120T230000;BYDAY=TU
SEQUENCE:0
SUMMARY:Dom in the dark - Taschenlampenführung
UID:e_101160839_iv4
URL:http://pages.destination.one/de/teutonavigator/streaming/detail/Event/e
 _101160839/dom-in-the-dark-taschenlampenf-hrung
END:VEVENT
BEGIN:VEVENT
CATEGORIES:Sonstiges
CATEGORIES:Führung/Besichtigung
DESCRIPTION:\n\nmehr Informationen unter http://pages.destination.one/de/te
 utonavigator/streaming/detail/Event/e_101160839/dom-in-the-dark-taschenlam
 penf-hrung
DTEND;TZID=Europe/Berlin:20260217T203000
DTSTAMP:20260421T182421Z
DTSTART;TZID=Europe/Berlin:20260217T190000
GEO:52.287836;8.918405
LOCATION:Tourist-Information der Minden Marketing GmbH\, Kleiner Domhof 17\
 , Minden
ORGANIZER;CN=Tourist-Information der Minden Marketing GmbH:mailto:info@mind
 enmarketing.de
RRULE:FREQ=WEEKLY;UNTIL=20260217T230000;BYDAY=TU
SEQUENCE:0
SUMMARY:Dom in the dark - Taschenlampenführung
UID:e_101160839_iv5
URL:http://pages.destination.one/de/teutonavigator/streaming/detail/Event/e
 _101160839/dom-in-the-dark-taschenlampenf-hrung
END:VEVENT
BEGIN:VEVENT
CATEGORIES:Sonstiges
CATEGORIES:Führung/Besichtigung
DESCRIPTION:\n\nmehr Informationen unter http://pages.destination.one/de/te
 utonavigator/streaming/detail/Event/e_101160839/dom-in-the-dark-taschenlam
 penf-hrung
DTEND;TZID=Europe/Berlin:20260414T203000
DTSTAMP:20260421T182421Z
DTSTART;TZID=Europe/Berlin:20260414T190000
GEO:52.287836;8.918405
LOCATION:Tourist-Information der Minden Marketing GmbH\, Kleiner Domhof 17\
 , Minden
ORGANIZER;CN=Tourist-Information der Minden Marketing GmbH:mailto:info@mind
 enmarketing.de
RRULE:FREQ=WEEKLY;UNTIL=20260414T220000;BYDAY=TU
SEQUENCE:0
SUMMARY:Dom in the dark - Taschenlampenführung
UID:e_101160839_iv6
URL:http://pages.destination.one/de/teutonavigator/streaming/detail/Event/e
 _101160839/dom-in-the-dark-taschenlampenf-hrung
END:VEVENT
BEGIN:VEVENT
CATEGORIES:Sonstiges
CATEGORIES:Führung/Besichtigung
DESCRIPTION:\n\nmehr Informationen unter http://pages.destination.one/de/te
 utonavigator/streaming/detail/Event/e_101160839/dom-in-the-dark-taschenlam
 penf-hrung
DTEND;TZID=Europe/Berlin:20260421T203000
DTSTAMP:20260421T182421Z
DTSTART;TZID=Europe/Berlin:20260421T190000
GEO:52.287836;8.918405
LOCATION:Tourist-Information der Minden Marketing GmbH\, Kleiner Domhof 17\
 , Minden
ORGANIZER;CN=Tourist-Information der Minden Marketing GmbH:mailto:info@mind
 enmarketing.de
RRULE:FREQ=WEEKLY;UNTIL=20260421T220000;BYDAY=TU
SEQUENCE:0
SUMMARY:Dom in the dark - Taschenlampenführung
UID:e_101160839_iv7
URL:http://pages.destination.one/de/teutonavigator/streaming/detail/Event/e
 _101160839/dom-in-the-dark-taschenlampenf-hrung
END:VEVENT
BEGIN:VEVENT
CATEGORIES:Sonstiges
CATEGORIES:Führung/Besichtigung
DESCRIPTION:\n\nmehr Informationen unter http://pages.destination.one/de/te
 utonavigator/streaming/detail/Event/e_101160839/dom-in-the-dark-taschenlam
 penf-hrung
DTEND;TZID=Europe/Berlin:20261103T203000
DTSTAMP:20260421T182421Z
DTSTART;TZID=Europe/Berlin:20261103T190000
GEO:52.287836;8.918405
LOCATION:Tourist-Information der Minden Marketing GmbH\, Kleiner Domhof 17\
 , Minden
ORGANIZER;CN=Tourist-Information der Minden Marketing GmbH:mailto:info@mind
 enmarketing.de
RRULE:FREQ=WEEKLY;UNTIL=20261103T230000;BYDAY=TU
SEQUENCE:0
SUMMARY:Dom in the dark - Taschenlampenführung
UID:e_101160839_iv8
URL:http://pages.destination.one/de/teutonavigator/streaming/detail/Event/e
 _101160839/dom-in-the-dark-taschenlampenf-hrung
END:VEVENT
BEGIN:VEVENT
CATEGORIES:Sonstiges
CATEGORIES:Führung/Besichtigung
DESCRIPTION:\n\nmehr Informationen unter http://pages.destination.one/de/te
 utonavigator/streaming/detail/Event/e_101160839/dom-in-the-dark-taschenlam
 penf-hrung
DTEND;TZID=Europe/Berlin:20261124T203000
DTSTAMP:20260421T182421Z
DTSTART;TZID=Europe/Berlin:20261124T190000
GEO:52.287836;8.918405
LOCATION:Tourist-Information der Minden Marketing GmbH\, Kleiner Domhof 17\
 , Minden
ORGANIZER;CN=Tourist-Information der Minden Marketing GmbH:mailto:info@mind
 enmarketing.de
RRULE:FREQ=WEEKLY;UNTIL=20261124T230000;BYDAY=TU
SEQUENCE:0
SUMMARY:Dom in the dark - Taschenlampenführung
UID:e_101160839_iv9
URL:http://pages.destination.one/de/teutonavigator/streaming/detail/Event/e
 _101160839/dom-in-the-dark-taschenlampenf-hrung
END:VEVENT
BEGIN:VTIMEZONE
TZID:Europe/Berlin
X-LIC-LOCATION:Europe/Berlin
BEGIN:DAYLIGHT
DTSTART:19700329T020000
RRULE:FREQ=YEARLY;BYDAY=-1SU;BYMONTH=3
TZNAME:CEST
TZOFFSETFROM:+0100
TZOFFSETTO:+0200
END:DAYLIGHT
BEGIN:STANDARD
DTSTART:19701025T030000
RRULE:FREQ=YEARLY;BYDAY=-1SU;BYMONTH=10
TZNAME:CET
TZOFFSETFROM:+0200
TZOFFSETTO:+0100
END:STANDARD
END:VTIMEZONE
END:VCALENDAR
