BEGIN:VCALENDAR
VERSION:2.0
PRODID:-//destination.one//NONSGML destination.meta API//DE
X-WR-CALDESC:A calendar powered by destination.meta
X-WR-CALNAME:teutonavigator Kalender via destination.meta
BEGIN:VEVENT
CATEGORIES:Sonstiges
CATEGORIES:Führung/Besichtigung
DESCRIPTION:\n\nmehr Informationen unter http://pages.destination.one/de/te
 utonavigator/streaming/detail/Event/e_101160838/unterwegs-mit-mindens-nach
 tw-chter-und-t-rmer
DTEND;TZID=Europe/Berlin:20250403T210000
DTSTAMP:20260421T155025Z
DTSTART;TZID=Europe/Berlin:20250403T193000
GEO:52.287836;8.918405
LOCATION:Tourist-Information der Minden Marketing GmbH\, Kleiner Domhof 17\
 , Minden
ORGANIZER;CN=Tourist-Information der Minden Marketing GmbH:mailto:info@mind
 enmarketing.de
RRULE:FREQ=WEEKLY;UNTIL=20250403T220000;BYDAY=TU,WE,TH,FR,SA
SEQUENCE:0
SUMMARY:Unterwegs mit Mindens Nachtwächter und Türmer
UID:e_101160838_iv0
URL:http://pages.destination.one/de/teutonavigator/streaming/detail/Event/e
 _101160838/unterwegs-mit-mindens-nachtw-chter-und-t-rmer
END:VEVENT
BEGIN:VEVENT
CATEGORIES:Sonstiges
CATEGORIES:Führung/Besichtigung
DESCRIPTION:\n\nmehr Informationen unter http://pages.destination.one/de/te
 utonavigator/streaming/detail/Event/e_101160838/unterwegs-mit-mindens-nach
 tw-chter-und-t-rmer
DTEND;TZID=Europe/Berlin:20250509T210000
DTSTAMP:20260421T155025Z
DTSTART;TZID=Europe/Berlin:20250509T193000
GEO:52.287836;8.918405
LOCATION:Tourist-Information der Minden Marketing GmbH\, Kleiner Domhof 17\
 , Minden
ORGANIZER;CN=Tourist-Information der Minden Marketing GmbH:mailto:info@mind
 enmarketing.de
RRULE:FREQ=WEEKLY;UNTIL=20250509T220000;BYDAY=TU,WE,TH,FR,SA
SEQUENCE:0
SUMMARY:Unterwegs mit Mindens Nachtwächter und Türmer
UID:e_101160838_iv1
URL:http://pages.destination.one/de/teutonavigator/streaming/detail/Event/e
 _101160838/unterwegs-mit-mindens-nachtw-chter-und-t-rmer
END:VEVENT
BEGIN:VEVENT
CATEGORIES:Sonstiges
CATEGORIES:Führung/Besichtigung
DESCRIPTION:\n\nmehr Informationen unter http://pages.destination.one/de/te
 utonavigator/streaming/detail/Event/e_101160838/unterwegs-mit-mindens-nach
 tw-chter-und-t-rmer
DTEND;TZID=Europe/Berlin:20250528T210000
DTSTAMP:20260421T155025Z
DTSTART;TZID=Europe/Berlin:20250528T193000
GEO:52.287836;8.918405
LOCATION:Tourist-Information der Minden Marketing GmbH\, Kleiner Domhof 17\
 , Minden
ORGANIZER;CN=Tourist-Information der Minden Marketing GmbH:mailto:info@mind
 enmarketing.de
RRULE:FREQ=WEEKLY;UNTIL=20250528T220000;BYDAY=TU,WE,TH,FR,SA
SEQUENCE:0
SUMMARY:Unterwegs mit Mindens Nachtwächter und Türmer
UID:e_101160838_iv2
URL:http://pages.destination.one/de/teutonavigator/streaming/detail/Event/e
 _101160838/unterwegs-mit-mindens-nachtw-chter-und-t-rmer
END:VEVENT
BEGIN:VEVENT
CATEGORIES:Sonstiges
CATEGORIES:Führung/Besichtigung
DESCRIPTION:\n\nmehr Informationen unter http://pages.destination.one/de/te
 utonavigator/streaming/detail/Event/e_101160838/unterwegs-mit-mindens-nach
 tw-chter-und-t-rmer
DTEND;TZID=Europe/Berlin:20250618T210000
DTSTAMP:20260421T155025Z
DTSTART;TZID=Europe/Berlin:20250618T193000
GEO:52.287836;8.918405
LOCATION:Tourist-Information der Minden Marketing GmbH\, Kleiner Domhof 17\
 , Minden
ORGANIZER;CN=Tourist-Information der Minden Marketing GmbH:mailto:info@mind
 enmarketing.de
RRULE:FREQ=WEEKLY;UNTIL=20250618T220000;BYDAY=TU,WE,TH,FR,SA
SEQUENCE:0
SUMMARY:Unterwegs mit Mindens Nachtwächter und Türmer
UID:e_101160838_iv3
URL:http://pages.destination.one/de/teutonavigator/streaming/detail/Event/e
 _101160838/unterwegs-mit-mindens-nachtw-chter-und-t-rmer
END:VEVENT
BEGIN:VEVENT
CATEGORIES:Sonstiges
CATEGORIES:Führung/Besichtigung
DESCRIPTION:\n\nmehr Informationen unter http://pages.destination.one/de/te
 utonavigator/streaming/detail/Event/e_101160838/unterwegs-mit-mindens-nach
 tw-chter-und-t-rmer
DTEND;TZID=Europe/Berlin:20250709T210000
DTSTAMP:20260421T155025Z
DTSTART;TZID=Europe/Berlin:20250709T193000
GEO:52.287836;8.918405
LOCATION:Tourist-Information der Minden Marketing GmbH\, Kleiner Domhof 17\
 , Minden
ORGANIZER;CN=Tourist-Information der Minden Marketing GmbH:mailto:info@mind
 enmarketing.de
RRULE:FREQ=WEEKLY;UNTIL=20250709T220000;BYDAY=TU,WE,TH,FR,SA
SEQUENCE:0
SUMMARY:Unterwegs mit Mindens Nachtwächter und Türmer
UID:e_101160838_iv4
URL:http://pages.destination.one/de/teutonavigator/streaming/detail/Event/e
 _101160838/unterwegs-mit-mindens-nachtw-chter-und-t-rmer
END:VEVENT
BEGIN:VEVENT
CATEGORIES:Sonstiges
CATEGORIES:Führung/Besichtigung
DESCRIPTION:\n\nmehr Informationen unter http://pages.destination.one/de/te
 utonavigator/streaming/detail/Event/e_101160838/unterwegs-mit-mindens-nach
 tw-chter-und-t-rmer
DTEND;TZID=Europe/Berlin:20250827T210000
DTSTAMP:20260421T155025Z
DTSTART;TZID=Europe/Berlin:20250827T193000
GEO:52.287836;8.918405
LOCATION:Tourist-Information der Minden Marketing GmbH\, Kleiner Domhof 17\
 , Minden
ORGANIZER;CN=Tourist-Information der Minden Marketing GmbH:mailto:info@mind
 enmarketing.de
RRULE:FREQ=WEEKLY;UNTIL=20250827T220000;BYDAY=TU,WE,TH,FR,SA
SEQUENCE:0
SUMMARY:Unterwegs mit Mindens Nachtwächter und Türmer
UID:e_101160838_iv5
URL:http://pages.destination.one/de/teutonavigator/streaming/detail/Event/e
 _101160838/unterwegs-mit-mindens-nachtw-chter-und-t-rmer
END:VEVENT
BEGIN:VEVENT
CATEGORIES:Sonstiges
CATEGORIES:Führung/Besichtigung
DESCRIPTION:\n\nmehr Informationen unter http://pages.destination.one/de/te
 utonavigator/streaming/detail/Event/e_101160838/unterwegs-mit-mindens-nach
 tw-chter-und-t-rmer
DTEND;TZID=Europe/Berlin:20250909T210000
DTSTAMP:20260421T155025Z
DTSTART;TZID=Europe/Berlin:20250909T193000
GEO:52.287836;8.918405
LOCATION:Tourist-Information der Minden Marketing GmbH\, Kleiner Domhof 17\
 , Minden
ORGANIZER;CN=Tourist-Information der Minden Marketing GmbH:mailto:info@mind
 enmarketing.de
RRULE:FREQ=WEEKLY;UNTIL=20250909T220000;BYDAY=TU,WE,TH,FR,SA
SEQUENCE:0
SUMMARY:Unterwegs mit Mindens Nachtwächter und Türmer
UID:e_101160838_iv6
URL:http://pages.destination.one/de/teutonavigator/streaming/detail/Event/e
 _101160838/unterwegs-mit-mindens-nachtw-chter-und-t-rmer
END:VEVENT
BEGIN:VEVENT
CATEGORIES:Sonstiges
CATEGORIES:Führung/Besichtigung
DESCRIPTION:\n\nmehr Informationen unter http://pages.destination.one/de/te
 utonavigator/streaming/detail/Event/e_101160838/unterwegs-mit-mindens-nach
 tw-chter-und-t-rmer
DTEND;TZID=Europe/Berlin:20251002T210000
DTSTAMP:20260421T155025Z
DTSTART;TZID=Europe/Berlin:20251002T193000
GEO:52.287836;8.918405
LOCATION:Tourist-Information der Minden Marketing GmbH\, Kleiner Domhof 17\
 , Minden
ORGANIZER;CN=Tourist-Information der Minden Marketing GmbH:mailto:info@mind
 enmarketing.de
RRULE:FREQ=WEEKLY;UNTIL=20251002T220000;BYDAY=TU,WE,TH,FR,SA
SEQUENCE:0
SUMMARY:Unterwegs mit Mindens Nachtwächter und Türmer
UID:e_101160838_iv7
URL:http://pages.destination.one/de/teutonavigator/streaming/detail/Event/e
 _101160838/unterwegs-mit-mindens-nachtw-chter-und-t-rmer
END:VEVENT
BEGIN:VEVENT
CATEGORIES:Sonstiges
CATEGORIES:Führung/Besichtigung
DESCRIPTION:\n\nmehr Informationen unter http://pages.destination.one/de/te
 utonavigator/streaming/detail/Event/e_101160838/unterwegs-mit-mindens-nach
 tw-chter-und-t-rmer
DTEND;TZID=Europe/Berlin:20251101T210000
DTSTAMP:20260421T155025Z
DTSTART;TZID=Europe/Berlin:20251101T193000
GEO:52.287836;8.918405
LOCATION:Tourist-Information der Minden Marketing GmbH\, Kleiner Domhof 17\
 , Minden
ORGANIZER;CN=Tourist-Information der Minden Marketing GmbH:mailto:info@mind
 enmarketing.de
RRULE:FREQ=WEEKLY;UNTIL=20251101T230000;BYDAY=TU,WE,TH,FR,SA
SEQUENCE:0
SUMMARY:Unterwegs mit Mindens Nachtwächter und Türmer
UID:e_101160838_iv8
URL:http://pages.destination.one/de/teutonavigator/streaming/detail/Event/e
 _101160838/unterwegs-mit-mindens-nachtw-chter-und-t-rmer
END:VEVENT
BEGIN:VEVENT
CATEGORIES:Sonstiges
CATEGORIES:Führung/Besichtigung
DESCRIPTION:\n\nmehr Informationen unter http://pages.destination.one/de/te
 utonavigator/streaming/detail/Event/e_101160838/unterwegs-mit-mindens-nach
 tw-chter-und-t-rmer
DTEND;TZID=Europe/Berlin:20260214T210000
DTSTAMP:20260421T155025Z
DTSTART;TZID=Europe/Berlin:20260214T193000
GEO:52.287836;8.918405
LOCATION:Tourist-Information der Minden Marketing GmbH\, Kleiner Domhof 17\
 , Minden
ORGANIZER;CN=Tourist-Information der Minden Marketing GmbH:mailto:info@mind
 enmarketing.de
RRULE:FREQ=WEEKLY;UNTIL=20260214T230000;BYDAY=TU,WE,TH,FR,SA
SEQUENCE:0
SUMMARY:Unterwegs mit Mindens Nachtwächter und Türmer
UID:e_101160838_iv9
URL:http://pages.destination.one/de/teutonavigator/streaming/detail/Event/e
 _101160838/unterwegs-mit-mindens-nachtw-chter-und-t-rmer
END:VEVENT
BEGIN:VEVENT
CATEGORIES:Sonstiges
CATEGORIES:Führung/Besichtigung
DESCRIPTION:\n\nmehr Informationen unter http://pages.destination.one/de/te
 utonavigator/streaming/detail/Event/e_101160838/unterwegs-mit-mindens-nach
 tw-chter-und-t-rmer
DTEND;TZID=Europe/Berlin:20260306T210000
DTSTAMP:20260421T155025Z
DTSTART;TZID=Europe/Berlin:20260306T193000
GEO:52.287836;8.918405
LOCATION:Tourist-Information der Minden Marketing GmbH\, Kleiner Domhof 17\
 , Minden
ORGANIZER;CN=Tourist-Information der Minden Marketing GmbH:mailto:info@mind
 enmarketing.de
RRULE:FREQ=WEEKLY;UNTIL=20260306T230000;BYDAY=TU,WE,TH,FR,SA
SEQUENCE:0
SUMMARY:Unterwegs mit Mindens Nachtwächter und Türmer
UID:e_101160838_iv10
URL:http://pages.destination.one/de/teutonavigator/streaming/detail/Event/e
 _101160838/unterwegs-mit-mindens-nachtw-chter-und-t-rmer
END:VEVENT
BEGIN:VEVENT
CATEGORIES:Sonstiges
CATEGORIES:Führung/Besichtigung
DESCRIPTION:\n\nmehr Informationen unter http://pages.destination.one/de/te
 utonavigator/streaming/detail/Event/e_101160838/unterwegs-mit-mindens-nach
 tw-chter-und-t-rmer
DTEND;TZID=Europe/Berlin:20260424T210000
DTSTAMP:20260421T155025Z
DTSTART;TZID=Europe/Berlin:20260424T193000
GEO:52.287836;8.918405
LOCATION:Tourist-Information der Minden Marketing GmbH\, Kleiner Domhof 17\
 , Minden
ORGANIZER;CN=Tourist-Information der Minden Marketing GmbH:mailto:info@mind
 enmarketing.de
RRULE:FREQ=WEEKLY;UNTIL=20260424T220000;BYDAY=TU,WE,TH,FR,SA
SEQUENCE:0
SUMMARY:Unterwegs mit Mindens Nachtwächter und Türmer
UID:e_101160838_iv11
URL:http://pages.destination.one/de/teutonavigator/streaming/detail/Event/e
 _101160838/unterwegs-mit-mindens-nachtw-chter-und-t-rmer
END:VEVENT
BEGIN:VEVENT
CATEGORIES:Sonstiges
CATEGORIES:Führung/Besichtigung
DESCRIPTION:\n\nmehr Informationen unter http://pages.destination.one/de/te
 utonavigator/streaming/detail/Event/e_101160838/unterwegs-mit-mindens-nach
 tw-chter-und-t-rmer
DTEND;TZID=Europe/Berlin:20260625T210000
DTSTAMP:20260421T155025Z
DTSTART;TZID=Europe/Berlin:20260625T193000
GEO:52.287836;8.918405
LOCATION:Tourist-Information der Minden Marketing GmbH\, Kleiner Domhof 17\
 , Minden
ORGANIZER;CN=Tourist-Information der Minden Marketing GmbH:mailto:info@mind
 enmarketing.de
RRULE:FREQ=WEEKLY;UNTIL=20260625T220000;BYDAY=TU,WE,TH,FR,SA
SEQUENCE:0
SUMMARY:Unterwegs mit Mindens Nachtwächter und Türmer
UID:e_101160838_iv12
URL:http://pages.destination.one/de/teutonavigator/streaming/detail/Event/e
 _101160838/unterwegs-mit-mindens-nachtw-chter-und-t-rmer
END:VEVENT
BEGIN:VEVENT
CATEGORIES:Sonstiges
CATEGORIES:Führung/Besichtigung
DESCRIPTION:\n\nmehr Informationen unter http://pages.destination.one/de/te
 utonavigator/streaming/detail/Event/e_101160838/unterwegs-mit-mindens-nach
 tw-chter-und-t-rmer
DTEND;TZID=Europe/Berlin:20260710T210000
DTSTAMP:20260421T155025Z
DTSTART;TZID=Europe/Berlin:20260710T193000
GEO:52.287836;8.918405
LOCATION:Tourist-Information der Minden Marketing GmbH\, Kleiner Domhof 17\
 , Minden
ORGANIZER;CN=Tourist-Information der Minden Marketing GmbH:mailto:info@mind
 enmarketing.de
RRULE:FREQ=WEEKLY;UNTIL=20260710T220000;BYDAY=TU,WE,TH,FR,SA
SEQUENCE:0
SUMMARY:Unterwegs mit Mindens Nachtwächter und Türmer
UID:e_101160838_iv13
URL:http://pages.destination.one/de/teutonavigator/streaming/detail/Event/e
 _101160838/unterwegs-mit-mindens-nachtw-chter-und-t-rmer
END:VEVENT
BEGIN:VEVENT
CATEGORIES:Sonstiges
CATEGORIES:Führung/Besichtigung
DESCRIPTION:\n\nmehr Informationen unter http://pages.destination.one/de/te
 utonavigator/streaming/detail/Event/e_101160838/unterwegs-mit-mindens-nach
 tw-chter-und-t-rmer
DTEND;TZID=Europe/Berlin:20260731T210000
DTSTAMP:20260421T155025Z
DTSTART;TZID=Europe/Berlin:20260731T193000
GEO:52.287836;8.918405
LOCATION:Tourist-Information der Minden Marketing GmbH\, Kleiner Domhof 17\
 , Minden
ORGANIZER;CN=Tourist-Information der Minden Marketing GmbH:mailto:info@mind
 enmarketing.de
RRULE:FREQ=WEEKLY;UNTIL=20260731T220000;BYDAY=TU,WE,TH,FR,SA
SEQUENCE:0
SUMMARY:Unterwegs mit Mindens Nachtwächter und Türmer
UID:e_101160838_iv14
URL:http://pages.destination.one/de/teutonavigator/streaming/detail/Event/e
 _101160838/unterwegs-mit-mindens-nachtw-chter-und-t-rmer
END:VEVENT
BEGIN:VEVENT
CATEGORIES:Sonstiges
CATEGORIES:Führung/Besichtigung
DESCRIPTION:\n\nmehr Informationen unter http://pages.destination.one/de/te
 utonavigator/streaming/detail/Event/e_101160838/unterwegs-mit-mindens-nach
 tw-chter-und-t-rmer
DTEND;TZID=Europe/Berlin:20261009T210000
DTSTAMP:20260421T155025Z
DTSTART;TZID=Europe/Berlin:20261009T193000
GEO:52.287836;8.918405
LOCATION:Tourist-Information der Minden Marketing GmbH\, Kleiner Domhof 17\
 , Minden
ORGANIZER;CN=Tourist-Information der Minden Marketing GmbH:mailto:info@mind
 enmarketing.de
RRULE:FREQ=WEEKLY;UNTIL=20261009T220000;BYDAY=TU,WE,TH,FR,SA
SEQUENCE:0
SUMMARY:Unterwegs mit Mindens Nachtwächter und Türmer
UID:e_101160838_iv15
URL:http://pages.destination.one/de/teutonavigator/streaming/detail/Event/e
 _101160838/unterwegs-mit-mindens-nachtw-chter-und-t-rmer
END:VEVENT
BEGIN:VEVENT
CATEGORIES:Sonstiges
CATEGORIES:Führung/Besichtigung
DESCRIPTION:\n\nmehr Informationen unter http://pages.destination.one/de/te
 utonavigator/streaming/detail/Event/e_101160838/unterwegs-mit-mindens-nach
 tw-chter-und-t-rmer
DTEND;TZID=Europe/Berlin:20261106T210000
DTSTAMP:20260421T155025Z
DTSTART;TZID=Europe/Berlin:20261106T193000
GEO:52.287836;8.918405
LOCATION:Tourist-Information der Minden Marketing GmbH\, Kleiner Domhof 17\
 , Minden
ORGANIZER;CN=Tourist-Information der Minden Marketing GmbH:mailto:info@mind
 enmarketing.de
RRULE:FREQ=WEEKLY;UNTIL=20261106T230000;BYDAY=TU,WE,TH,FR,SA
SEQUENCE:0
SUMMARY:Unterwegs mit Mindens Nachtwächter und Türmer
UID:e_101160838_iv16
URL:http://pages.destination.one/de/teutonavigator/streaming/detail/Event/e
 _101160838/unterwegs-mit-mindens-nachtw-chter-und-t-rmer
END:VEVENT
BEGIN:VTIMEZONE
TZID:Europe/Berlin
X-LIC-LOCATION:Europe/Berlin
BEGIN:DAYLIGHT
DTSTART:19700329T020000
RRULE:FREQ=YEARLY;BYDAY=-1SU;BYMONTH=3
TZNAME:CEST
TZOFFSETFROM:+0100
TZOFFSETTO:+0200
END:DAYLIGHT
BEGIN:STANDARD
DTSTART:19701025T030000
RRULE:FREQ=YEARLY;BYDAY=-1SU;BYMONTH=10
TZNAME:CET
TZOFFSETFROM:+0200
TZOFFSETTO:+0100
END:STANDARD
END:VTIMEZONE
END:VCALENDAR
