BEGIN:VCALENDAR
VERSION:2.0
PRODID:-//destination.one//NONSGML destination.meta API//DE
X-WR-CALDESC:A calendar powered by destination.meta
X-WR-CALNAME:teutonavigator Kalender via destination.meta
BEGIN:VEVENT
CATEGORIES:Sonstiges
CATEGORIES:Führung/Besichtigung
DESCRIPTION:\n\nmehr Informationen unter http://pages.destination.one/de/te
 utonavigator/streaming/detail/Event/e_101160837/f-hrung-ber-den-nordfriedh
 of
DTEND;TZID=Europe/Berlin:20260118T153000
DTSTAMP:20260421T112345Z
DTSTART;TZID=Europe/Berlin:20260118T140000
GEO:52.287836;8.918405
LOCATION:Tourist-Information der Minden Marketing GmbH\, Kleiner Domhof 17\
 , Minden
ORGANIZER;CN=Tourist-Information der Minden Marketing GmbH:mailto:info@mind
 enmarketing.de
RRULE:FREQ=WEEKLY;UNTIL=20260118T230000;BYDAY=SU
SEQUENCE:0
SUMMARY:Führung über den Nordfriedhof
UID:e_101160837_iv0
URL:http://pages.destination.one/de/teutonavigator/streaming/detail/Event/e
 _101160837/f-hrung-ber-den-nordfriedhof
END:VEVENT
BEGIN:VEVENT
CATEGORIES:Sonstiges
CATEGORIES:Führung/Besichtigung
DESCRIPTION:\n\nmehr Informationen unter http://pages.destination.one/de/te
 utonavigator/streaming/detail/Event/e_101160837/f-hrung-ber-den-nordfriedh
 of
DTEND;TZID=Europe/Berlin:20260503T153000
DTSTAMP:20260421T112345Z
DTSTART;TZID=Europe/Berlin:20260503T140000
GEO:52.287836;8.918405
LOCATION:Tourist-Information der Minden Marketing GmbH\, Kleiner Domhof 17\
 , Minden
ORGANIZER;CN=Tourist-Information der Minden Marketing GmbH:mailto:info@mind
 enmarketing.de
RRULE:FREQ=WEEKLY;UNTIL=20260503T220000;BYDAY=SU
SEQUENCE:0
SUMMARY:Führung über den Nordfriedhof
UID:e_101160837_iv1
URL:http://pages.destination.one/de/teutonavigator/streaming/detail/Event/e
 _101160837/f-hrung-ber-den-nordfriedhof
END:VEVENT
BEGIN:VEVENT
CATEGORIES:Sonstiges
CATEGORIES:Führung/Besichtigung
DESCRIPTION:\n\nmehr Informationen unter http://pages.destination.one/de/te
 utonavigator/streaming/detail/Event/e_101160837/f-hrung-ber-den-nordfriedh
 of
DTEND;TZID=Europe/Berlin:20260628T153000
DTSTAMP:20260421T112345Z
DTSTART;TZID=Europe/Berlin:20260628T140000
GEO:52.287836;8.918405
LOCATION:Tourist-Information der Minden Marketing GmbH\, Kleiner Domhof 17\
 , Minden
ORGANIZER;CN=Tourist-Information der Minden Marketing GmbH:mailto:info@mind
 enmarketing.de
RRULE:FREQ=WEEKLY;UNTIL=20260628T220000;BYDAY=SU
SEQUENCE:0
SUMMARY:Führung über den Nordfriedhof
UID:e_101160837_iv2
URL:http://pages.destination.one/de/teutonavigator/streaming/detail/Event/e
 _101160837/f-hrung-ber-den-nordfriedhof
END:VEVENT
BEGIN:VEVENT
CATEGORIES:Sonstiges
CATEGORIES:Führung/Besichtigung
DESCRIPTION:\n\nmehr Informationen unter http://pages.destination.one/de/te
 utonavigator/streaming/detail/Event/e_101160837/f-hrung-ber-den-nordfriedh
 of
DTEND;TZID=Europe/Berlin:20261108T153000
DTSTAMP:20260421T112345Z
DTSTART;TZID=Europe/Berlin:20261108T140000
GEO:52.287836;8.918405
LOCATION:Tourist-Information der Minden Marketing GmbH\, Kleiner Domhof 17\
 , Minden
ORGANIZER;CN=Tourist-Information der Minden Marketing GmbH:mailto:info@mind
 enmarketing.de
RRULE:FREQ=WEEKLY;UNTIL=20261108T230000;BYDAY=SU
SEQUENCE:0
SUMMARY:Führung über den Nordfriedhof
UID:e_101160837_iv3
URL:http://pages.destination.one/de/teutonavigator/streaming/detail/Event/e
 _101160837/f-hrung-ber-den-nordfriedhof
END:VEVENT
BEGIN:VTIMEZONE
TZID:Europe/Berlin
X-LIC-LOCATION:Europe/Berlin
BEGIN:DAYLIGHT
DTSTART:19700329T020000
RRULE:FREQ=YEARLY;BYDAY=-1SU;BYMONTH=3
TZNAME:CEST
TZOFFSETFROM:+0100
TZOFFSETTO:+0200
END:DAYLIGHT
BEGIN:STANDARD
DTSTART:19701025T030000
RRULE:FREQ=YEARLY;BYDAY=-1SU;BYMONTH=10
TZNAME:CET
TZOFFSETFROM:+0200
TZOFFSETTO:+0100
END:STANDARD
END:VTIMEZONE
END:VCALENDAR
